This page was generated on 2022-08-06 11:08:39 -0400 (Sat, 06 Aug 2022).
|
|
| |||||||||||||||||||||||||||||||||||
Package | Maintainer | INSTALL/BUILD/CHECK | ||||||||||||||||||||||||||||||||||
1/2137 | a4 1.45.0 (landing page) | Laure Cougnaud | OK | |||||||||||||||||||||||||||||||||
2/2137 | a4Base 1.45.0 (landing page) | Laure Cougnaud | OK | |||||||||||||||||||||||||||||||||
3/2137 | a4Classif 1.45.0 (landing page) | Laure Cougnaud | OK | |||||||||||||||||||||||||||||||||
4/2137 | a4Core 1.45.0 (landing page) | Laure Cougnaud | OK | |||||||||||||||||||||||||||||||||
5/2137 | a4Preproc 1.45.0 (landing page) | Laure Cougnaud | OK | |||||||||||||||||||||||||||||||||
6/2137 | a4Reporting 1.45.0 (landing page) | Laure Cougnaud | OK | |||||||||||||||||||||||||||||||||
7/2137 | ABarray 1.65.0 (landing page) | Yongming Andrew Sun | OK | |||||||||||||||||||||||||||||||||
8/2137 | abseqR 1.15.0 (landing page) | JiaHong Fong | OK | |||||||||||||||||||||||||||||||||
9/2137 | ABSSeq 1.51.0 (landing page) | Wentao Yang | OK | |||||||||||||||||||||||||||||||||
10/2137 | acde 1.27.0 (landing page) | Juan Pablo Acosta | OK | |||||||||||||||||||||||||||||||||
11/2137 | ACE 1.15.0 (landing page) | Jos B Poell | OK | |||||||||||||||||||||||||||||||||
12/2137 | aCGH 1.75.0 (landing page) | Peter Dimitrov | OK | |||||||||||||||||||||||||||||||||
13/2137 | ACME 2.53.0 (landing page) | Sean Davis | WARNINGS | |||||||||||||||||||||||||||||||||
14/2137 | ADaCGH2 2.37.0 (landing page) | Ramon Diaz-Uriarte | OK | |||||||||||||||||||||||||||||||||
15/2137 | ADAM 1.13.0 (landing page) | Jose Luiz Rybarczyk Filho | OK | |||||||||||||||||||||||||||||||||
16/2137 | ADAMgui 1.13.0 (landing page) | Jose Luiz Rybarczyk Filho | OK | |||||||||||||||||||||||||||||||||
17/2137 | adductomicsR 1.13.0 (landing page) | Josie Hayes | WARNINGS | |||||||||||||||||||||||||||||||||
18/2137 | ADImpute 1.7.0 (landing page) | Ana Carolina Leote | WARNINGS | |||||||||||||||||||||||||||||||||
19/2137 | adSplit 1.67.0 (landing page) | Claudio Lottaz | OK | |||||||||||||||||||||||||||||||||
20/2137 | AffiXcan 1.15.0 (landing page) | Alessandro Lussana | OK | |||||||||||||||||||||||||||||||||
21/2137 | affxparser 1.69.1 (landing page) | Kasper Daniel Hansen | WARNINGS | |||||||||||||||||||||||||||||||||
22/2137 | affy 1.75.0 (landing page) | Rafael A. Irizarry | WARNINGS | |||||||||||||||||||||||||||||||||
23/2137 | affycomp 1.73.0 (landing page) | Rafael A. Irizarry | OK | |||||||||||||||||||||||||||||||||
24/2137 | Martin Morgan | WARNINGS | ||||||||||||||||||||||||||||||||||
25/2137 | affyContam 1.55.0 (landing page) | V. Carey | OK | |||||||||||||||||||||||||||||||||
26/2137 | affycoretools 1.69.1 (landing page) | James W. MacDonald | OK | |||||||||||||||||||||||||||||||||
27/2137 | affyILM 1.49.0 (landing page) | Myriam Kroll and Fabrice Berger | OK | |||||||||||||||||||||||||||||||||
28/2137 | affyio 1.67.0 (landing page) | Ben Bolstad | WARNINGS | |||||||||||||||||||||||||||||||||
29/2137 | affylmGUI 1.71.0 (landing page) | Gordon Smyth | OK | |||||||||||||||||||||||||||||||||
30/2137 | affyPLM 1.73.0 (landing page) | Ben Bolstad | ERROR | |||||||||||||||||||||||||||||||||
31/2137 | AffyRNADegradation 1.43.0 (landing page) | Mario Fasold | OK | |||||||||||||||||||||||||||||||||
32/2137 | AGDEX 1.45.0 (landing page) | Cuilan lani Gao | OK | |||||||||||||||||||||||||||||||||
33/2137 | aggregateBioVar 1.7.0 (landing page) | Jason Ratcliff | OK | |||||||||||||||||||||||||||||||||
34/2137 | agilp 3.29.0 (landing page) | Benny Chain | OK | |||||||||||||||||||||||||||||||||
35/2137 | AgiMicroRna 2.47.0 (landing page) | Pedro Lopez-Romero | OK | |||||||||||||||||||||||||||||||||
36/2137 | AIMS 1.29.0 (landing page) | Eric R Paquet | OK | |||||||||||||||||||||||||||||||||
37/2137 | airpart 1.5.0 (landing page) | Wancen Mu | OK | |||||||||||||||||||||||||||||||||
38/2137 | ALDEx2 1.29.1 (landing page) | Greg Gloor | OK | |||||||||||||||||||||||||||||||||
39/2137 | alevinQC 1.13.1 (landing page) | Charlotte Soneson | OK | |||||||||||||||||||||||||||||||||
40/2137 | AllelicImbalance 1.35.0 (landing page) | Jesper R Gadin | OK | |||||||||||||||||||||||||||||||||
41/2137 | AlphaBeta 1.11.0 (landing page) | Yadollah Shahryary Dizaji | OK | |||||||||||||||||||||||||||||||||
42/2137 | alpine 1.23.0 (landing page) | Michael Love | OK | |||||||||||||||||||||||||||||||||
43/2137 | AlpsNMR 3.7.0 (landing page) | Sergio Oller Moreno | OK | |||||||||||||||||||||||||||||||||
44/2137 | altcdfenvs 2.59.0 (landing page) | Laurent Gautier | OK | |||||||||||||||||||||||||||||||||
45/2137 | AMARETTO 1.13.0 (landing page) | Olivier Gevaert | OK | |||||||||||||||||||||||||||||||||
46/2137 | AMOUNTAIN 1.23.0 (landing page) | Dong Li | OK | |||||||||||||||||||||||||||||||||
47/2137 | amplican 1.19.0 (landing page) | Eivind Valen | OK | |||||||||||||||||||||||||||||||||
48/2137 | Anaquin 2.21.0 (landing page) | Ted Wong | OK | |||||||||||||||||||||||||||||||||
49/2137 | ANCOMBC 1.99.1 (landing page) | Huang Lin | OK | |||||||||||||||||||||||||||||||||
50/2137 | AneuFinder 1.25.0 (landing page) | Aaron Taudt | WARNINGS | |||||||||||||||||||||||||||||||||
51/2137 | ANF 1.19.0 (landing page) | Tianle Ma | OK | |||||||||||||||||||||||||||||||||
52/2137 | animalcules 1.13.0 (landing page) | Yue Zhao | WARNINGS | |||||||||||||||||||||||||||||||||
53/2137 | annaffy 1.69.0 (landing page) | Colin A. Smith | WARNINGS | |||||||||||||||||||||||||||||||||
54/2137 | annmap 1.39.0 (landing page) | Chris Wirth | WARNINGS | |||||||||||||||||||||||||||||||||
55/2137 | annotate 1.75.0 (landing page) | Bioconductor Package Maintainer | ERROR | |||||||||||||||||||||||||||||||||
56/2137 | AnnotationDbi 1.59.1 (landing page) | Bioconductor Package Maintainer | OK | |||||||||||||||||||||||||||||||||
57/2137 | AnnotationFilter 1.21.0 (landing page) | Bioconductor Package Maintainer | OK | |||||||||||||||||||||||||||||||||
58/2137 | AnnotationForge 1.39.1 (landing page) | Bioconductor Package Maintainer | OK | |||||||||||||||||||||||||||||||||
59/2137 | AnnotationHub 3.5.0 (landing page) | Bioconductor Package Maintainer | WARNINGS | |||||||||||||||||||||||||||||||||
60/2137 | AnnotationHubData 1.27.1 (landing page) | Bioconductor Package Maintainer | WARNINGS | |||||||||||||||||||||||||||||||||
61/2137 | annotationTools 1.71.0 (landing page) | Alexandre Kuhn | OK | |||||||||||||||||||||||||||||||||
62/2137 | annotatr 1.23.0 (landing page) | Raymond G. Cavalcante | OK | |||||||||||||||||||||||||||||||||
63/2137 | anota 1.45.0 (landing page) | Ola Larsson | OK | |||||||||||||||||||||||||||||||||
64/2137 | anota2seq 1.19.0 (landing page) | Christian Oertlin | OK | |||||||||||||||||||||||||||||||||
65/2137 | antiProfiles 1.37.0 (landing page) | Hector Corrada Bravo | OK | |||||||||||||||||||||||||||||||||
66/2137 | AnVIL 1.9.5 (landing page) | Martin Morgan | OK | |||||||||||||||||||||||||||||||||
67/2137 | AnVILBilling 1.7.0 (landing page) | Vince Carey | OK | |||||||||||||||||||||||||||||||||
68/2137 | AnVILPublish 1.7.1 (landing page) | Martin Morgan | OK | |||||||||||||||||||||||||||||||||
69/2137 | APAlyzer 1.11.0 (landing page) | Ruijia Wang | WARNINGS | |||||||||||||||||||||||||||||||||
70/2137 | apComplex 2.63.0 (landing page) | Denise Scholtens | OK | |||||||||||||||||||||||||||||||||
71/2137 | apeglm 1.19.0 (landing page) | Anqi Zhu | OK | |||||||||||||||||||||||||||||||||
72/2137 | APL 1.1.0 (landing page) | Elzbieta Gralinska | ERROR | |||||||||||||||||||||||||||||||||
73/2137 | appreci8R 1.15.0 (landing page) | Sarah Sandmann | OK | |||||||||||||||||||||||||||||||||
74/2137 | aroma.light 3.27.0 (landing page) | Henrik Bengtsson | OK | |||||||||||||||||||||||||||||||||
75/2137 | ArrayExpress 1.57.0 (landing page) | Suhaib Mohammed | OK | |||||||||||||||||||||||||||||||||
76/2137 | ArrayExpressHTS 1.47.0 (landing page) | Angela Goncalves | ERROR | |||||||||||||||||||||||||||||||||
77/2137 | arrayMvout 1.55.0 (landing page) | V. Carey | OK | |||||||||||||||||||||||||||||||||
78/2137 | arrayQuality 1.75.0 (landing page) | Agnes Paquet | WARNINGS | |||||||||||||||||||||||||||||||||
79/2137 | arrayQualityMetrics 3.53.0 (landing page) | Mike Smith | OK | |||||||||||||||||||||||||||||||||
80/2137 | ARRmNormalization 1.37.0 (landing page) | Jean-Philippe Fortin | OK | |||||||||||||||||||||||||||||||||
81/2137 | artMS 1.15.0 (landing page) | David Jimenez-Morales | OK | |||||||||||||||||||||||||||||||||
82/2137 | ASAFE 1.23.0 (landing page) | Qian Zhang | OK | |||||||||||||||||||||||||||||||||
83/2137 | ASEB 1.41.0 (landing page) | Likun Wang | WARNINGS | |||||||||||||||||||||||||||||||||
84/2137 | ASGSCA 1.31.0 (landing page) | Hela Romdhani | OK | |||||||||||||||||||||||||||||||||
85/2137 | ASICS 2.13.1 (landing page) | Gaëlle Lefort | WARNINGS | |||||||||||||||||||||||||||||||||
86/2137 | ASpediaFI 1.11.0 (landing page) | Doyeong Yu | ERROR | |||||||||||||||||||||||||||||||||
87/2137 | ASpli 2.7.0 (landing page) | Estefania Mancini | OK | |||||||||||||||||||||||||||||||||
88/2137 | AssessORF 1.15.0 (landing page) | Deepank Korandla | OK | |||||||||||||||||||||||||||||||||
89/2137 | ASSET 2.15.0 (landing page) | Samsiddhi Bhattacharjee | OK | |||||||||||||||||||||||||||||||||
90/2137 | ASSIGN 1.33.0 (landing page) | Ying Shen | OK | |||||||||||||||||||||||||||||||||
91/2137 | ASURAT 1.1.0 (landing page) | Keita Iida | OK | |||||||||||||||||||||||||||||||||
92/2137 | ATACCoGAPS 0.99.13 (landing page) | Rossin Erbe | OK | |||||||||||||||||||||||||||||||||
93/2137 | ATACseqQC 1.21.2 (landing page) | Jianhong Ou | OK | |||||||||||||||||||||||||||||||||
94/2137 | atena 1.3.3 (landing page) | Beatriz Calvo-Serra | OK | |||||||||||||||||||||||||||||||||
95/2137 | atSNP 1.13.0 (landing page) | Sunyoung Shin | OK | |||||||||||||||||||||||||||||||||
96/2137 | attract 1.49.0 (landing page) | Samuel Zimmerman | OK | |||||||||||||||||||||||||||||||||
97/2137 | AUCell 1.19.1 (landing page) | Sara Aibar | OK | |||||||||||||||||||||||||||||||||
98/2137 | autonomics 1.5.1 (landing page) | Aditya Bhagwat | WARNINGS | |||||||||||||||||||||||||||||||||
99/2137 | AWFisher 1.11.0 (landing page) | Zhiguang Huo | OK | |||||||||||||||||||||||||||||||||
100/2137 | awst 1.5.0 (landing page) | Davide Risso | OK | |||||||||||||||||||||||||||||||||
|
| |||||||||||||||||||||||||||||||||||
Package | Maintainer | INSTALL/BUILD/CHECK | ||||||||||||||||||||||||||||||||||
101/2137 | BaalChIP 1.23.0 (landing page) | Ines de Santiago | WARNINGS | |||||||||||||||||||||||||||||||||
102/2137 | BAC 1.57.0 (landing page) | Raphael Gottardo | OK | |||||||||||||||||||||||||||||||||
103/2137 | bacon 1.25.0 (landing page) | Maarten van Iterson | OK | |||||||||||||||||||||||||||||||||
104/2137 | BADER 1.35.0 (landing page) | Andreas Neudecker | OK | |||||||||||||||||||||||||||||||||
105/2137 | BadRegionFinder 1.25.0 (landing page) | Sarah Sandmann | OK | |||||||||||||||||||||||||||||||||
106/2137 | BAGS 2.37.0 (landing page) | Alejandro Quiroz-Zarate | OK | |||||||||||||||||||||||||||||||||
107/2137 | ballgown 2.29.0 (landing page) | Jack Fu | OK | |||||||||||||||||||||||||||||||||
108/2137 | bambu 2.3.0 (landing page) | Ying Chen | ERROR | |||||||||||||||||||||||||||||||||
109/2137 | bamsignals 1.29.0 (landing page) | Johannes Helmuth | OK | |||||||||||||||||||||||||||||||||
110/2137 | BANDITS 1.13.0 (landing page) | Simone Tiberi | OK | |||||||||||||||||||||||||||||||||
111/2137 | bandle 1.1.3 (landing page) | Oliver M. Crook | OK | |||||||||||||||||||||||||||||||||
112/2137 | banocc 1.21.0 (landing page) | George Weingart | ERROR | |||||||||||||||||||||||||||||||||
113/2137 | barcodetrackR 1.5.0 (landing page) | Diego Alexander Espinoza | OK | |||||||||||||||||||||||||||||||||
114/2137 | basecallQC 1.21.0 (landing page) | Thomas Carroll | OK | |||||||||||||||||||||||||||||||||
115/2137 | BaseSpaceR 1.41.0 (landing page) | Jared O'Connell | OK | |||||||||||||||||||||||||||||||||
116/2137 | Basic4Cseq 1.33.0 (landing page) | Carolin Walter | OK | |||||||||||||||||||||||||||||||||
117/2137 | BASiCS 2.9.4 (landing page) | Alan O'Callaghan | OK | |||||||||||||||||||||||||||||||||
118/2137 | BasicSTARRseq 1.25.0 (landing page) | Annika Buerger | OK | |||||||||||||||||||||||||||||||||
119/2137 | basilisk 1.9.2 (landing page) | Aaron Lun | OK | |||||||||||||||||||||||||||||||||
120/2137 | basilisk.utils 1.9.1 (landing page) | Aaron Lun | OK | |||||||||||||||||||||||||||||||||
121/2137 | batchelor 1.13.3 (landing page) | Aaron Lun | OK | |||||||||||||||||||||||||||||||||
122/2137 | BatchQC 1.25.0 (landing page) | Solaiappan Manimaran | OK | |||||||||||||||||||||||||||||||||
123/2137 | BayesKnockdown 1.23.0 (landing page) | William Chad Young | OK | |||||||||||||||||||||||||||||||||
124/2137 | BayesSpace 1.7.0 (landing page) | Matt Stone | OK | |||||||||||||||||||||||||||||||||
125/2137 | bayNorm 1.15.0 (landing page) | Wenhao Tang | OK | |||||||||||||||||||||||||||||||||
126/2137 | baySeq 2.31.0 (landing page) | Thomas J. Hardcastle | OK | |||||||||||||||||||||||||||||||||
127/2137 | BBCAnalyzer 1.27.0 (landing page) | Sarah Sandmann | WARNINGS | |||||||||||||||||||||||||||||||||
128/2137 | BCRANK 1.59.0 (landing page) | Adam Ameur | OK | |||||||||||||||||||||||||||||||||
129/2137 | bcSeq 1.19.0 (landing page) | Jiaxing Lin | WARNINGS | |||||||||||||||||||||||||||||||||
130/2137 | BDMMAcorrect 1.15.0 (landing page) | ZHENWEI DAI | OK | |||||||||||||||||||||||||||||||||
131/2137 | beachmat 2.13.4 (landing page) | Aaron Lun | OK | |||||||||||||||||||||||||||||||||
132/2137 | beadarray 2.47.0 (landing page) | Mark Dunning | OK | |||||||||||||||||||||||||||||||||
133/2137 | beadarraySNP 1.63.0 (landing page) | Jan Oosting | OK | |||||||||||||||||||||||||||||||||
134/2137 | BeadDataPackR 1.49.0 (landing page) | Mike Smith | OK | |||||||||||||||||||||||||||||||||
135/2137 | BEARscc 1.17.0 (landing page) | Benjamin Schuster-Boeckler | OK | |||||||||||||||||||||||||||||||||
136/2137 | BEAT 1.35.0 (landing page) | Kemal Akman | OK | |||||||||||||||||||||||||||||||||
137/2137 | BEclear 2.13.1 (landing page) | David Rasp | OK | |||||||||||||||||||||||||||||||||
138/2137 | beer 1.1.3 (landing page) | Athena Chen | ERROR | |||||||||||||||||||||||||||||||||
139/2137 | benchdamic 1.3.1 (landing page) | Matteo Calgaro | ERROR | |||||||||||||||||||||||||||||||||
140/2137 | BgeeCall 1.13.1 (landing page) | Julien Wollbrett | OK | |||||||||||||||||||||||||||||||||
141/2137 | BgeeDB 2.23.1 (landing page) | Julien Wollbrett | OK | |||||||||||||||||||||||||||||||||
142/2137 | BGmix 1.57.0 (landing page) | Alex Lewin | WARNINGS | |||||||||||||||||||||||||||||||||
143/2137 | bgx 1.63.0 (landing page) | Ernest Turro | WARNINGS | |||||||||||||||||||||||||||||||||
144/2137 | BHC 1.49.0 (landing page) | Rich Savage | WARNINGS | |||||||||||||||||||||||||||||||||
145/2137 | BicARE 1.55.0 (landing page) | Pierre Gestraud | OK | |||||||||||||||||||||||||||||||||
146/2137 | BiFET 1.17.0 (landing page) | Ahrim Youn | OK | |||||||||||||||||||||||||||||||||
147/2137 | BiGGR 1.33.0 (landing page) | Anand K. Gavai | OK | |||||||||||||||||||||||||||||||||
148/2137 | bigmelon 1.23.0 (landing page) | Tyler J. Gorrie-Stone | WARNINGS | |||||||||||||||||||||||||||||||||
149/2137 | bigPint 1.13.0 (landing page) | Lindsay Rutter | WARNINGS | |||||||||||||||||||||||||||||||||
150/2137 | BindingSiteFinder 1.3.0 (landing page) | Mirko Brüggemann | OK | |||||||||||||||||||||||||||||||||
151/2137 | bioassayR 1.35.0 (landing page) | Daniela Cassol | OK | |||||||||||||||||||||||||||||||||
152/2137 | Biobase 2.57.1 (landing page) | Bioconductor Package Maintainer | OK | |||||||||||||||||||||||||||||||||
153/2137 | biobroom 1.29.0 (landing page) | John D. Storey | WARNINGS | |||||||||||||||||||||||||||||||||
154/2137 | biobtreeR 1.9.0 (landing page) | Tamer Gur | OK | |||||||||||||||||||||||||||||||||
155/2137 | bioCancer 1.25.01 (landing page) | Karim Mezhoud | OK | |||||||||||||||||||||||||||||||||
156/2137 | BiocBaseUtils 0.99.9 (landing page) | Marcel Ramos | OK | |||||||||||||||||||||||||||||||||
157/2137 | BiocCheck 1.33.10 (landing page) | Bioconductor Package Maintainer | OK | |||||||||||||||||||||||||||||||||
158/2137 | BiocDockerManager 1.9.0 (landing page) | Bioconductor Package Maintainer | ERROR | |||||||||||||||||||||||||||||||||
159/2137 | BiocFileCache 2.5.0 (landing page) | Lori Shepherd | OK | |||||||||||||||||||||||||||||||||
160/2137 | BiocGenerics 0.43.1 (landing page) | Bioconductor Package Maintainer | WARNINGS | |||||||||||||||||||||||||||||||||
161/2137 | biocGraph 1.59.0 (landing page) | Florian Hahne | OK | |||||||||||||||||||||||||||||||||
162/2137 | BiocIO 1.7.1 (landing page) | Bioconductor Package Maintainer | OK | |||||||||||||||||||||||||||||||||
163/2137 | BiocNeighbors 1.15.1 (landing page) | Aaron Lun | OK | |||||||||||||||||||||||||||||||||
164/2137 | BiocOncoTK 1.17.0 (landing page) | VJ Carey | WARNINGS | |||||||||||||||||||||||||||||||||
165/2137 | BioCor 1.21.1 (landing page) | Lluís Revilla Sancho | OK | |||||||||||||||||||||||||||||||||
166/2137 | BiocParallel 1.31.12 (landing page) | Martin Morgan | OK | |||||||||||||||||||||||||||||||||
167/2137 | BiocPkgTools 1.15.9 (landing page) | Sean Davis | OK | |||||||||||||||||||||||||||||||||
168/2137 | BiocSet 1.11.0 (landing page) | Kayla Morrell | OK | |||||||||||||||||||||||||||||||||
169/2137 | BiocSingular 1.13.0 (landing page) | Aaron Lun | OK | |||||||||||||||||||||||||||||||||
170/2137 | BiocSklearn 1.19.2 (landing page) | Vince Carey | ERROR | |||||||||||||||||||||||||||||||||
171/2137 | BiocStyle 2.25.0 (landing page) | Bioconductor Package | OK | |||||||||||||||||||||||||||||||||
172/2137 | biocthis 1.7.0 (landing page) | Leonardo Collado-Torres | OK | |||||||||||||||||||||||||||||||||
173/2137 | BiocVersion 3.16.0 (landing page) | Bioconductor Package Maintainer | OK | |||||||||||||||||||||||||||||||||
174/2137 | biocViews 1.65.2 (landing page) | Bioconductor Package Maintainer | WARNINGS | |||||||||||||||||||||||||||||||||
175/2137 | BiocWorkflowTools 1.23.0 (landing page) | Mike Smith | OK | |||||||||||||||||||||||||||||||||
176/2137 | biodb 1.5.0 (landing page) | Pierrick Roger | ERROR | |||||||||||||||||||||||||||||||||
177/2137 | biodbChebi 1.3.0 (landing page) | Pierrick Roger | OK | |||||||||||||||||||||||||||||||||
178/2137 | biodbExpasy 1.1.0 (landing page) | Pierrick Roger | OK | |||||||||||||||||||||||||||||||||
179/2137 | biodbHmdb 1.3.0 (landing page) | Pierrick Roger | OK | |||||||||||||||||||||||||||||||||
180/2137 | biodbKegg 1.3.0 (landing page) | Pierrick Roger | ERROR | |||||||||||||||||||||||||||||||||
181/2137 | biodbLipidmaps 1.3.0 (landing page) | Pierrick Roger | OK | |||||||||||||||||||||||||||||||||
182/2137 | biodbMirbase 1.1.0 (landing page) | Pierrick Roger | OK | |||||||||||||||||||||||||||||||||
183/2137 | biodbNcbi 1.1.0 (landing page) | Pierrick Roger | OK | |||||||||||||||||||||||||||||||||
184/2137 | biodbNci 1.1.0 (landing page) | Pierrick Roger | OK | |||||||||||||||||||||||||||||||||
185/2137 | biodbUniprot 1.3.0 (landing page) | Pierrick Roger | ERROR | |||||||||||||||||||||||||||||||||
186/2137 | bioDist 1.69.0 (landing page) | Bioconductor Package Maintainer | OK | |||||||||||||||||||||||||||||||||
187/2137 | biomaRt 2.53.2 (landing page) | Mike Smith | OK | |||||||||||||||||||||||||||||||||
188/2137 | biomformat 1.25.0 (landing page) | Paul J. McMurdie | WARNINGS | |||||||||||||||||||||||||||||||||
189/2137 | BioMM 1.13.0 (landing page) | Junfang Chen | OK | |||||||||||||||||||||||||||||||||
190/2137 | BioMVCClass 1.65.0 (landing page) | Elizabeth Whalen | OK | |||||||||||||||||||||||||||||||||
191/2137 | biomvRCNS 1.37.0 (landing page) | Yang Du | OK | |||||||||||||||||||||||||||||||||
192/2137 | BioNERO 1.5.0 (landing page) | Fabricio Almeida-Silva | OK | |||||||||||||||||||||||||||||||||
193/2137 | BioNet 1.57.0 (landing page) | Marcus Dittrich | OK | |||||||||||||||||||||||||||||||||
194/2137 | BioNetStat 1.17.1 (landing page) | Vinicius Jardim | OK | |||||||||||||||||||||||||||||||||
195/2137 | BioQC 1.25.0 (landing page) | Jitao David Zhang | OK | |||||||||||||||||||||||||||||||||
196/2137 | biosigner 1.25.6 (landing page) | Etienne A. Thevenot | OK | |||||||||||||||||||||||||||||||||
197/2137 | Biostrings 2.65.1 (landing page) | H. Pagès | WARNINGS | |||||||||||||||||||||||||||||||||
198/2137 | BioTIP 1.11.0 (landing page) | Yuxi (Jennifer) Sun | WARNINGS | |||||||||||||||||||||||||||||||||
199/2137 | biotmle 1.21.0 (landing page) | Nima Hejazi | OK | |||||||||||||||||||||||||||||||||
200/2137 | biovizBase 1.45.0 (landing page) | Michael Lawrence | WARNINGS | |||||||||||||||||||||||||||||||||
201/2137 | BiRewire 3.29.0 (landing page) | Andrea Gobbi | WARNINGS | |||||||||||||||||||||||||||||||||
202/2137 | biscuiteer 1.11.2 (landing page) | Jacob Morrison | WARNINGS | |||||||||||||||||||||||||||||||||
203/2137 | BiSeq 1.37.0 (landing page) | Katja Hebestreit | OK | |||||||||||||||||||||||||||||||||
204/2137 | BitSeq 1.41.0 (landing page) | Antti Honkela | ERROR | |||||||||||||||||||||||||||||||||
205/2137 | blacksheepr 1.11.0 (landing page) | RugglesLab | OK | |||||||||||||||||||||||||||||||||
206/2137 | blima 1.31.0 (landing page) | Vojtěch Kulvait | WARNINGS | |||||||||||||||||||||||||||||||||
207/2137 | BLMA 1.21.0 (landing page) | Hung Nguyen | OK | |||||||||||||||||||||||||||||||||
208/2137 | BloodGen3Module 1.5.0 (landing page) | Darawan Rinchai | WARNINGS | |||||||||||||||||||||||||||||||||
209/2137 | bluster 1.7.0 (landing page) | Aaron Lun | OK | |||||||||||||||||||||||||||||||||
210/2137 | bnbc 1.19.0 (landing page) | Kipper Fletez-Brant | OK | |||||||||||||||||||||||||||||||||
211/2137 | bnem 1.5.0 (landing page) | Martin Pirkl | OK | |||||||||||||||||||||||||||||||||
212/2137 | BOBaFIT 1.1.0 (landing page) | Gaia Mazzocchetti | WARNINGS | |||||||||||||||||||||||||||||||||
213/2137 | borealis 1.1.2 (landing page) | Garrett Jenkinson | OK | |||||||||||||||||||||||||||||||||
214/2137 | BPRMeth 1.23.0 (landing page) | Chantriolnt-Andreas Kapourani | OK | |||||||||||||||||||||||||||||||||
215/2137 | BRAIN 1.43.0 (landing page) | Piotr Dittwald | WARNINGS | |||||||||||||||||||||||||||||||||
216/2137 | brainflowprobes 1.11.0 (landing page) | Amanda Price | OK | |||||||||||||||||||||||||||||||||
217/2137 | BrainSABER 1.7.0 (landing page) | USD Biomedical Engineering | OK | |||||||||||||||||||||||||||||||||
218/2137 | branchpointer 1.23.0 (landing page) | Beth Signal | OK | |||||||||||||||||||||||||||||||||
219/2137 | breakpointR 1.15.1 (landing page) | David Porubsky | OK | |||||||||||||||||||||||||||||||||
220/2137 | brendaDb 1.11.0 (landing page) | Yi Zhou | OK | |||||||||||||||||||||||||||||||||
221/2137 | BRGenomics 1.9.0 (landing page) | Mike DeBerardine | WARNINGS | |||||||||||||||||||||||||||||||||
222/2137 | bridge 1.61.0 (landing page) | Raphael Gottardo | ERROR | |||||||||||||||||||||||||||||||||
223/2137 | BridgeDbR 2.7.4 (landing page) | Egon Willighagen | ERROR | |||||||||||||||||||||||||||||||||
224/2137 | BrowserViz 2.19.1 (landing page) | Paul Shannon | OK | |||||||||||||||||||||||||||||||||
225/2137 | BSgenome 1.65.2 (landing page) | H. Pagès | WARNINGS | |||||||||||||||||||||||||||||||||
226/2137 | bsseq 1.33.0 (landing page) | Kasper Daniel Hansen | OK | |||||||||||||||||||||||||||||||||
227/2137 | BubbleTree 2.27.0 (landing page) | Todd Creasy | OK | |||||||||||||||||||||||||||||||||
228/2137 | BufferedMatrix 1.61.0 (landing page) | Ben Bolstad | WARNINGS | |||||||||||||||||||||||||||||||||
229/2137 | BufferedMatrixMethods 1.61.0 (landing page) | Ben Bolstad | OK | |||||||||||||||||||||||||||||||||
230/2137 | bugsigdbr 1.3.0 (landing page) | Ludwig Geistlinger | OK | |||||||||||||||||||||||||||||||||
231/2137 | BUMHMM 1.21.0 (landing page) | Alina Selega | OK | |||||||||||||||||||||||||||||||||
232/2137 | bumphunter 1.39.0 (landing page) | Tamilselvi Guharaj | OK | |||||||||||||||||||||||||||||||||
233/2137 | BumpyMatrix 1.5.0 (landing page) | Aaron Lun | OK | |||||||||||||||||||||||||||||||||
234/2137 | BUS 1.53.0 (landing page) | Yuanhua Liu | OK | |||||||||||||||||||||||||||||||||
235/2137 | BUScorrect 1.15.0 (landing page) | Xiangyu Luo | OK | |||||||||||||||||||||||||||||||||
236/2137 | BUSpaRse 1.11.0 (landing page) | Lambda Moses | ERROR | |||||||||||||||||||||||||||||||||
237/2137 | BUSseq 1.3.0 (landing page) | Fangda Song | OK | |||||||||||||||||||||||||||||||||
|
| |||||||||||||||||||||||||||||||||||
Package | Maintainer | INSTALL/BUILD/CHECK | ||||||||||||||||||||||||||||||||||
238/2137 | CAEN 1.5.0 (landing page) | Zhou Yan | OK | |||||||||||||||||||||||||||||||||
239/2137 | CAFE 1.33.0 (landing page) | Sander Bollen | WARNINGS | |||||||||||||||||||||||||||||||||
240/2137 | CAGEfightR 1.17.0 (landing page) | Malte Thodberg | OK | |||||||||||||||||||||||||||||||||
241/2137 | cageminer 1.3.2 (landing page) | Fabrício Almeida-Silva | OK | |||||||||||||||||||||||||||||||||
242/2137 | CAGEr 2.3.0 (landing page) | Charles Plessy | OK | |||||||||||||||||||||||||||||||||
243/2137 | calm 1.11.0 (landing page) | Kun Liang | OK | |||||||||||||||||||||||||||||||||
244/2137 | CAMERA 1.53.0 (landing page) | Steffen Neumann | OK | |||||||||||||||||||||||||||||||||
245/2137 | canceR 1.31.01 (landing page) | Karim Mezhoud | OK | |||||||||||||||||||||||||||||||||
246/2137 | cancerclass 1.41.0 (landing page) | Daniel Kosztyla | WARNINGS | |||||||||||||||||||||||||||||||||
247/2137 | CancerInSilico 2.17.0 (landing page) | Thomas D. Sherman | ERROR | |||||||||||||||||||||||||||||||||
248/2137 | CancerSubtypes 1.23.0 (landing page) | Taosheng Xu | ERROR | |||||||||||||||||||||||||||||||||
249/2137 | Cardinal 2.15.0 (landing page) | Kylie A. Bemis | ERROR | |||||||||||||||||||||||||||||||||
250/2137 | CARNIVAL 2.7.1 (landing page) | Attila Gabor | OK | |||||||||||||||||||||||||||||||||
251/2137 | casper 2.31.0 (landing page) | David Rossell | ERROR | |||||||||||||||||||||||||||||||||
252/2137 | CATALYST 1.21.2 (landing page) | Helena L. Crowell | OK | |||||||||||||||||||||||||||||||||
253/2137 | Category 2.63.0 (landing page) | Bioconductor Package Maintainer | OK | |||||||||||||||||||||||||||||||||
254/2137 | categoryCompare 1.41.0 (landing page) | Robert M. Flight | OK | |||||||||||||||||||||||||||||||||
255/2137 | CausalR 1.29.0 (landing page) | Glyn Bradley | OK | |||||||||||||||||||||||||||||||||
256/2137 | cbaf 1.19.5 (landing page) | Arman Shahrisa | OK | |||||||||||||||||||||||||||||||||
257/2137 | CBEA 1.1.0 (landing page) | Quang Nguyen | OK | |||||||||||||||||||||||||||||||||
258/2137 | cBioPortalData 2.9.4 (landing page) | Marcel Ramos | OK | |||||||||||||||||||||||||||||||||
259/2137 | cbpManager 1.5.0 (landing page) | Arsenij Ustjanzew | WARNINGS | |||||||||||||||||||||||||||||||||
260/2137 | ccfindR 1.17.0 (landing page) | Jun Woo | OK | |||||||||||||||||||||||||||||||||
261/2137 | ccmap 1.23.0 (landing page) | Alex Pickering | WARNINGS | |||||||||||||||||||||||||||||||||
262/2137 | CCPROMISE 1.23.0 (landing page) | Xueyuan Cao | WARNINGS | |||||||||||||||||||||||||||||||||
263/2137 | ccrepe 1.33.0 (landing page) | Emma Schwager | OK | |||||||||||||||||||||||||||||||||
264/2137 | celaref 1.15.0 (landing page) | Sarah Williams | OK | |||||||||||||||||||||||||||||||||
265/2137 | celda 1.13.0 (landing page) | Joshua Campbell | OK | |||||||||||||||||||||||||||||||||
266/2137 | CellaRepertorium 1.7.1 (landing page) | Andrew McDavid | OK | |||||||||||||||||||||||||||||||||
267/2137 | CellBarcode 1.3.0 (landing page) | Wenjie Sun | OK | |||||||||||||||||||||||||||||||||
268/2137 | cellbaseR 1.21.1 (landing page) | Mohammed OE Abdallah | ERROR | |||||||||||||||||||||||||||||||||
269/2137 | CellBench 1.13.0 (landing page) | Shian Su | OK | |||||||||||||||||||||||||||||||||
270/2137 | cellHTS2 2.61.0 (landing page) | Joseph Barry | OK | |||||||||||||||||||||||||||||||||
271/2137 | CelliD 1.5.0 (landing page) | Akira Cortal | WARNINGS | |||||||||||||||||||||||||||||||||
272/2137 | cellity 1.25.0 (landing page) | Tomislav Ilicic | OK | |||||||||||||||||||||||||||||||||
273/2137 | CellMapper 1.23.0 (landing page) | Brad Nelms | WARNINGS | |||||||||||||||||||||||||||||||||
274/2137 | cellmigRation 1.5.0 (landing page) | Waldir Leoncio | OK | |||||||||||||||||||||||||||||||||
275/2137 | CellMixS 1.13.0 (landing page) | Almut Lütge | OK | |||||||||||||||||||||||||||||||||
276/2137 | CellNOptR 1.43.1 (landing page) | Attila Gabor | OK | |||||||||||||||||||||||||||||||||
277/2137 | cellscape 1.21.0 (landing page) | Maia Smith | WARNINGS | |||||||||||||||||||||||||||||||||
278/2137 | CellScore 1.17.0 (landing page) | Nancy Mah | OK | |||||||||||||||||||||||||||||||||
279/2137 | CellTrails 1.15.0 (landing page) | Daniel Ellwanger | OK | |||||||||||||||||||||||||||||||||
280/2137 | cellTree 1.27.0 (landing page) | David duVerle | ERROR | |||||||||||||||||||||||||||||||||
281/2137 | cellxgenedp 1.1.2 (landing page) | Martin Morgan | OK | |||||||||||||||||||||||||||||||||
282/2137 | CEMiTool 1.21.0 (landing page) | Helder Nakaya | OK | |||||||||||||||||||||||||||||||||
283/2137 | censcyt 1.5.0 (landing page) | Reto Gerber | OK | |||||||||||||||||||||||||||||||||
284/2137 | Cepo 1.3.0 (landing page) | Hani Jieun Kim | WARNINGS | |||||||||||||||||||||||||||||||||
285/2137 | ceRNAnetsim 1.9.0 (landing page) | Selcen Ari Yuka | OK | |||||||||||||||||||||||||||||||||
286/2137 | CeTF 1.9.0 (landing page) | Carlos Alberto Oliveira de Biagi Junior | OK | |||||||||||||||||||||||||||||||||
287/2137 | CexoR 1.35.1 (landing page) | Pedro Madrigal | OK | |||||||||||||||||||||||||||||||||
288/2137 | CFAssay 1.31.0 (landing page) | Herbert Braselmann | OK | |||||||||||||||||||||||||||||||||
289/2137 | cfDNAPro 1.3.6 (landing page) | Haichao Wang | OK | |||||||||||||||||||||||||||||||||
290/2137 | CGEN 3.33.0 (landing page) | Justin Lee | OK | |||||||||||||||||||||||||||||||||
291/2137 | CGHbase 1.57.0 (landing page) | Mark van de Wiel | OK | |||||||||||||||||||||||||||||||||
292/2137 | CGHcall 2.59.0 (landing page) | Mark van de Wiel | WARNINGS | |||||||||||||||||||||||||||||||||
293/2137 | cghMCR 1.55.0 (landing page) | J. Zhang | WARNINGS | |||||||||||||||||||||||||||||||||
294/2137 | CGHnormaliter 1.51.0 (landing page) | Bart P.P. van Houte | OK | |||||||||||||||||||||||||||||||||
295/2137 | CGHregions 1.55.0 (landing page) | Sjoerd Vosse | OK | |||||||||||||||||||||||||||||||||
296/2137 | ChAMP 2.27.0 (landing page) | Yuan Tian | WARNINGS | |||||||||||||||||||||||||||||||||
297/2137 | ChemmineOB 1.35.2 (landing page) | Thomas Girke | WARNINGS | |||||||||||||||||||||||||||||||||
298/2137 | ChemmineR 3.49.2 (landing page) | Thomas Girke | WARNINGS | |||||||||||||||||||||||||||||||||
299/2137 | CHETAH 1.13.1 (landing page) | Jurrian de Kanter | OK | |||||||||||||||||||||||||||||||||
300/2137 | ChIC 1.17.0 (landing page) | Carmen Maria Livi | OK | |||||||||||||||||||||||||||||||||
301/2137 | Chicago 1.25.0 (landing page) | Mikhail Spivakov | OK | |||||||||||||||||||||||||||||||||
302/2137 | chimeraviz 1.23.0 (landing page) | Stian Lågstad | OK | |||||||||||||||||||||||||||||||||
303/2137 | ChIPanalyser 1.19.0 (landing page) | Patrick C.N. Martin | OK | |||||||||||||||||||||||||||||||||
304/2137 | ChIPComp 1.27.0 (landing page) | Li Chen | OK | |||||||||||||||||||||||||||||||||
305/2137 | chipenrich 2.21.0 (landing page) | Raymond G. Cavalcante | OK | |||||||||||||||||||||||||||||||||
306/2137 | ChIPexoQual 1.21.0 (landing page) | Rene Welch | OK | |||||||||||||||||||||||||||||||||
307/2137 | ChIPpeakAnno 3.31.1 (landing page) | Jianhong Ou | OK | |||||||||||||||||||||||||||||||||
308/2137 | ChIPQC 1.33.1 (landing page) | Tom Carroll | WARNINGS | |||||||||||||||||||||||||||||||||
309/2137 | ChIPseeker 1.33.1 (landing page) | Guangchuang Yu | OK | |||||||||||||||||||||||||||||||||
310/2137 | chipseq 1.47.0 (landing page) | Bioconductor Package Maintainer | WARNINGS | |||||||||||||||||||||||||||||||||
311/2137 | ChIPseqR 1.51.0 (landing page) | Peter Humburg | OK | |||||||||||||||||||||||||||||||||
312/2137 | ChIPsim 1.51.0 (landing page) | Peter Humburg | OK | |||||||||||||||||||||||||||||||||
313/2137 | ChIPXpress 1.41.0 (landing page) | George Wu | OK | |||||||||||||||||||||||||||||||||
314/2137 | chopsticks 1.63.0 (landing page) | Hin-Tak Leung | WARNINGS | |||||||||||||||||||||||||||||||||
315/2137 | chromDraw 2.27.0 (landing page) | Jan Janecka | WARNINGS | |||||||||||||||||||||||||||||||||
316/2137 | ChromHeatMap 1.51.0 (landing page) | Tim F. Rayner | OK | |||||||||||||||||||||||||||||||||
317/2137 | chromPlot 1.25.0 (landing page) | Karen Y. Orostica | WARNINGS | |||||||||||||||||||||||||||||||||
318/2137 | ChromSCape 1.7.3 (landing page) | Pacome Prompsy | WARNINGS | |||||||||||||||||||||||||||||||||
319/2137 | chromstaR 1.23.0 (landing page) | Aaron Taudt | OK | |||||||||||||||||||||||||||||||||
320/2137 | chromswitch 1.19.0 (landing page) | Selin Jessa | OK | |||||||||||||||||||||||||||||||||
321/2137 | chromVAR 1.19.0 (landing page) | Alicia Schep | OK | |||||||||||||||||||||||||||||||||
322/2137 | CHRONOS 1.25.1 (landing page) | Panos Balomenos | OK | |||||||||||||||||||||||||||||||||
323/2137 | cicero 1.15.0 (landing page) | Hannah Pliner | OK | |||||||||||||||||||||||||||||||||
324/2137 | CIMICE 1.5.0 (landing page) | Nicolò Rossi | OK | |||||||||||||||||||||||||||||||||
325/2137 | CINdex 1.25.0 (landing page) | Yuriy Gusev | WARNINGS | |||||||||||||||||||||||||||||||||
326/2137 | circRNAprofiler 1.11.2 (landing page) | Simona Aufiero | OK | |||||||||||||||||||||||||||||||||
327/2137 | cisPath 1.37.0 (landing page) | Likun Wang | WARNINGS | |||||||||||||||||||||||||||||||||
328/2137 | CiteFuse 1.9.0 (landing page) | Yingxin Lin | WARNINGS | |||||||||||||||||||||||||||||||||
329/2137 | ClassifyR 3.1.3 (landing page) | Dario Strbenac | OK | |||||||||||||||||||||||||||||||||
330/2137 | cleanUpdTSeq 1.35.0 (landing page) | Jianhong Ou | OK | |||||||||||||||||||||||||||||||||
331/2137 | cleaver 1.35.0 (landing page) | Sebastian Gibb | ERROR | |||||||||||||||||||||||||||||||||
332/2137 | clippda 1.47.0 (landing page) | Stephen Nyangoma | ERROR | |||||||||||||||||||||||||||||||||
333/2137 | clipper 1.37.0 (landing page) | Paolo Martini | OK | |||||||||||||||||||||||||||||||||
334/2137 | cliProfiler 1.3.0 (landing page) | You Zhou | OK | |||||||||||||||||||||||||||||||||
335/2137 | cliqueMS 1.11.0 (landing page) | Oriol Senan Campos | OK | |||||||||||||||||||||||||||||||||
336/2137 | Clomial 1.33.0 (landing page) | Habil Zare | OK | |||||||||||||||||||||||||||||||||
337/2137 | Clonality 1.45.0 (landing page) | Irina Ostrovnaya | OK | |||||||||||||||||||||||||||||||||
338/2137 | clst 1.45.0 (landing page) | Noah Hoffman | WARNINGS | |||||||||||||||||||||||||||||||||
339/2137 | clstutils 1.45.0 (landing page) | Noah Hoffman | WARNINGS | |||||||||||||||||||||||||||||||||
340/2137 | CluMSID 1.13.0 (landing page) | Tobias Depke | OK | |||||||||||||||||||||||||||||||||
341/2137 | clustComp 1.25.0 (landing page) | Aurora Torrente | OK | |||||||||||||||||||||||||||||||||
342/2137 | clusterExperiment 2.17.3 (landing page) | Elizabeth Purdom | ERROR | |||||||||||||||||||||||||||||||||
343/2137 | ClusterJudge 1.19.0 (landing page) | Adrian Pasculescu | OK | |||||||||||||||||||||||||||||||||
344/2137 | clusterProfiler 4.5.1 (landing page) | Guangchuang Yu | OK | |||||||||||||||||||||||||||||||||
345/2137 | clusterSeq 1.21.0 (landing page) | Thomas J. Hardcastle | OK | |||||||||||||||||||||||||||||||||
346/2137 | ClusterSignificance 1.25.0 (landing page) | Jason T Serviss | OK | |||||||||||||||||||||||||||||||||
347/2137 | clusterStab 1.69.0 (landing page) | James W. MacDonald | OK | |||||||||||||||||||||||||||||||||
348/2137 | clustifyr 1.9.0 (landing page) | Kent Riemondy | OK | |||||||||||||||||||||||||||||||||
349/2137 | CMA 1.55.0 (landing page) | Roman Hornung | OK | |||||||||||||||||||||||||||||||||
350/2137 | cmapR 1.9.0 (landing page) | Ted Natoli | OK | |||||||||||||||||||||||||||||||||
351/2137 | cn.farms 1.45.0 (landing page) | Andreas Mitterecker | OK | |||||||||||||||||||||||||||||||||
352/2137 | cn.mops 1.43.0 (landing page) | Gundula Povysil | OK | |||||||||||||||||||||||||||||||||
353/2137 | CNAnorm 1.43.0 (landing page) | Stefano Berri | OK | |||||||||||||||||||||||||||||||||
354/2137 | CNEr 1.33.0 (landing page) | Ge Tan | WARNINGS | |||||||||||||||||||||||||||||||||
355/2137 | CNORdt 1.39.0 (landing page) | A. MacNamara | OK | |||||||||||||||||||||||||||||||||
356/2137 | CNORfeeder 1.37.3 (landing page) | Attila Gabor | OK | |||||||||||||||||||||||||||||||||
357/2137 | CNORfuzzy 1.39.0 (landing page) | T. Cokelaer | OK | |||||||||||||||||||||||||||||||||
358/2137 | CNORode 1.39.0 (landing page) | Attila Gabor | OK | |||||||||||||||||||||||||||||||||
359/2137 | CNTools 1.53.0 (landing page) | J. Zhang | OK | |||||||||||||||||||||||||||||||||
360/2137 | CNVfilteR 1.11.0 (landing page) | Jose Marcos Moreno-Cabrera | OK | |||||||||||||||||||||||||||||||||
361/2137 | CNVgears 1.5.0 (landing page) | Simone Montalbano | OK | |||||||||||||||||||||||||||||||||
362/2137 | cnvGSA 1.41.0 (landing page) | Joseph Lugo | OK | |||||||||||||||||||||||||||||||||
363/2137 | CNViz 1.5.0 (landing page) | Rebecca Greenblatt | OK | |||||||||||||||||||||||||||||||||
364/2137 | CNVMetrics 1.1.0 (landing page) | Astrid Deschênes | OK | |||||||||||||||||||||||||||||||||
365/2137 | CNVPanelizer 1.29.0 (landing page) | Thomas Wolf | OK | |||||||||||||||||||||||||||||||||
366/2137 | CNVRanger 1.13.0 (landing page) | Ludwig Geistlinger | OK | |||||||||||||||||||||||||||||||||
367/2137 | CNVrd2 1.35.0 (landing page) | Hoang Tan Nguyen | ERROR | |||||||||||||||||||||||||||||||||
368/2137 | CoCiteStats 1.69.0 (landing page) | Bioconductor Package Maintainer | OK | |||||||||||||||||||||||||||||||||
369/2137 | COCOA 2.11.0 (landing page) | John Lawson | OK | |||||||||||||||||||||||||||||||||
370/2137 | codelink 1.65.0 (landing page) | Diego Diez | OK | |||||||||||||||||||||||||||||||||
371/2137 | CODEX 1.29.0 (landing page) | Yuchao Jiang | OK | |||||||||||||||||||||||||||||||||
372/2137 | Juan David Henao | ERROR | ||||||||||||||||||||||||||||||||||
373/2137 | CoGAPS 3.17.0 (landing page) | Elana J. Fertig | WARNINGS | |||||||||||||||||||||||||||||||||
374/2137 | cogena 1.31.0 (landing page) | Zhilong Jia | WARNINGS | |||||||||||||||||||||||||||||||||
375/2137 | cogeqc 1.1.0 (landing page) | Fabrício Almeida-Silva | OK | |||||||||||||||||||||||||||||||||
376/2137 | Cogito 1.3.1 (landing page) | Annika Bürger | OK | |||||||||||||||||||||||||||||||||
377/2137 | coGPS 1.41.0 (landing page) | Yingying Wei | OK | |||||||||||||||||||||||||||||||||
378/2137 | COHCAP 1.43.0 (landing page) | Charles Warden | OK | |||||||||||||||||||||||||||||||||
379/2137 | cola 2.3.0 (landing page) | Zuguang Gu | OK | |||||||||||||||||||||||||||||||||
380/2137 | comapr 1.1.0 (landing page) | Ruqian Lyu | OK | |||||||||||||||||||||||||||||||||
381/2137 | combi 1.9.0 (landing page) | Stijn Hawinkel | OK | |||||||||||||||||||||||||||||||||
382/2137 | coMET 1.29.0 (landing page) | Tiphaine Martin | ERROR | |||||||||||||||||||||||||||||||||
383/2137 | coMethDMR 1.1.0 (landing page) | Fernanda Veitzman | OK | |||||||||||||||||||||||||||||||||
384/2137 | compartmap 1.15.0 (landing page) | Benjamin Johnson | OK | |||||||||||||||||||||||||||||||||
385/2137 | COMPASS 1.35.0 (landing page) | Greg Finak | OK | |||||||||||||||||||||||||||||||||
386/2137 | compcodeR 1.33.0 (landing page) | Charlotte Soneson | OK | |||||||||||||||||||||||||||||||||
387/2137 | compEpiTools 1.31.0 (landing page) | Kamal Kishore | WARNINGS | |||||||||||||||||||||||||||||||||
388/2137 | ComplexHeatmap 2.13.0 (landing page) | Zuguang Gu | OK | |||||||||||||||||||||||||||||||||
389/2137 | CompoundDb 1.1.3 (landing page) | Johannes Rainer | OK | |||||||||||||||||||||||||||||||||
390/2137 | ComPrAn 1.5.0 (landing page) | Petra Palenikova | OK | |||||||||||||||||||||||||||||||||
391/2137 | conclus 1.5.0 (landing page) | Ilyess Rachedi | ERROR | |||||||||||||||||||||||||||||||||
392/2137 | condiments 1.5.0 (landing page) | Hector Roux de Bezieux | OK | |||||||||||||||||||||||||||||||||
393/2137 | CONFESS 1.25.0 (landing page) | Diana LOW | ERROR | |||||||||||||||||||||||||||||||||
394/2137 | consensus 1.15.0 (landing page) | Tim Peters | OK | |||||||||||||||||||||||||||||||||
395/2137 | ConsensusClusterPlus 1.61.0 (landing page) | Matt Wilkerson | OK | |||||||||||||||||||||||||||||||||
396/2137 | consensusDE 1.15.0 (landing page) | Ashley J. Waardenberg | OK | |||||||||||||||||||||||||||||||||
397/2137 | consensusOV 1.19.0 (landing page) | Benjamin Haibe-Kains | OK | |||||||||||||||||||||||||||||||||
398/2137 | consensusSeekeR 1.25.0 (landing page) | Astrid Deschenes | OK | |||||||||||||||||||||||||||||||||
399/2137 | CONSTANd 1.5.0 (landing page) | Dirk Valkenborg | OK | |||||||||||||||||||||||||||||||||
400/2137 | contiBAIT 1.25.0 (landing page) | Kieran O'Neill | WARNINGS | |||||||||||||||||||||||||||||||||
401/2137 | conumee 1.31.0 (landing page) | Volker Hovestadt | OK | |||||||||||||||||||||||||||||||||
402/2137 | convert 1.73.0 (landing page) | Yee Hwa (Jean) Yang | OK | |||||||||||||||||||||||||||||||||
403/2137 | copa 1.65.0 (landing page) | James W. MacDonald | OK | |||||||||||||||||||||||||||||||||
404/2137 | copynumber 1.37.0 (landing page) | Gro Nilsen | ERROR | |||||||||||||||||||||||||||||||||
405/2137 | CopyNumberPlots 1.13.0 (landing page) | Bernat Gel | OK | |||||||||||||||||||||||||||||||||
406/2137 | CopywriteR 2.29.0 (landing page) | Oscar Krijgsman | OK | |||||||||||||||||||||||||||||||||
407/2137 | coRdon 1.15.0 (landing page) | Anamaria Elek | OK | |||||||||||||||||||||||||||||||||
408/2137 | CoRegNet 1.35.0 (landing page) | Remy Nicolle | WARNINGS | |||||||||||||||||||||||||||||||||
409/2137 | CoreGx 2.1.6 (landing page) | Benjamin Haibe-Kains | OK | |||||||||||||||||||||||||||||||||
410/2137 | Cormotif 1.43.0 (landing page) | Yingying Wei | OK | |||||||||||||||||||||||||||||||||
411/2137 | corral 1.7.0 (landing page) | Lauren Hsu | OK | |||||||||||||||||||||||||||||||||
412/2137 | CORREP 1.63.0 (landing page) | Dongxiao Zhu | OK | |||||||||||||||||||||||||||||||||
413/2137 | coseq 1.21.0 (landing page) | Andrea Rau | OK | |||||||||||||||||||||||||||||||||
414/2137 | cosmiq 1.31.0 (landing page) | David Fischer | OK | |||||||||||||||||||||||||||||||||
415/2137 | cosmosR 1.5.0 (landing page) | Attila Gabor | OK | |||||||||||||||||||||||||||||||||
416/2137 | COSNet 1.31.0 (landing page) | Marco Frasca | ERROR | |||||||||||||||||||||||||||||||||
417/2137 | COTAN 1.1.0 (landing page) | Galfrè Silvia Giulia | OK | |||||||||||||||||||||||||||||||||
418/2137 | countsimQC 1.15.1 (landing page) | Charlotte Soneson | OK | |||||||||||||||||||||||||||||||||
419/2137 | covEB 1.23.0 (landing page) | C. Pacini | OK | |||||||||||||||||||||||||||||||||
420/2137 | CoverageView 1.35.0 (landing page) | Ernesto Lowy | WARNINGS | |||||||||||||||||||||||||||||||||
421/2137 | covRNA 1.23.0 (landing page) | Lara Urban | OK | |||||||||||||||||||||||||||||||||
422/2137 | cpvSNP 1.29.0 (landing page) | Caitlin McHugh | OK | |||||||||||||||||||||||||||||||||
423/2137 | cqn 1.43.0 (landing page) | Kasper Daniel Hansen | OK | |||||||||||||||||||||||||||||||||
424/2137 | CRImage 1.45.0 (landing page) | Henrik Failmezger | OK | |||||||||||||||||||||||||||||||||
425/2137 | crisprBase 1.1.2 (landing page) | Jean-Philippe Fortin | OK | |||||||||||||||||||||||||||||||||
426/2137 | crisprBowtie 1.1.1 (landing page) | Jean-Philippe Fortin | OK | |||||||||||||||||||||||||||||||||
427/2137 | crisprBwa 1.1.2 (landing page) | Jean-Philippe Fortin | OK | |||||||||||||||||||||||||||||||||
428/2137 | crisprDesign 0.99.109 (landing page) | Jean-Philippe Fortin | ERROR | |||||||||||||||||||||||||||||||||
429/2137 | crisprScore 1.1.14 (landing page) | Jean-Philippe Fortin | WARNINGS | |||||||||||||||||||||||||||||||||
430/2137 | CRISPRseek 1.37.2 (landing page) | Lihua Julie Zhu | OK | |||||||||||||||||||||||||||||||||
431/2137 | crisprseekplus 1.23.0 (landing page) | Alper Kucukural | OK | |||||||||||||||||||||||||||||||||
432/2137 | CrispRVariants 1.25.0 (landing page) | Helen Lindsay | WARNINGS | |||||||||||||||||||||||||||||||||
433/2137 | crlmm 1.55.0 (landing page) | Benilton S Carvalho | OK | |||||||||||||||||||||||||||||||||
434/2137 | crossmeta 1.23.3 (landing page) | Alex Pickering | OK | |||||||||||||||||||||||||||||||||
435/2137 | CSAR 1.49.0 (landing page) | Jose M Muino | OK | |||||||||||||||||||||||||||||||||
436/2137 | csaw 1.31.1 (landing page) | Aaron Lun | OK | |||||||||||||||||||||||||||||||||
437/2137 | csdR 1.3.0 (landing page) | Jakob Peder Pettersen | OK | |||||||||||||||||||||||||||||||||
438/2137 | CSSP 1.35.0 (landing page) | Chandler Zuo | OK | |||||||||||||||||||||||||||||||||
439/2137 | CSSQ 1.9.0 (landing page) | Fan Lab at Georgia Institute of Technology | OK | |||||||||||||||||||||||||||||||||
440/2137 | ctc 1.71.0 (landing page) | Antoine Lucas | OK | |||||||||||||||||||||||||||||||||
441/2137 | CTDquerier 2.5.0 (landing page) | Xavier Escribà-Montagut | WARNINGS | |||||||||||||||||||||||||||||||||
442/2137 | USD Biomedical Engineering | ERROR | ||||||||||||||||||||||||||||||||||
443/2137 | cTRAP 1.15.1 (landing page) | Nuno Saraiva-Agostinho | WARNINGS | |||||||||||||||||||||||||||||||||
444/2137 | ctsGE 1.23.0 (landing page) | Michal Sharabi-Schwager | OK | |||||||||||||||||||||||||||||||||
445/2137 | CTSV 0.99.13 (landing page) | Jinge Yu Developer | OK | |||||||||||||||||||||||||||||||||
446/2137 | cummeRbund 2.39.0 (landing page) | Loyal A. Goff | WARNINGS | |||||||||||||||||||||||||||||||||
447/2137 | customCMPdb 1.7.0 (landing page) | Yuzhu Duan | OK | |||||||||||||||||||||||||||||||||
448/2137 | customProDB 1.37.0 (landing page) | Xiaojing Wang | OK | |||||||||||||||||||||||||||||||||
449/2137 | cyanoFilter 1.5.0 (landing page) | Oluwafemi Olusoji | OK | |||||||||||||||||||||||||||||||||
450/2137 | cycle 1.51.0 (landing page) | Matthias Futschik | OK | |||||||||||||||||||||||||||||||||
451/2137 | cydar 1.21.0 (landing page) | Aaron Lun | OK | |||||||||||||||||||||||||||||||||
452/2137 | CytoDx 1.17.0 (landing page) | Zicheng Hu | OK | |||||||||||||||||||||||||||||||||
453/2137 | CyTOFpower 1.3.0 (landing page) | Anne-Maud Ferreira | OK | |||||||||||||||||||||||||||||||||
454/2137 | CytoGLMM 1.5.0 (landing page) | Christof Seiler | OK | |||||||||||||||||||||||||||||||||
455/2137 | cytoKernel 1.3.0 (landing page) | Tusharkanti Ghosh | OK | |||||||||||||||||||||||||||||||||
456/2137 | cytolib 2.9.1 (landing page) | Mike Jiang | OK | |||||||||||||||||||||||||||||||||
457/2137 | cytomapper 1.9.0 (landing page) | Nils Eling | OK | |||||||||||||||||||||||||||||||||
458/2137 | cytoMEM 1.1.0 (landing page) | Jonathan Irish | OK | |||||||||||||||||||||||||||||||||
459/2137 | CytoML 2.9.0 (landing page) | Mike Jiang | WARNINGS | |||||||||||||||||||||||||||||||||
460/2137 | CytoTree 1.7.0 (landing page) | Yuting Dai | OK | |||||||||||||||||||||||||||||||||
|
| |||||||||||||||||||||||||||||||||||
Package | Maintainer | INSTALL/BUILD/CHECK | ||||||||||||||||||||||||||||||||||
461/2137 | dada2 1.25.0 (landing page) | Benjamin Callahan | OK | |||||||||||||||||||||||||||||||||
462/2137 | dagLogo 1.35.1 (landing page) | Jianhong Ou | OK | |||||||||||||||||||||||||||||||||
463/2137 | daMA 1.69.0 (landing page) | Jobst Landgrebe | OK | |||||||||||||||||||||||||||||||||
464/2137 | DAMEfinder 1.9.0 (landing page) | Stephany Orjuela | OK | |||||||||||||||||||||||||||||||||
465/2137 | DaMiRseq 2.9.0 (landing page) | Mattia Chiesa | ERROR | |||||||||||||||||||||||||||||||||
466/2137 | DAPAR 1.29.0 (landing page) | Samuel Wieczorek | ERROR | |||||||||||||||||||||||||||||||||
467/2137 | DART 1.45.0 (landing page) | Charles Shijie Zheng | OK | |||||||||||||||||||||||||||||||||
468/2137 | dasper 1.7.0 (landing page) | David Zhang | ERROR | |||||||||||||||||||||||||||||||||
469/2137 | dcanr 1.13.0 (landing page) | Dharmesh D. Bhuva | ERROR | |||||||||||||||||||||||||||||||||
470/2137 | dce 1.5.1 (landing page) | Kim Philipp Jablonski | OK | |||||||||||||||||||||||||||||||||
471/2137 | dcGSA 1.25.0 (landing page) | Jiehuan sun | WARNINGS | |||||||||||||||||||||||||||||||||
472/2137 | ddCt 1.53.0 (landing page) | Jitao David Zhang | OK | |||||||||||||||||||||||||||||||||
473/2137 | ddPCRclust 1.17.0 (landing page) | Benedikt G. Brink | ERROR | |||||||||||||||||||||||||||||||||
474/2137 | dearseq 1.9.4 (landing page) | Boris P. Hejblum | OK | |||||||||||||||||||||||||||||||||
475/2137 | debCAM 1.15.0 (landing page) | Lulu Chen | OK | |||||||||||||||||||||||||||||||||
476/2137 | debrowser 1.25.1 (landing page) | Alper Kucukural | OK | |||||||||||||||||||||||||||||||||
477/2137 | DECIPHER 2.25.2 (landing page) | Erik Wright | OK | |||||||||||||||||||||||||||||||||
478/2137 | deco 1.13.0 (landing page) | Francisco Jose Campos Laborie | OK | |||||||||||||||||||||||||||||||||
479/2137 | Guofeng Meng | ERROR | ||||||||||||||||||||||||||||||||||
480/2137 | decompTumor2Sig 2.13.1 (landing page) | Rosario M. Piro | OK | |||||||||||||||||||||||||||||||||
481/2137 | DeconRNASeq 1.39.0 (landing page) | Ting Gong | OK | |||||||||||||||||||||||||||||||||
482/2137 | decontam 1.17.0 (landing page) | Benjamin Callahan | OK | |||||||||||||||||||||||||||||||||
483/2137 | deconvR 1.3.0 (landing page) | İrem B. Gündüz | OK | |||||||||||||||||||||||||||||||||
484/2137 | decoupleR 2.3.2 (landing page) | Pau Badia-i-Mompel | ERROR | |||||||||||||||||||||||||||||||||
485/2137 | DeepBlueR 1.23.0 (landing page) | Felipe Albrecht | OK | |||||||||||||||||||||||||||||||||
486/2137 | DeepPINCS 1.5.0 (landing page) | Dongmin Jung | OK | |||||||||||||||||||||||||||||||||
487/2137 | deepSNV 1.43.6 (landing page) | Moritz Gerstung | OK | |||||||||||||||||||||||||||||||||
488/2137 | DEFormats 1.25.0 (landing page) | Andrzej Oleś | OK | |||||||||||||||||||||||||||||||||
489/2137 | DegNorm 1.7.1 (landing page) | Ji-Ping Wang | OK | |||||||||||||||||||||||||||||||||
490/2137 | DEGraph 1.49.0 (landing page) | Laurent Jacob | OK | |||||||||||||||||||||||||||||||||
491/2137 | DEGreport 1.33.1 (landing page) | Lorena Pantano | OK | |||||||||||||||||||||||||||||||||
492/2137 | DEGseq 1.51.0 (landing page) | Likun Wang | OK | |||||||||||||||||||||||||||||||||
493/2137 | DelayedArray 0.23.1 (landing page) | Hervé Pagès | WARNINGS | |||||||||||||||||||||||||||||||||
494/2137 | DelayedDataFrame 1.13.0 (landing page) | Qian Liu | OK | |||||||||||||||||||||||||||||||||
495/2137 | DelayedMatrixStats 1.19.0 (landing page) | Peter Hickey | OK | |||||||||||||||||||||||||||||||||
496/2137 | DelayedRandomArray 1.5.0 (landing page) | Aaron Lun | OK | |||||||||||||||||||||||||||||||||
497/2137 | DelayedTensor 1.3.0 (landing page) | Koki Tsuyuzaki | WARNINGS | |||||||||||||||||||||||||||||||||
498/2137 | deltaCaptureC 1.11.0 (landing page) | Michael Shapiro | OK | |||||||||||||||||||||||||||||||||
499/2137 | deltaGseg 1.37.0 (landing page) | Diana Low | OK | |||||||||||||||||||||||||||||||||
500/2137 | DeMAND 1.27.0 (landing page) | Jung Hoon Woo | OK | |||||||||||||||||||||||||||||||||
501/2137 | DeMixT 1.13.0 (landing page) | Shuai Guo | ERROR | |||||||||||||||||||||||||||||||||
502/2137 | densvis 1.7.1 (landing page) | Alan O'Callaghan | OK | |||||||||||||||||||||||||||||||||
503/2137 | DEP 1.19.0 (landing page) | Arne Smits | WARNINGS | |||||||||||||||||||||||||||||||||
504/2137 | DepecheR 1.13.0 (landing page) | Jakob Theorell | OK | |||||||||||||||||||||||||||||||||
505/2137 | DepInfeR 1.1.0 (landing page) | Junyan Lu | OK | |||||||||||||||||||||||||||||||||
506/2137 | DEqMS 1.15.0 (landing page) | Yafeng Zhu | OK | |||||||||||||||||||||||||||||||||
507/2137 | derfinder 1.31.0 (landing page) | Leonardo Collado-Torres | OK | |||||||||||||||||||||||||||||||||
508/2137 | derfinderHelper 1.31.0 (landing page) | Leonardo Collado-Torres | OK | |||||||||||||||||||||||||||||||||
509/2137 | derfinderPlot 1.31.0 (landing page) | Leonardo Collado-Torres | OK | |||||||||||||||||||||||||||||||||
510/2137 | DEScan2 1.17.0 (landing page) | Dario Righelli | OK | |||||||||||||||||||||||||||||||||
511/2137 | DESeq2 1.37.5 (landing page) | Michael Love | OK | |||||||||||||||||||||||||||||||||
512/2137 | DEsingle 1.17.0 (landing page) | Zhun Miao | OK | |||||||||||||||||||||||||||||||||
513/2137 | destiny 3.11.0 (landing page) | Philipp Angerer | ERROR | |||||||||||||||||||||||||||||||||
514/2137 | DEsubs 1.23.0 (landing page) | Aristidis G. Vrahatis | OK | |||||||||||||||||||||||||||||||||
515/2137 | DEWSeq 1.11.0 (landing page) | bioinformatics team Hentze | OK | |||||||||||||||||||||||||||||||||
516/2137 | DExMA 1.5.4 (landing page) | Juan Antonio Villatoro-García | OK | |||||||||||||||||||||||||||||||||
517/2137 | DEXSeq 1.43.0 (landing page) | Alejandro Reyes | OK | |||||||||||||||||||||||||||||||||
518/2137 | DFP 1.55.0 (landing page) | Rodrigo Alvarez-Glez | OK | |||||||||||||||||||||||||||||||||
519/2137 | DIAlignR 2.5.0 (landing page) | Shubham Gupta | OK | |||||||||||||||||||||||||||||||||
520/2137 | DiffBind 3.7.2 (landing page) | Rory Stark | OK | |||||||||||||||||||||||||||||||||
521/2137 | diffcoexp 1.17.0 (landing page) | Wenbin Wei | OK | |||||||||||||||||||||||||||||||||
522/2137 | diffcyt 1.17.0 (landing page) | Lukas M. Weber | OK | |||||||||||||||||||||||||||||||||
523/2137 | DifferentialRegulation 1.1.7 (landing page) | Simone Tiberi | OK | |||||||||||||||||||||||||||||||||
524/2137 | diffGeneAnalysis 1.79.0 (landing page) | Choudary Jagarlamudi | OK | |||||||||||||||||||||||||||||||||
525/2137 | diffHic 1.29.0 (landing page) | Aaron Lun | OK | |||||||||||||||||||||||||||||||||
526/2137 | DiffLogo 2.21.0 (landing page) | Hendrik Treutler | WARNINGS | |||||||||||||||||||||||||||||||||
527/2137 | diffuStats 1.17.0 (landing page) | Sergio Picart-Armada | OK | |||||||||||||||||||||||||||||||||
528/2137 | diffUTR 1.5.0 (landing page) | Pierre-Luc Germain | OK | |||||||||||||||||||||||||||||||||
529/2137 | diggit 1.29.0 (landing page) | Mariano J Alvarez | WARNINGS | |||||||||||||||||||||||||||||||||
530/2137 | Dino 1.3.1 (landing page) | Jared Brown | OK | |||||||||||||||||||||||||||||||||
531/2137 | dir.expiry 1.5.0 (landing page) | Aaron Lun | OK | |||||||||||||||||||||||||||||||||
532/2137 | Director 1.23.0 (landing page) | Katherine Icay | OK | |||||||||||||||||||||||||||||||||
533/2137 | DirichletMultinomial 1.39.0 (landing page) | Martin Morgan | OK | |||||||||||||||||||||||||||||||||
534/2137 | discordant 1.21.0 (landing page) | McGrath Max | OK | |||||||||||||||||||||||||||||||||
535/2137 | DiscoRhythm 1.13.0 (landing page) | Matthew Carlucci | OK | |||||||||||||||||||||||||||||||||
536/2137 | distinct 1.9.0 (landing page) | Simone Tiberi | OK | |||||||||||||||||||||||||||||||||
537/2137 | dittoSeq 1.9.3 (landing page) | Daniel Bunis | OK | |||||||||||||||||||||||||||||||||
538/2137 | divergence 1.13.0 (landing page) | Wikum Dinalankara | OK | |||||||||||||||||||||||||||||||||
539/2137 | dks 1.43.0 (landing page) | Jeffrey T. Leek | OK | |||||||||||||||||||||||||||||||||
540/2137 | DMCFB 1.11.0 (landing page) | Farhad Shokoohi | OK | |||||||||||||||||||||||||||||||||
541/2137 | DMCHMM 1.19.0 (landing page) | Farhad Shokoohi | WARNINGS | |||||||||||||||||||||||||||||||||
542/2137 | DMRcaller 1.29.0 (landing page) | Nicolae Radu Zabet | OK | |||||||||||||||||||||||||||||||||
543/2137 | DMRcate 2.11.0 (landing page) | Tim Peters | OK | |||||||||||||||||||||||||||||||||
544/2137 | DMRforPairs 1.33.0 (landing page) | Martin Rijlaarsdam | OK | |||||||||||||||||||||||||||||||||
545/2137 | DMRScan 1.19.0 (landing page) | Christian M Page | ERROR | |||||||||||||||||||||||||||||||||
546/2137 | dmrseq 1.17.0 (landing page) | Keegan Korthauer | OK | |||||||||||||||||||||||||||||||||
547/2137 | DNABarcodeCompatibility 1.13.0 (landing page) | Céline Trébeau | OK | |||||||||||||||||||||||||||||||||
548/2137 | DNABarcodes 1.27.0 (landing page) | Tilo Buschmann | WARNINGS | |||||||||||||||||||||||||||||||||
549/2137 | DNAcopy 1.71.0 (landing page) | Venkatraman E. Seshan | OK | |||||||||||||||||||||||||||||||||
550/2137 | DNAshapeR 1.25.0 (landing page) | Tsu-Pei Chiu | OK | |||||||||||||||||||||||||||||||||
551/2137 | DominoEffect 1.17.0 (landing page) | Marija Buljan | OK | |||||||||||||||||||||||||||||||||
552/2137 | doppelgangR 1.25.0 (landing page) | Levi Waldron | OK | |||||||||||||||||||||||||||||||||
553/2137 | Doscheda 1.19.0 (landing page) | Bruno Contrino | OK | |||||||||||||||||||||||||||||||||
554/2137 | DOSE 3.23.2 (landing page) | Guangchuang Yu | OK | |||||||||||||||||||||||||||||||||
555/2137 | doseR 1.13.0 (landing page) | ake.vastermark | OK | |||||||||||||||||||||||||||||||||
556/2137 | dpeak 1.9.0 (landing page) | Dongjun Chung | OK | |||||||||||||||||||||||||||||||||
557/2137 | drawProteins 1.17.0 (landing page) | Paul Brennan | OK | |||||||||||||||||||||||||||||||||
558/2137 | DRIMSeq 1.25.0 (landing page) | Malgorzata Nowicka | WARNINGS | |||||||||||||||||||||||||||||||||
559/2137 | DriverNet 1.37.0 (landing page) | Jiarui Ding | OK | |||||||||||||||||||||||||||||||||
560/2137 | DropletUtils 1.17.0 (landing page) | Jonathan Griffiths | OK | |||||||||||||||||||||||||||||||||
561/2137 | drugTargetInteractions 1.5.0 (landing page) | Thomas Girke | OK | |||||||||||||||||||||||||||||||||
562/2137 | DrugVsDisease 2.39.0 (landing page) | j. Saez-Rodriguez | OK | |||||||||||||||||||||||||||||||||
563/2137 | DSS 2.45.0 (landing page) | Hao Wu | WARNINGS | |||||||||||||||||||||||||||||||||
564/2137 | dStruct 1.3.0 (landing page) | Krishna Choudhary | OK | |||||||||||||||||||||||||||||||||
565/2137 | DTA 2.43.0 (landing page) | Bjoern Schwalb | OK | |||||||||||||||||||||||||||||||||
566/2137 | Dune 1.9.0 (landing page) | Hector Roux de Bezieux | OK | |||||||||||||||||||||||||||||||||
567/2137 | dupRadar 1.27.1 (landing page) | Sergi Sayols | WARNINGS | |||||||||||||||||||||||||||||||||
568/2137 | dyebias 1.57.0 (landing page) | Philip Lijnzaad | OK | |||||||||||||||||||||||||||||||||
569/2137 | DynDoc 1.75.0 (landing page) | Bioconductor Package Maintainer | OK | |||||||||||||||||||||||||||||||||
|
| |||||||||||||||||||||||||||||||||||
Package | Maintainer | INSTALL/BUILD/CHECK | ||||||||||||||||||||||||||||||||||
570/2137 | easier 1.3.0 (landing page) | Oscar Lapuente-Santana | OK | |||||||||||||||||||||||||||||||||
571/2137 | easyreporting 1.9.0 (landing page) | Dario Righelli | OK | |||||||||||||||||||||||||||||||||
572/2137 | easyRNASeq 2.33.0 (landing page) | Nicolas Delhomme | OK | |||||||||||||||||||||||||||||||||
573/2137 | EBarrays 2.61.0 (landing page) | Ming Yuan | OK | |||||||||||||||||||||||||||||||||
574/2137 | EBcoexpress 1.41.0 (landing page) | John A. Dawson | WARNINGS | |||||||||||||||||||||||||||||||||
575/2137 | EBImage 4.39.0 (landing page) | Andrzej Oleś | WARNINGS | |||||||||||||||||||||||||||||||||
576/2137 | EBSEA 1.25.0 (landing page) | Arfa Mehmood | OK | |||||||||||||||||||||||||||||||||
577/2137 | EBSeq 1.37.0 (landing page) | Ning Leng | OK | |||||||||||||||||||||||||||||||||
578/2137 | EBSeqHMM 1.31.0 (landing page) | Ning Leng | OK | |||||||||||||||||||||||||||||||||
579/2137 | ecolitk 1.69.0 (landing page) | Laurent Gautier | WARNINGS | |||||||||||||||||||||||||||||||||
580/2137 | EDASeq 2.31.0 (landing page) | Davide Risso | OK | |||||||||||||||||||||||||||||||||
581/2137 | edge 2.29.0 (landing page) | John D. Storey | ERROR | |||||||||||||||||||||||||||||||||
582/2137 | edgeR 3.39.5 (landing page) | Yunshun Chen | OK | |||||||||||||||||||||||||||||||||
583/2137 | eds 0.99.6 (landing page) | Avi Srivastava | OK | |||||||||||||||||||||||||||||||||
584/2137 | eegc 1.23.0 (landing page) | Xiaoyuan Zhou | WARNINGS | |||||||||||||||||||||||||||||||||
585/2137 | EGAD 1.25.0 (landing page) | Sara Ballouz | WARNINGS | |||||||||||||||||||||||||||||||||
586/2137 | EGSEA 1.25.0 (landing page) | Monther Alhamdoosh | WARNINGS | |||||||||||||||||||||||||||||||||
587/2137 | eiR 1.37.0 (landing page) | Thomas Girke | ERROR | |||||||||||||||||||||||||||||||||
588/2137 | eisaR 1.9.0 (landing page) | Michael Stadler | OK | |||||||||||||||||||||||||||||||||
589/2137 | ELMER 2.21.0 (landing page) | Tiago Chedraoui Silva | WARNINGS | |||||||||||||||||||||||||||||||||
590/2137 | EMDomics 2.27.0 (landing page) | Sadhika Malladi | OK | |||||||||||||||||||||||||||||||||
591/2137 | EmpiricalBrownsMethod 1.25.0 (landing page) | David Gibbs | OK | |||||||||||||||||||||||||||||||||
592/2137 | EnhancedVolcano 1.15.0 (landing page) | Kevin Blighe | OK | |||||||||||||||||||||||||||||||||
593/2137 | enhancerHomologSearch 1.3.4 (landing page) | Jianhong Ou | OK | |||||||||||||||||||||||||||||||||
594/2137 | EnMCB 1.9.1 (landing page) | Xin Yu | ERROR | |||||||||||||||||||||||||||||||||
595/2137 | ENmix 1.33.0 (landing page) | Zongli Xu | OK | |||||||||||||||||||||||||||||||||
596/2137 | EnrichedHeatmap 1.27.0 (landing page) | Zuguang Gu | OK | |||||||||||||||||||||||||||||||||
597/2137 | EnrichmentBrowser 2.27.0 (landing page) | Ludwig Geistlinger | OK | |||||||||||||||||||||||||||||||||
598/2137 | enrichplot 1.17.0 (landing page) | Guangchuang Yu | OK | |||||||||||||||||||||||||||||||||
599/2137 | enrichTF 1.13.0 (landing page) | Zheng Wei | OK | |||||||||||||||||||||||||||||||||
600/2137 | ensembldb 2.21.3 (landing page) | Johannes Rainer | OK | |||||||||||||||||||||||||||||||||
601/2137 | ensemblVEP 1.39.0 (landing page) | Bioconductor Package Maintainer | ERROR | |||||||||||||||||||||||||||||||||
602/2137 | epialleleR 1.5.1 (landing page) | Oleksii Nikolaienko | WARNINGS | |||||||||||||||||||||||||||||||||
603/2137 | EpiCompare 1.1.0 (landing page) | Sera Choi | ERROR | |||||||||||||||||||||||||||||||||
604/2137 | epidecodeR 1.5.0 (landing page) | Kandarp Joshi | OK | |||||||||||||||||||||||||||||||||
605/2137 | EpiDISH 2.13.0 (landing page) | Shijie C. Zheng | OK | |||||||||||||||||||||||||||||||||
606/2137 | epigenomix 1.37.0 (landing page) | Hans-Ulrich Klein | OK | |||||||||||||||||||||||||||||||||
607/2137 | epigraHMM 1.5.0 (landing page) | Pedro Baldoni | OK | |||||||||||||||||||||||||||||||||
608/2137 | epihet 1.13.0 (landing page) | Xiaowen Chen | ERROR | |||||||||||||||||||||||||||||||||
609/2137 | EpiMix 0.99.16 (landing page) | Yuanning Zheng | ERROR | |||||||||||||||||||||||||||||||||
610/2137 | epimutacions 1.1.0 (landing page) | Leire Abarrategui | OK | |||||||||||||||||||||||||||||||||
611/2137 | epiNEM 1.21.0 (landing page) | Martin Pirkl | OK | |||||||||||||||||||||||||||||||||
612/2137 | epistack 1.3.0 (landing page) | DEVAILLY Guillaume | OK | |||||||||||||||||||||||||||||||||
613/2137 | EpiTxDb 1.9.0 (landing page) | Felix G.M. Ernst | OK | |||||||||||||||||||||||||||||||||
614/2137 | epivizr 2.27.0 (landing page) | Hector Corrada Bravo | WARNINGS | |||||||||||||||||||||||||||||||||
615/2137 | epivizrChart 1.19.0 (landing page) | Hector Corrada Bravo | OK | |||||||||||||||||||||||||||||||||
616/2137 | epivizrData 1.25.0 (landing page) | Hector Corrada Bravo | WARNINGS | |||||||||||||||||||||||||||||||||
617/2137 | epivizrServer 1.25.0 (landing page) | Hector Corrada Bravo | OK | |||||||||||||||||||||||||||||||||
618/2137 | epivizrStandalone 1.25.0 (landing page) | Hector Corrada Bravo | OK | |||||||||||||||||||||||||||||||||
619/2137 | erccdashboard 1.31.0 (landing page) | Sarah Munro | OK | |||||||||||||||||||||||||||||||||
620/2137 | erma 1.13.0 (landing page) | VJ Carey | OK | |||||||||||||||||||||||||||||||||
621/2137 | ERSSA 1.15.0 (landing page) | Zixuan Shao | OK | |||||||||||||||||||||||||||||||||
622/2137 | esATAC 1.19.0 (landing page) | Zheng Wei | WARNINGS | |||||||||||||||||||||||||||||||||
623/2137 | escape 1.7.0 (landing page) | Nick Borcherding | OK | |||||||||||||||||||||||||||||||||
624/2137 | esetVis 1.23.0 (landing page) | Laure Cougnaud | OK | |||||||||||||||||||||||||||||||||
625/2137 | eudysbiome 1.27.0 (landing page) | Xiaoyuan Zhou | OK | |||||||||||||||||||||||||||||||||
626/2137 | evaluomeR 1.13.0 (landing page) | José Antonio Bernabé-Díaz | OK | |||||||||||||||||||||||||||||||||
627/2137 | EventPointer 3.5.1 (landing page) | Juan A. Ferrer-Bonsoms | OK | |||||||||||||||||||||||||||||||||
628/2137 | EWCE 1.5.5 (landing page) | Alan Murphy | OK | |||||||||||||||||||||||||||||||||
629/2137 | ExCluster 1.15.0 (landing page) | R. Matthew Tanner | OK | |||||||||||||||||||||||||||||||||
630/2137 | ExiMiR 2.39.0 (landing page) | Sylvain Gubian | OK | |||||||||||||||||||||||||||||||||
631/2137 | exomeCopy 1.43.0 (landing page) | Michael Love | OK | |||||||||||||||||||||||||||||||||
632/2137 | exomePeak2 1.9.1 (landing page) | Zhen Wei | OK | |||||||||||||||||||||||||||||||||
633/2137 | ExperimentHub 2.5.0 (landing page) | Bioconductor Package Maintainer | OK | |||||||||||||||||||||||||||||||||
634/2137 | ExperimentHubData 1.23.0 (landing page) | Bioconductor Package Maintainer | OK | |||||||||||||||||||||||||||||||||
635/2137 | ExperimentSubset 1.7.0 (landing page) | Irzam Sarfraz | OK | |||||||||||||||||||||||||||||||||
636/2137 | ExploreModelMatrix 1.9.0 (landing page) | Charlotte Soneson | OK | |||||||||||||||||||||||||||||||||
637/2137 | ExpressionAtlas 1.25.5 (landing page) | Pedro Madrigal | OK | |||||||||||||||||||||||||||||||||
638/2137 | extraChIPs 1.1.3 (landing page) | Stephen Pederson | OK | |||||||||||||||||||||||||||||||||
|
| |||||||||||||||||||||||||||||||||||
Package | Maintainer | INSTALL/BUILD/CHECK | ||||||||||||||||||||||||||||||||||
639/2137 | fabia 2.43.0 (landing page) | Andreas Mitterecker | OK | |||||||||||||||||||||||||||||||||
640/2137 | factDesign 1.73.0 (landing page) | Denise Scholtens | OK | |||||||||||||||||||||||||||||||||
641/2137 | factR 0.99.7 (landing page) | Fursham Hamid | ERROR | |||||||||||||||||||||||||||||||||
642/2137 | FamAgg 1.25.0 (landing page) | Johannes Rainer | OK | |||||||||||||||||||||||||||||||||
643/2137 | famat 1.7.0 (landing page) | Mathieu Charles | ERROR | |||||||||||||||||||||||||||||||||
644/2137 | farms 1.49.0 (landing page) | Djork-Arne Clevert | OK | |||||||||||||||||||||||||||||||||
645/2137 | fastLiquidAssociation 1.33.0 (landing page) | Tina Gunderson | WARNINGS | |||||||||||||||||||||||||||||||||
646/2137 | FastqCleaner 1.15.0 (landing page) | Leandro Roser | ERROR | |||||||||||||||||||||||||||||||||
647/2137 | fastreeR 1.1.5 (landing page) | Anestis Gkanogiannis | OK | |||||||||||||||||||||||||||||||||
648/2137 | fastseg 1.43.5 (landing page) | Alexander Blume | OK | |||||||||||||||||||||||||||||||||
649/2137 | FCBF 2.5.0 (landing page) | Tiago Lubiana | OK | |||||||||||||||||||||||||||||||||
650/2137 | fCCAC 1.23.1 (landing page) | Pedro Madrigal | OK | |||||||||||||||||||||||||||||||||
651/2137 | fCI 1.27.0 (landing page) | Shaojun Tang | ERROR | |||||||||||||||||||||||||||||||||
652/2137 | fcoex 1.11.0 (landing page) | Tiago Lubiana | WARNINGS | |||||||||||||||||||||||||||||||||
653/2137 | fcScan 1.11.0 (landing page) | Pierre Khoueiry | OK | |||||||||||||||||||||||||||||||||
654/2137 | fdrame 1.69.0 (landing page) | Effi Kenigsberg | OK | |||||||||||||||||||||||||||||||||
655/2137 | FEAST 1.5.0 (landing page) | Kenong Su | OK | |||||||||||||||||||||||||||||||||
656/2137 | fedup 1.5.0 (landing page) | Catherine Ross | OK | |||||||||||||||||||||||||||||||||
657/2137 | FELLA 1.17.0 (landing page) | Sergio Picart-Armada | ERROR | |||||||||||||||||||||||||||||||||
658/2137 | ffpe 1.41.0 (landing page) | Levi Waldron | OK | |||||||||||||||||||||||||||||||||
659/2137 | fgga 1.5.0 (landing page) | Spetale Flavio | ERROR | |||||||||||||||||||||||||||||||||
660/2137 | FGNet 3.31.0 (landing page) | Sara Aibar | WARNINGS | |||||||||||||||||||||||||||||||||
661/2137 | fgsea 1.23.0 (landing page) | Alexey Sergushichev | OK | |||||||||||||||||||||||||||||||||
662/2137 | FilterFFPE 1.7.0 (landing page) | Lanying Wei | OK | |||||||||||||||||||||||||||||||||
663/2137 | FindIT2 1.3.3 (landing page) | Guandong Shang | OK | |||||||||||||||||||||||||||||||||
664/2137 | FISHalyseR 1.31.0 (landing page) | Karesh Arunakirinathan | WARNINGS | |||||||||||||||||||||||||||||||||
665/2137 | fishpond 2.3.12 (landing page) | Michael Love | OK | |||||||||||||||||||||||||||||||||
666/2137 | FitHiC 1.23.0 (landing page) | Ruyu Tan | OK | |||||||||||||||||||||||||||||||||
667/2137 | flagme 1.53.0 (landing page) | Mark Robinson | WARNINGS | |||||||||||||||||||||||||||||||||
668/2137 | FLAMES 1.3.3 (landing page) | Voogd Oliver | OK | |||||||||||||||||||||||||||||||||
669/2137 | flowAI 1.27.2 (landing page) | Gianni Monaco | OK | |||||||||||||||||||||||||||||||||
670/2137 | flowBeads 1.35.0 (landing page) | Nikolas Pontikos | WARNINGS | |||||||||||||||||||||||||||||||||
671/2137 | flowBin 1.33.0 (landing page) | Kieran O'Neill | OK | |||||||||||||||||||||||||||||||||
672/2137 | flowcatchR 1.31.0 (landing page) | Federico Marini | OK | |||||||||||||||||||||||||||||||||
673/2137 | flowCHIC 1.31.0 (landing page) | Author: Joachim Schumann | OK | |||||||||||||||||||||||||||||||||
674/2137 | flowCL 1.35.0 (landing page) | Justin Meskas | ERROR | |||||||||||||||||||||||||||||||||
675/2137 | flowClean 1.35.0 (landing page) | Kipper Fletez-Brant | WARNINGS | |||||||||||||||||||||||||||||||||
676/2137 | flowClust 3.35.0 (landing page) | Greg Finak | WARNINGS | |||||||||||||||||||||||||||||||||
677/2137 | flowCore 2.9.1 (landing page) | Mike Jiang | OK | |||||||||||||||||||||||||||||||||
678/2137 | flowCut 1.7.0 (landing page) | Justin Meskas | OK | |||||||||||||||||||||||||||||||||
679/2137 | flowCyBar 1.33.0 (landing page) | Joachim Schumann | OK | |||||||||||||||||||||||||||||||||
680/2137 | flowDensity 1.31.0 (landing page) | Mehrnoush Malek | WARNINGS | |||||||||||||||||||||||||||||||||
681/2137 | flowFP 1.55.0 (landing page) | Herb Holyst | OK | |||||||||||||||||||||||||||||||||
682/2137 | flowGraph 1.5.0 (landing page) | Alice Yue | OK | |||||||||||||||||||||||||||||||||
683/2137 | flowMap 1.35.0 (landing page) | Chiaowen Joyce Hsiao | WARNINGS | |||||||||||||||||||||||||||||||||
684/2137 | flowMatch 1.33.0 (landing page) | Ariful Azad | OK | |||||||||||||||||||||||||||||||||
685/2137 | flowMeans 1.57.0 (landing page) | Nima Aghaeepour | OK | |||||||||||||||||||||||||||||||||
686/2137 | flowMerge 2.45.0 (landing page) | Greg Finak | OK | |||||||||||||||||||||||||||||||||
687/2137 | flowPeaks 1.43.0 (landing page) | Yongchao Ge | ERROR | |||||||||||||||||||||||||||||||||
688/2137 | flowPloidy 1.23.0 (landing page) | Tyler Smith | ERROR | |||||||||||||||||||||||||||||||||
689/2137 | flowPlots 1.45.0 (landing page) | N. Hawkins | OK | |||||||||||||||||||||||||||||||||
690/2137 | FlowSOM 2.5.2 (landing page) | Sofie Van Gassen | OK | |||||||||||||||||||||||||||||||||
691/2137 | flowSpecs 1.11.1 (landing page) | Jakob Theorell | OK | |||||||||||||||||||||||||||||||||
692/2137 | flowStats 4.9.2 (landing page) | Greg Finak | WARNINGS | |||||||||||||||||||||||||||||||||
693/2137 | flowTime 1.21.0 (landing page) | R. Clay Wright | OK | |||||||||||||||||||||||||||||||||
694/2137 | flowTrans 1.49.0 (landing page) | Greg Finak | OK | |||||||||||||||||||||||||||||||||
695/2137 | flowUtils 1.61.0 (landing page) | Josef Spidlen | ERROR | |||||||||||||||||||||||||||||||||
696/2137 | flowViz 1.61.1 (landing page) | Mike Jiang | OK | |||||||||||||||||||||||||||||||||
697/2137 | flowVS 1.29.0 (landing page) | Ariful Azad | OK | |||||||||||||||||||||||||||||||||
698/2137 | flowWorkspace 4.9.1 (landing page) | Greg Finak | WARNINGS | |||||||||||||||||||||||||||||||||
699/2137 | fmcsR 1.39.0 (landing page) | Thomas Girke | WARNINGS | |||||||||||||||||||||||||||||||||
700/2137 | fmrs 1.7.0 (landing page) | Farhad Shokoohi | OK | |||||||||||||||||||||||||||||||||
701/2137 | fobitools 1.5.0 (landing page) | Pol Castellano-Escuder | OK | |||||||||||||||||||||||||||||||||
702/2137 | FoldGO 1.15.0 (landing page) | Daniil Wiebe | OK | |||||||||||||||||||||||||||||||||
703/2137 | FRASER 1.9.1 (landing page) | Christian Mertes | OK | |||||||||||||||||||||||||||||||||
704/2137 | frenchFISH 1.9.0 (landing page) | Adam Berman | OK | |||||||||||||||||||||||||||||||||
705/2137 | FRGEpistasis 1.33.0 (landing page) | Futao Zhang | OK | |||||||||||||||||||||||||||||||||
706/2137 | frma 1.49.0 (landing page) | Matthew N. McCall | OK | |||||||||||||||||||||||||||||||||
707/2137 | frmaTools 1.49.0 (landing page) | Matthew N. McCall | OK | |||||||||||||||||||||||||||||||||
708/2137 | FScanR 1.7.0 (landing page) | Xiao Chen | OK | |||||||||||||||||||||||||||||||||
709/2137 | FunChIP 1.23.0 (landing page) | Alice Parodi | WARNINGS | |||||||||||||||||||||||||||||||||
710/2137 | funtooNorm 1.21.0 (landing page) | Kathleen Klein | WARNINGS | |||||||||||||||||||||||||||||||||
|
| |||||||||||||||||||||||||||||||||||
Package | Maintainer | INSTALL/BUILD/CHECK | ||||||||||||||||||||||||||||||||||
711/2137 | GA4GHclient 1.21.0 (landing page) | Welliton Souza | OK | |||||||||||||||||||||||||||||||||
712/2137 | GA4GHshiny 1.19.0 (landing page) | Welliton Souza | OK | |||||||||||||||||||||||||||||||||
713/2137 | gaga 2.43.0 (landing page) | David Rossell | WARNINGS | |||||||||||||||||||||||||||||||||
714/2137 | gage 2.47.0 (landing page) | Weijun Luo | ERROR | |||||||||||||||||||||||||||||||||
715/2137 | gaggle 1.65.0 (landing page) | Christopher Bare | OK | |||||||||||||||||||||||||||||||||
716/2137 | gaia 2.41.0 (landing page) | S. Morganella | ERROR | |||||||||||||||||||||||||||||||||
717/2137 | GAPGOM 1.13.0 (landing page) | Rezvan Ehsani | ERROR | |||||||||||||||||||||||||||||||||
718/2137 | GAprediction 1.23.0 (landing page) | Jon Bohlin | OK | |||||||||||||||||||||||||||||||||
719/2137 | garfield 1.25.0 (landing page) | Valentina Iotchkova | OK | |||||||||||||||||||||||||||||||||
720/2137 | GARS 1.17.0 (landing page) | Mattia Chiesa | ERROR | |||||||||||||||||||||||||||||||||
721/2137 | GateFinder 1.17.0 (landing page) | Nima Aghaeepour | OK | |||||||||||||||||||||||||||||||||
722/2137 | GBScleanR 1.1.0 (landing page) | Tomoyuki Furuta | OK | |||||||||||||||||||||||||||||||||
723/2137 | gcapc 1.21.0 (landing page) | Mingxiang Teng | OK | |||||||||||||||||||||||||||||||||
724/2137 | gcatest 1.27.0 (landing page) | Wei Hao | OK | |||||||||||||||||||||||||||||||||
725/2137 | gCrisprTools 2.3.1 (landing page) | Russell Bainer | OK | |||||||||||||||||||||||||||||||||
726/2137 | gcrma 2.69.0 (landing page) | Z. Wu | OK | |||||||||||||||||||||||||||||||||
727/2137 | GCSscore 1.11.0 (landing page) | Guy M. Harris | OK | |||||||||||||||||||||||||||||||||
728/2137 | GDCRNATools 1.17.1 (landing page) | Ruidong Li | OK | |||||||||||||||||||||||||||||||||
729/2137 | GDSArray 1.17.0 (landing page) | Qian Liu | OK | |||||||||||||||||||||||||||||||||
730/2137 | gdsfmt 1.33.1 (landing page) | Xiuwen Zheng | OK | |||||||||||||||||||||||||||||||||
731/2137 | GEM 1.23.0 (landing page) | Hong Pan | OK | |||||||||||||||||||||||||||||||||
732/2137 | gemini 1.11.0 (landing page) | Sidharth Jain | OK | |||||||||||||||||||||||||||||||||
733/2137 | genArise 1.73.0 (landing page) | IFC Development Team | WARNINGS | |||||||||||||||||||||||||||||||||
734/2137 | genbankr 1.25.0 (landing page) | Gabriel Becker | OK | |||||||||||||||||||||||||||||||||
735/2137 | GeneAccord 1.15.0 (landing page) | Ariane L. Moore | OK | |||||||||||||||||||||||||||||||||
736/2137 | geneAttribution 1.23.0 (landing page) | Arthur Wuster | OK | |||||||||||||||||||||||||||||||||
737/2137 | GeneBreak 1.27.0 (landing page) | Evert van den Broek | OK | |||||||||||||||||||||||||||||||||
738/2137 | geneClassifiers 1.21.0 (landing page) | R Kuiper | OK | |||||||||||||||||||||||||||||||||
739/2137 | GeneExpressionSignature 1.43.0 (landing page) | Yang Cao | OK | |||||||||||||||||||||||||||||||||
740/2137 | genefilter 1.79.0 (landing page) | Bioconductor Package Maintainer | WARNINGS | |||||||||||||||||||||||||||||||||
741/2137 | genefu 2.29.0 (landing page) | Benjamin Haibe-Kains | OK | |||||||||||||||||||||||||||||||||
742/2137 | GeneGA 1.47.0 (landing page) | Zhenpeng Li | OK | |||||||||||||||||||||||||||||||||
743/2137 | GeneGeneInteR 1.23.0 (landing page) | Mathieu Emily | OK | |||||||||||||||||||||||||||||||||
744/2137 | GeneMeta 1.69.0 (landing page) | Bioconductor Package Maintainer | OK | |||||||||||||||||||||||||||||||||
745/2137 | GeneNetworkBuilder 1.39.0 (landing page) | Jianhong Ou | OK | |||||||||||||||||||||||||||||||||
746/2137 | GeneOverlap 1.33.0 (landing page) | António Miguel de Jesus Domingues, Max-Planck Institute for Cell Biology and Genetics | OK | |||||||||||||||||||||||||||||||||
747/2137 | geneplast 1.23.0 (landing page) | Mauro Castro | OK | |||||||||||||||||||||||||||||||||
748/2137 | geneplotter 1.75.0 (landing page) | Bioconductor Package Maintainer | OK | |||||||||||||||||||||||||||||||||
749/2137 | geneRecommender 1.69.0 (landing page) | Greg Hather | OK | |||||||||||||||||||||||||||||||||
750/2137 | GeneRegionScan 1.53.0 (landing page) | Lasse Folkersen | OK | |||||||||||||||||||||||||||||||||
751/2137 | geneRxCluster 1.33.0 (landing page) | Charles Berry | OK | |||||||||||||||||||||||||||||||||
752/2137 | GeneSelectMMD 2.41.0 (landing page) | Weiliang Qiu | WARNINGS | |||||||||||||||||||||||||||||||||
753/2137 | GENESIS 2.27.0 (landing page) | Stephanie M. Gogarten | OK | |||||||||||||||||||||||||||||||||
754/2137 | GeneStructureTools 1.17.0 (landing page) | Beth Signal | OK | |||||||||||||||||||||||||||||||||
755/2137 | geNetClassifier 1.37.0 (landing page) | Sara Aibar | OK | |||||||||||||||||||||||||||||||||
756/2137 | GeneticsPed 1.59.0 (landing page) | David Henderson | OK | |||||||||||||||||||||||||||||||||
757/2137 | GeneTonic 2.1.3 (landing page) | Federico Marini | OK | |||||||||||||||||||||||||||||||||
758/2137 | geneXtendeR 1.23.0 (landing page) | Bohdan Khomtchouk | WARNINGS | |||||||||||||||||||||||||||||||||
759/2137 | GENIE3 1.19.0 (landing page) | Van Anh Huynh-Thu | OK | |||||||||||||||||||||||||||||||||
760/2137 | genoCN 1.49.0 (landing page) | Wei Sun | WARNINGS | |||||||||||||||||||||||||||||||||
761/2137 | genomation 1.29.0 (landing page) | Altuna Akalin | WARNINGS | |||||||||||||||||||||||||||||||||
762/2137 | GenomAutomorphism 0.99.3 (landing page) | Robersy Sanchez | WARNINGS | |||||||||||||||||||||||||||||||||
763/2137 | GenomeInfoDb 1.33.3 (landing page) | Bioconductor Package Maintainer | ERROR | |||||||||||||||||||||||||||||||||
764/2137 | genomeIntervals 1.53.0 (landing page) | Julien Gagneur | OK | |||||||||||||||||||||||||||||||||
765/2137 | genomes 3.27.0 (landing page) | Chris Stubben | OK | |||||||||||||||||||||||||||||||||
766/2137 | GenomicAlignments 1.33.1 (landing page) | Bioconductor Package Maintainer | OK | |||||||||||||||||||||||||||||||||
767/2137 | GenomicDataCommons 1.21.2 (landing page) | Sean Davis | OK | |||||||||||||||||||||||||||||||||
768/2137 | GenomicDistributions 1.5.5 (landing page) | Kristyna Kupkova | OK | |||||||||||||||||||||||||||||||||
769/2137 | GenomicFeatures 1.49.5 (landing page) | Bioconductor Package Maintainer | ERROR | |||||||||||||||||||||||||||||||||
770/2137 | GenomicFiles 1.33.1 (landing page) | Bioconductor Package Maintainer | OK | |||||||||||||||||||||||||||||||||
771/2137 | genomicInstability 1.3.0 (landing page) | Mariano Alvarez | OK | |||||||||||||||||||||||||||||||||
772/2137 | GenomicInteractionNodes 1.1.0 (landing page) | Jianhong Ou | OK | |||||||||||||||||||||||||||||||||
773/2137 | GenomicInteractions 1.31.0 (landing page) | Liz Ing-Simmons | OK | |||||||||||||||||||||||||||||||||
774/2137 | GenomicOZone 1.11.0 (landing page) | Hua Zhong | OK | |||||||||||||||||||||||||||||||||
775/2137 | GenomicRanges 1.49.0 (landing page) | Bioconductor Package Maintainer | ERROR | |||||||||||||||||||||||||||||||||
776/2137 | GenomicScores 2.9.4 (landing page) | Robert Castelo | OK | |||||||||||||||||||||||||||||||||
777/2137 | GenomicSuperSignature 1.5.3 (landing page) | Sehyun Oh | WARNINGS | |||||||||||||||||||||||||||||||||
778/2137 | GenomicTuples 1.31.0 (landing page) | Peter Hickey | OK | |||||||||||||||||||||||||||||||||
779/2137 | genotypeeval 1.29.0 (landing page) | Jennifer Tom | ERROR | |||||||||||||||||||||||||||||||||
780/2137 | GenProSeq 1.1.0 (landing page) | Dongmin Jung | OK | |||||||||||||||||||||||||||||||||
781/2137 | GenVisR 1.29.0 (landing page) | Zachary Skidmore | ERROR | |||||||||||||||||||||||||||||||||
782/2137 | GeoDiff 1.3.0 (landing page) | Nicole Ortogero | OK | |||||||||||||||||||||||||||||||||
783/2137 | GEOexplorer 1.3.0 (landing page) | Guy Hunt | OK | |||||||||||||||||||||||||||||||||
784/2137 | GEOfastq 1.5.0 (landing page) | Alex Pickering | OK | |||||||||||||||||||||||||||||||||
785/2137 | GEOmetadb 1.59.0 (landing page) | Jack Zhu | ERROR | |||||||||||||||||||||||||||||||||
786/2137 | GeomxTools 3.1.1 (landing page) | Nicole Ortogero | OK | |||||||||||||||||||||||||||||||||
787/2137 | GEOquery 2.65.2 (landing page) | Sean Davis | OK | |||||||||||||||||||||||||||||||||
788/2137 | GEOsubmission 1.49.0 (landing page) | Alexandre Kuhn | OK | |||||||||||||||||||||||||||||||||
789/2137 | gep2pep 1.17.0 (landing page) | Francesco Napolitano | OK | |||||||||||||||||||||||||||||||||
790/2137 | gespeR 1.29.0 (landing page) | Fabian Schmich | WARNINGS | |||||||||||||||||||||||||||||||||
791/2137 | getDEE2 1.7.0 (landing page) | Mark Ziemann | OK | |||||||||||||||||||||||||||||||||
792/2137 | geva 1.5.0 (landing page) | Itamar José Guimarães Nunes | OK | |||||||||||||||||||||||||||||||||
793/2137 | GEWIST 1.41.0 (landing page) | Wei Q. Deng | OK | |||||||||||||||||||||||||||||||||
794/2137 | ggbio 1.45.0 (landing page) | Michael Lawrence | WARNINGS | |||||||||||||||||||||||||||||||||
795/2137 | ggcyto 1.25.1 (landing page) | Mike Jiang | WARNINGS | |||||||||||||||||||||||||||||||||
796/2137 | ggmanh 1.1.0 (landing page) | John Lee | OK | |||||||||||||||||||||||||||||||||
797/2137 | ggmsa 1.3.3 (landing page) | Lang Zhou | OK | |||||||||||||||||||||||||||||||||
798/2137 | GGPA 1.9.0 (landing page) | Dongjun Chung | OK | |||||||||||||||||||||||||||||||||
799/2137 | ggspavis 1.3.0 (landing page) | Lukas M. Weber | OK | |||||||||||||||||||||||||||||||||
800/2137 | ggtree 3.5.1 (landing page) | Guangchuang Yu | OK | |||||||||||||||||||||||||||||||||
801/2137 | ggtreeExtra 1.7.0 (landing page) | Shuangbin Xu | OK | |||||||||||||||||||||||||||||||||
802/2137 | GIGSEA 1.15.0 (landing page) | Shijia Zhu | OK | |||||||||||||||||||||||||||||||||
803/2137 | girafe 1.49.0 (landing page) | J. Toedling | OK | |||||||||||||||||||||||||||||||||
804/2137 | GISPA 1.21.0 (landing page) | Bhakti Dwivedi | OK | |||||||||||||||||||||||||||||||||
805/2137 | GLAD 2.61.0 (landing page) | Philippe Hupe | WARNINGS | |||||||||||||||||||||||||||||||||
806/2137 | GladiaTOX 1.13.0 (landing page) | PMP S.A. R Support | OK | |||||||||||||||||||||||||||||||||
807/2137 | Glimma 2.7.0 (landing page) | Shian Su | OK | |||||||||||||||||||||||||||||||||
808/2137 | glmGamPoi 1.9.0 (landing page) | Constantin Ahlmann-Eltze | OK | |||||||||||||||||||||||||||||||||
809/2137 | glmSparseNet 1.15.0 (landing page) | André Veríssimo | OK | |||||||||||||||||||||||||||||||||
810/2137 | GlobalAncova 4.15.0 (landing page) | Manuela Hummel | OK | |||||||||||||||||||||||||||||||||
811/2137 | globalSeq 1.25.0 (landing page) | Armin Rauschenberger | OK | |||||||||||||||||||||||||||||||||
812/2137 | globaltest 5.51.0 (landing page) | Jelle Goeman | OK | |||||||||||||||||||||||||||||||||
813/2137 | gmapR 1.39.0 (landing page) | Michael Lawrence | ERROR | |||||||||||||||||||||||||||||||||
814/2137 | GmicR 1.11.0 (landing page) | Richard Virgen-Slane | WARNINGS | |||||||||||||||||||||||||||||||||
815/2137 | gmoviz 1.9.0 (landing page) | Kathleen Zeglinski | OK | |||||||||||||||||||||||||||||||||
816/2137 | GMRP 1.25.0 (landing page) | Yuan-De Tan | WARNINGS | |||||||||||||||||||||||||||||||||
817/2137 | GNET2 1.13.0 (landing page) | Chen Chen | OK | |||||||||||||||||||||||||||||||||
818/2137 | GOexpress 1.31.0 (landing page) | Kevin Rue-Albrecht | OK | |||||||||||||||||||||||||||||||||
819/2137 | GOfuncR 1.17.0 (landing page) | Steffi Grote | WARNINGS | |||||||||||||||||||||||||||||||||
820/2137 | GOpro 1.23.0 (landing page) | Lidia Chrabaszcz | OK | |||||||||||||||||||||||||||||||||
821/2137 | goProfiles 1.59.0 (landing page) | Alex Sanchez | OK | |||||||||||||||||||||||||||||||||
822/2137 | GOSemSim 2.23.0 (landing page) | Guangchuang Yu | OK | |||||||||||||||||||||||||||||||||
823/2137 | goseq 1.49.0 (landing page) | Matthew Young | OK | |||||||||||||||||||||||||||||||||
824/2137 | GOSim 1.35.0 (landing page) | Holger Froehlich | OK | |||||||||||||||||||||||||||||||||
825/2137 | goSorensen 0.99.13 (landing page) | Pablo Flores | OK | |||||||||||||||||||||||||||||||||
826/2137 | goSTAG 1.21.0 (landing page) | Brian D. Bennett | OK | |||||||||||||||||||||||||||||||||
827/2137 | GOstats 2.63.0 (landing page) | Bioconductor Package Maintainer | OK | |||||||||||||||||||||||||||||||||
828/2137 | GOsummaries 2.33.0 (landing page) | Raivo Kolde | OK | |||||||||||||||||||||||||||||||||
829/2137 | GOTHiC 1.33.0 (landing page) | Borbala Mifsud | OK | |||||||||||||||||||||||||||||||||
830/2137 | goTools 1.71.0 (landing page) | Agnes Paquet | OK | |||||||||||||||||||||||||||||||||
831/2137 | GPA 1.9.0 (landing page) | Dongjun Chung | OK | |||||||||||||||||||||||||||||||||
832/2137 | Sun Ah Kim | ERROR | ||||||||||||||||||||||||||||||||||
833/2137 | gpls 1.69.0 (landing page) | Bioconductor Package Maintainer | WARNINGS | |||||||||||||||||||||||||||||||||
834/2137 | gpuMagic 1.13.0 (landing page) | Jiefei Wang | OK | |||||||||||||||||||||||||||||||||
835/2137 | GRaNIE 1.1.9 (landing page) | Christian Arnold | WARNINGS | |||||||||||||||||||||||||||||||||
836/2137 | granulator 1.5.0 (landing page) | Sabina Pfister | OK | |||||||||||||||||||||||||||||||||
837/2137 | graper 1.13.0 (landing page) | Britta Velten | OK | |||||||||||||||||||||||||||||||||
838/2137 | graph 1.75.0 (landing page) | Bioconductor Package Maintainer | OK | |||||||||||||||||||||||||||||||||
839/2137 | GraphAlignment 1.61.0 (landing page) | Joern P. Meier | WARNINGS | |||||||||||||||||||||||||||||||||
840/2137 | GraphAT 1.69.0 (landing page) | Thomas LaFramboise | OK | |||||||||||||||||||||||||||||||||
841/2137 | graphite 1.43.0 (landing page) | Gabriele Sales | OK | |||||||||||||||||||||||||||||||||
842/2137 | GraphPAC 1.39.0 (landing page) | Gregory Ryslik | OK | |||||||||||||||||||||||||||||||||
843/2137 | GRENITS 1.49.0 (landing page) | Edward Morrissey | OK | |||||||||||||||||||||||||||||||||
844/2137 | GreyListChIP 1.29.1 (landing page) | Rory Stark | OK | |||||||||||||||||||||||||||||||||
845/2137 | GRmetrics 1.23.0 (landing page) | Nicholas Clark | OK | |||||||||||||||||||||||||||||||||
846/2137 | groHMM 1.31.0 (landing page) | Anusha Nagari | ERROR | |||||||||||||||||||||||||||||||||
847/2137 | GRridge 1.21.0 (landing page) | Mark A. van de Wiel | ERROR | |||||||||||||||||||||||||||||||||
848/2137 | GSALightning 1.25.0 (landing page) | Billy Heung Wing Chang | OK | |||||||||||||||||||||||||||||||||
849/2137 | GSAR 1.31.0 (landing page) | Yasir Rahmatallah | OK | |||||||||||||||||||||||||||||||||
850/2137 | GSCA 2.27.0 (landing page) | Zhicheng Ji | OK | |||||||||||||||||||||||||||||||||
851/2137 | gscreend 1.11.0 (landing page) | Katharina Imkeller | OK | |||||||||||||||||||||||||||||||||
852/2137 | GSEABase 1.59.0 (landing page) | Bioconductor Package Maintainer | OK | |||||||||||||||||||||||||||||||||
853/2137 | GSEABenchmarkeR 1.17.0 (landing page) | Ludwig Geistlinger | OK | |||||||||||||||||||||||||||||||||
854/2137 | GSEAlm 1.57.0 (landing page) | Assaf Oron | OK | |||||||||||||||||||||||||||||||||
855/2137 | GSEAmining 1.7.0 (landing page) | Oriol Arqués | OK | |||||||||||||||||||||||||||||||||
856/2137 | gsean 1.17.0 (landing page) | Dongmin Jung | ERROR | |||||||||||||||||||||||||||||||||
857/2137 | GSgalgoR 1.7.0 (landing page) | Carlos Catania | OK | |||||||||||||||||||||||||||||||||
858/2137 | GSReg 1.31.0 (landing page) | Bahman Afsari | WARNINGS | |||||||||||||||||||||||||||||||||
859/2137 | GSRI 2.45.0 (landing page) | Julian Gehring | OK | |||||||||||||||||||||||||||||||||
860/2137 | GSVA 1.45.2 (landing page) | Justin Guinney | OK | |||||||||||||||||||||||||||||||||
861/2137 | gtrellis 1.29.0 (landing page) | Zuguang Gu | OK | |||||||||||||||||||||||||||||||||
862/2137 | GUIDEseq 1.27.2 (landing page) | Lihua Julie Zhu | WARNINGS | |||||||||||||||||||||||||||||||||
863/2137 | Guitar 2.13.0 (landing page) | Jia Meng | OK | |||||||||||||||||||||||||||||||||
864/2137 | Gviz 1.41.1 (landing page) | Robert Ivanek | OK | |||||||||||||||||||||||||||||||||
865/2137 | GWAS.BAYES 1.7.0 (landing page) | Jake Williams | OK | |||||||||||||||||||||||||||||||||
866/2137 | gwascat 2.29.1 (landing page) | VJ Carey | OK | |||||||||||||||||||||||||||||||||
867/2137 | GWASTools 1.43.0 (landing page) | Stephanie M. Gogarten | OK | |||||||||||||||||||||||||||||||||
868/2137 | gwasurvivr 1.15.0 (landing page) | Abbas Rizvi | OK | |||||||||||||||||||||||||||||||||
869/2137 | GWENA 1.7.0 (landing page) | Gwenaëlle Lemoine | OK | |||||||||||||||||||||||||||||||||
|
| |||||||||||||||||||||||||||||||||||
Package | Maintainer | INSTALL/BUILD/CHECK | ||||||||||||||||||||||||||||||||||
870/2137 | h5vc 2.31.1 (landing page) | Paul Theodor Pyl | ERROR | |||||||||||||||||||||||||||||||||
871/2137 | hapFabia 1.39.0 (landing page) | Andreas Mitterecker | WARNINGS | |||||||||||||||||||||||||||||||||
872/2137 | Harman 1.25.0 (landing page) | Jason Ross | OK | |||||||||||||||||||||||||||||||||
873/2137 | Harshlight 1.69.0 (landing page) | Maurizio Pellegrino | OK | |||||||||||||||||||||||||||||||||
874/2137 | hca 1.5.6 (landing page) | Martin Morgan | OK | |||||||||||||||||||||||||||||||||
875/2137 | HDF5Array 1.25.2 (landing page) | Hervé Pagès | OK | |||||||||||||||||||||||||||||||||
876/2137 | HDTD 1.31.0 (landing page) | Anestis Touloumis | OK | |||||||||||||||||||||||||||||||||
877/2137 | heatmaps 1.21.0 (landing page) | Malcolm Perry | OK | |||||||||||||||||||||||||||||||||
878/2137 | Heatplus 3.5.0 (landing page) | Alexander Ploner | OK | |||||||||||||||||||||||||||||||||
879/2137 | HelloRanges 1.23.0 (landing page) | Michael Lawrence | ERROR | |||||||||||||||||||||||||||||||||
880/2137 | HELP 1.55.0 (landing page) | Reid F. Thompson | OK | |||||||||||||||||||||||||||||||||
881/2137 | HEM 1.69.0 (landing page) | HyungJun Cho | OK | |||||||||||||||||||||||||||||||||
882/2137 | hermes 1.1.1 (landing page) | Daniel Sabanés Bové | OK | |||||||||||||||||||||||||||||||||
883/2137 | Herper 1.7.0 (landing page) | Thomas Carroll | TIMEOUT | |||||||||||||||||||||||||||||||||
884/2137 | HGC 1.5.0 (landing page) | XGlab | WARNINGS | |||||||||||||||||||||||||||||||||
885/2137 | hiAnnotator 1.31.0 (landing page) | Nirav V Malani | OK | |||||||||||||||||||||||||||||||||
886/2137 | HIBAG 1.33.1 (landing page) | Xiuwen Zheng | OK | |||||||||||||||||||||||||||||||||
887/2137 | HiCBricks 1.15.0 (landing page) | Koustav Pal | OK | |||||||||||||||||||||||||||||||||
888/2137 | HiCcompare 1.19.0 (landing page) | John Stansfield | WARNINGS | |||||||||||||||||||||||||||||||||
889/2137 | HiCDCPlus 1.5.2 (landing page) | Merve Sahin | OK | |||||||||||||||||||||||||||||||||
890/2137 | HiCDOC 0.99.15 (landing page) | Maigné Élise | ERROR | |||||||||||||||||||||||||||||||||
891/2137 | hierGWAS 1.27.0 (landing page) | Laura Buzdugan | OK | |||||||||||||||||||||||||||||||||
892/2137 | hierinf 1.15.0 (landing page) | Claude Renaux | OK | |||||||||||||||||||||||||||||||||
893/2137 | HilbertCurve 1.27.0 (landing page) | Zuguang Gu | OK | |||||||||||||||||||||||||||||||||
894/2137 | HilbertVis 1.55.0 (landing page) | Simon Anders | WARNINGS | |||||||||||||||||||||||||||||||||
895/2137 | HilbertVisGUI 1.55.0 (landing page) | Simon Anders | WARNINGS | |||||||||||||||||||||||||||||||||
896/2137 | HiLDA 1.11.0 (landing page) | Zhi Yang | ERROR | |||||||||||||||||||||||||||||||||
897/2137 | hipathia 2.13.1 (landing page) | Marta R. Hidalgo | ERROR | |||||||||||||||||||||||||||||||||
898/2137 | HIPPO 1.9.0 (landing page) | Tae Kim | OK | |||||||||||||||||||||||||||||||||
899/2137 | hiReadsProcessor 1.33.0 (landing page) | Nirav V Malani | OK | |||||||||||||||||||||||||||||||||
900/2137 | HIREewas 1.15.0 (landing page) | Xiangyu Luo | OK | |||||||||||||||||||||||||||||||||
901/2137 | HiTC 1.41.0 (landing page) | Nicolas Servant | OK | |||||||||||||||||||||||||||||||||
902/2137 | hmdbQuery 1.17.0 (landing page) | VJ Carey | OK | |||||||||||||||||||||||||||||||||
903/2137 | HMMcopy 1.39.0 (landing page) | Daniel Lai | WARNINGS | |||||||||||||||||||||||||||||||||
904/2137 | hopach 2.57.0 (landing page) | Katherine S. Pollard | OK | |||||||||||||||||||||||||||||||||
905/2137 | HPAanalyze 1.15.0 (landing page) | Anh Nhat Tran | OK | |||||||||||||||||||||||||||||||||
906/2137 | hpar 1.39.0 (landing page) | Laurent Gatto | OK | |||||||||||||||||||||||||||||||||
907/2137 | HPAStainR 1.7.0 (landing page) | Tim O. Nieuwenhuis | OK | |||||||||||||||||||||||||||||||||
908/2137 | HPiP 1.3.0 (landing page) | Matineh Rahmatbakhsh | OK | |||||||||||||||||||||||||||||||||
909/2137 | HTqPCR 1.51.0 (landing page) | Heidi Dvinge | OK | |||||||||||||||||||||||||||||||||
910/2137 | HTSeqGenie 4.27.0 (landing page) | Jens Reeder | ERROR | |||||||||||||||||||||||||||||||||
911/2137 | HTSFilter 1.37.0 (landing page) | Andrea Rau | OK | |||||||||||||||||||||||||||||||||
912/2137 | HubPub 1.5.0 (landing page) | Kayla Interdonato | OK | |||||||||||||||||||||||||||||||||
913/2137 | HumanTranscriptomeCompendium 1.13.0 (landing page) | VJ Carey | OK | |||||||||||||||||||||||||||||||||
914/2137 | hummingbird 1.7.0 (landing page) | Eleni Adam | OK | |||||||||||||||||||||||||||||||||
915/2137 | HybridMTest 1.41.0 (landing page) | Demba Fofana | OK | |||||||||||||||||||||||||||||||||
916/2137 | hypeR 1.13.0 (landing page) | Anthony Federico | OK | |||||||||||||||||||||||||||||||||
917/2137 | hyperdraw 1.49.0 (landing page) | Paul Murrell | OK | |||||||||||||||||||||||||||||||||
918/2137 | hypergraph 1.69.0 (landing page) | Bioconductor Package Maintainer | OK | |||||||||||||||||||||||||||||||||
|
| |||||||||||||||||||||||||||||||||||
Package | Maintainer | INSTALL/BUILD/CHECK | ||||||||||||||||||||||||||||||||||
919/2137 | iASeq 1.41.0 (landing page) | Yingying Wei | OK | |||||||||||||||||||||||||||||||||
920/2137 | iasva 1.15.0 (landing page) | Donghyung Lee | OK | |||||||||||||||||||||||||||||||||
921/2137 | iBBiG 1.41.0 (landing page) | Aedin Culhane | OK | |||||||||||||||||||||||||||||||||
922/2137 | ibh 1.45.0 (landing page) | Kircicegi Korkmaz | OK | |||||||||||||||||||||||||||||||||
923/2137 | iBMQ 1.37.0 (landing page) | Greg Imholte | WARNINGS | |||||||||||||||||||||||||||||||||
924/2137 | iCARE 1.25.0 (landing page) | Bill Wheeler | WARNINGS | |||||||||||||||||||||||||||||||||
925/2137 | Icens 1.69.0 (landing page) | Bioconductor Package Maintainer | OK | |||||||||||||||||||||||||||||||||
926/2137 | icetea 1.15.0 (landing page) | Vivek Bhardwaj | OK | |||||||||||||||||||||||||||||||||
927/2137 | iCheck 1.27.0 (landing page) | Weiliang Qiu | ERROR | |||||||||||||||||||||||||||||||||
928/2137 | iChip 1.51.0 (landing page) | Qianxing Mo | OK | |||||||||||||||||||||||||||||||||
929/2137 | iClusterPlus 1.33.0 (landing page) | Qianxing Mo | WARNINGS | |||||||||||||||||||||||||||||||||
930/2137 | iCNV 1.17.0 (landing page) | Zilu Zhou | WARNINGS | |||||||||||||||||||||||||||||||||
931/2137 | iCOBRA 1.25.1 (landing page) | Charlotte Soneson | OK | |||||||||||||||||||||||||||||||||
932/2137 | ideal 1.21.0 (landing page) | Federico Marini | OK | |||||||||||||||||||||||||||||||||
933/2137 | IdeoViz 1.33.0 (landing page) | Shraddha Pai | WARNINGS | |||||||||||||||||||||||||||||||||
934/2137 | idiogram 1.73.0 (landing page) | Karl J. Dykema | OK | |||||||||||||||||||||||||||||||||
935/2137 | idpr 1.7.01 (landing page) | William M. McFadden | OK | |||||||||||||||||||||||||||||||||
936/2137 | idr2d 1.11.0 (landing page) | Konstantin Krismer | OK | |||||||||||||||||||||||||||||||||
937/2137 | iGC 1.27.0 (landing page) | Liang-Bo Wang | OK | |||||||||||||||||||||||||||||||||
938/2137 | IgGeneUsage 1.11.1 (landing page) | Simo Kitanovski | ERROR | |||||||||||||||||||||||||||||||||
939/2137 | igvR 1.17.21 (landing page) | Paul Shannon | ERROR | |||||||||||||||||||||||||||||||||
940/2137 | IHW 1.25.0 (landing page) | Nikos Ignatiadis | ERROR | |||||||||||||||||||||||||||||||||
941/2137 | illuminaio 0.39.0 (landing page) | Kasper Daniel Hansen | WARNINGS | |||||||||||||||||||||||||||||||||
942/2137 | ILoReg 1.7.0 (landing page) | Johannes Smolander | WARNINGS | |||||||||||||||||||||||||||||||||
943/2137 | Joseph Barry | WARNINGS | ||||||||||||||||||||||||||||||||||
944/2137 | IMAS 1.21.0 (landing page) | Seonggyun Han | OK | |||||||||||||||||||||||||||||||||
945/2137 | imcRtools 1.3.5 (landing page) | Nils Eling | OK | |||||||||||||||||||||||||||||||||
946/2137 | IMMAN 1.17.0 (landing page) | Minoo Ashtiani | OK | |||||||||||||||||||||||||||||||||
947/2137 | ImmuneSpaceR 1.25.0 (landing page) | ImmuneSpace Package Maintainer | OK | |||||||||||||||||||||||||||||||||
948/2137 | immunoClust 1.29.0 (landing page) | Till Soerensen | OK | |||||||||||||||||||||||||||||||||
949/2137 | immunotation 1.5.0 (landing page) | Katharina Imkeller | OK | |||||||||||||||||||||||||||||||||
950/2137 | IMPCdata 1.33.0 (landing page) | Jeremy Mason | OK | |||||||||||||||||||||||||||||||||
951/2137 | impute 1.71.0 (landing page) | Balasubramanian Narasimhan | OK | |||||||||||||||||||||||||||||||||
952/2137 | INDEED 2.11.0 (landing page) | Ressom group | OK | |||||||||||||||||||||||||||||||||
953/2137 | infercnv 1.13.0 (landing page) | Christophe Georgescu | ERROR | |||||||||||||||||||||||||||||||||
954/2137 | infinityFlow 1.7.0 (landing page) | Etienne Becht | OK | |||||||||||||||||||||||||||||||||
955/2137 | Informeasure 1.7.0 (landing page) | Chu Pan | OK | |||||||||||||||||||||||||||||||||
956/2137 | InPAS 2.5.0 (landing page) | Jianhong Ou | OK | |||||||||||||||||||||||||||||||||
957/2137 | INPower 1.33.0 (landing page) | Bill Wheeler | OK | |||||||||||||||||||||||||||||||||
958/2137 | INSPEcT 1.27.0 (landing page) | Stefano de Pretis | OK | |||||||||||||||||||||||||||||||||
959/2137 | InTAD 1.17.0 (landing page) | Konstantin Okonechnikov | OK | |||||||||||||||||||||||||||||||||
960/2137 | intansv 1.37.0 (landing page) | Wen Yao | OK | |||||||||||||||||||||||||||||||||
961/2137 | interacCircos 1.7.0 (landing page) | Zhe Cui | OK | |||||||||||||||||||||||||||||||||
962/2137 | InteractionSet 1.25.0 (landing page) | Aaron Lun | WARNINGS | |||||||||||||||||||||||||||||||||
963/2137 | InteractiveComplexHeatmap 1.5.0 (landing page) | Zuguang Gu | OK | |||||||||||||||||||||||||||||||||
964/2137 | interactiveDisplay 1.35.0 (landing page) | Bioconductor Package Maintainer | OK | |||||||||||||||||||||||||||||||||
965/2137 | interactiveDisplayBase 1.35.0 (landing page) | Bioconductor Package Maintainer | OK | |||||||||||||||||||||||||||||||||
966/2137 | InterCellar 2.3.0 (landing page) | Marta Interlandi | OK | |||||||||||||||||||||||||||||||||
967/2137 | IntEREst 1.21.1 (landing page) | Ali Oghabian | OK | |||||||||||||||||||||||||||||||||
968/2137 | InterMineR 1.19.0 (landing page) | InterMine Team | WARNINGS | |||||||||||||||||||||||||||||||||
969/2137 | IntramiRExploreR 1.19.0 (landing page) | Surajit Bhattacharya | WARNINGS | |||||||||||||||||||||||||||||||||
970/2137 | Alejandro Caceres | ERROR | ||||||||||||||||||||||||||||||||||
971/2137 | IONiseR 2.21.0 (landing page) | Mike Smith | OK | |||||||||||||||||||||||||||||||||
972/2137 | iPAC 1.41.0 (landing page) | Gregory Ryslik | OK | |||||||||||||||||||||||||||||||||
973/2137 | iPath 1.3.0 (landing page) | Kenong Su | ERROR | |||||||||||||||||||||||||||||||||
974/2137 | ipdDb 1.15.0 (landing page) | Steffen Klasberg | OK | |||||||||||||||||||||||||||||||||
975/2137 | Thomas Riebenbauer | ERROR | ||||||||||||||||||||||||||||||||||
976/2137 | IRanges 2.31.0 (landing page) | Bioconductor Package Maintainer | WARNINGS | |||||||||||||||||||||||||||||||||
977/2137 | IRISFGM 1.5.0 (landing page) | Yuzhou Chang | OK | |||||||||||||||||||||||||||||||||
978/2137 | ISAnalytics 1.7.3 (landing page) | Andrea Calabria | OK | |||||||||||||||||||||||||||||||||
979/2137 | iSEE 2.9.8 (landing page) | Kevin Rue-Albrecht | WARNINGS | |||||||||||||||||||||||||||||||||
980/2137 | iSEEhex 0.99.2 (landing page) | Kevin Rue-Albrecht | OK | |||||||||||||||||||||||||||||||||
981/2137 | iSEEu 1.9.2 (landing page) | Kevin Rue-Albrecht | WARNINGS | |||||||||||||||||||||||||||||||||
982/2137 | iSeq 1.49.0 (landing page) | Qianxing Mo | OK | |||||||||||||||||||||||||||||||||
983/2137 | isobar 1.43.0 (landing page) | Florian P Breitwieser | WARNINGS | |||||||||||||||||||||||||||||||||
984/2137 | IsoCorrectoR 1.15.0 (landing page) | Christian Kohler | OK | |||||||||||||||||||||||||||||||||
985/2137 | IsoCorrectoRGUI 1.13.0 (landing page) | Christian Kohler | OK | |||||||||||||||||||||||||||||||||
986/2137 | IsoformSwitchAnalyzeR 1.19.0 (landing page) | Kristoffer Vitting-Seerup | OK | |||||||||||||||||||||||||||||||||
987/2137 | IsoGeneGUI 2.33.0 (landing page) | Setia Pramana | ERROR | |||||||||||||||||||||||||||||||||
988/2137 | ISoLDE 1.25.0 (landing page) | Christelle Reynès | WARNINGS | |||||||||||||||||||||||||||||||||
989/2137 | isomiRs 1.25.1 (landing page) | Lorena Pantano | OK | |||||||||||||||||||||||||||||||||
990/2137 | ITALICS 2.57.0 (landing page) | Guillem Rigaill | OK | |||||||||||||||||||||||||||||||||
991/2137 | iterativeBMA 1.55.0 (landing page) | Ka Yee Yeung | OK | |||||||||||||||||||||||||||||||||
992/2137 | iterativeBMAsurv 1.55.0 (landing page) | Ka Yee Yeung | OK | |||||||||||||||||||||||||||||||||
993/2137 | iterClust 1.19.0 (landing page) | Hongxu Ding | OK | |||||||||||||||||||||||||||||||||
994/2137 | Jiacheng Chuan | ERROR | ||||||||||||||||||||||||||||||||||
995/2137 | IVAS 2.17.0 (landing page) | Seonggyun Han | WARNINGS | |||||||||||||||||||||||||||||||||
996/2137 | ivygapSE 1.19.0 (landing page) | VJ Carey | OK | |||||||||||||||||||||||||||||||||
997/2137 | IWTomics 1.21.0 (landing page) | Marzia A Cremona | OK | |||||||||||||||||||||||||||||||||
|
| |||||||||||||||||||||||||||||||||||
Package | Maintainer | INSTALL/BUILD/CHECK | ||||||||||||||||||||||||||||||||||
998/2137 | karyoploteR 1.23.0 (landing page) | Bernat Gel | OK | |||||||||||||||||||||||||||||||||
999/2137 | katdetectr 0.99.10 (landing page) | Daan Hazelaar | OK | |||||||||||||||||||||||||||||||||
1000/2137 | KBoost 1.5.0 (landing page) | Luis F. Iglesias-Martinez | OK | |||||||||||||||||||||||||||||||||
1001/2137 | KCsmart 2.55.0 (landing page) | Jorma de Ronde | WARNINGS | |||||||||||||||||||||||||||||||||
1002/2137 | kebabs 1.31.0 (landing page) | Ulrich Bodenhofer | OK | |||||||||||||||||||||||||||||||||
1003/2137 | KEGGgraph 1.57.0 (landing page) | Jitao David Zhang | OK | |||||||||||||||||||||||||||||||||
1004/2137 | KEGGlincs 1.23.0 (landing page) | Shana White | OK | |||||||||||||||||||||||||||||||||
1005/2137 | keggorthology 2.49.0 (landing page) | VJ Carey | OK | |||||||||||||||||||||||||||||||||
1006/2137 | KEGGREST 1.37.3 (landing page) | Bioconductor Package Maintainer | OK | |||||||||||||||||||||||||||||||||
1007/2137 | KinSwingR 1.15.0 (landing page) | Ashley J. Waardenberg | OK | |||||||||||||||||||||||||||||||||
1008/2137 | kissDE 1.17.0 (landing page) | Aurélie Siberchicot | OK | |||||||||||||||||||||||||||||||||
1009/2137 | KnowSeq 1.11.2 (landing page) | Daniel Castillo-Secilla | OK | |||||||||||||||||||||||||||||||||
|
| |||||||||||||||||||||||||||||||||||
Package | Maintainer | INSTALL/BUILD/CHECK | ||||||||||||||||||||||||||||||||||
1010/2137 | LACE 2.1.0 (landing page) | Davide Maspero | OK | |||||||||||||||||||||||||||||||||
1011/2137 | lapmix 1.63.0 (landing page) | Yann Ruffieux | OK | |||||||||||||||||||||||||||||||||
1012/2137 | LBE 1.65.0 (landing page) | Cyril Dalmasso | OK | |||||||||||||||||||||||||||||||||
1013/2137 | ldblock 1.27.1 (landing page) | VJ Carey | OK | |||||||||||||||||||||||||||||||||
1014/2137 | LEA 3.9.0 (landing page) | Olivier Francois | OK | |||||||||||||||||||||||||||||||||
1015/2137 | LedPred 1.31.0 (landing page) | Aitor Gonzalez | OK | |||||||||||||||||||||||||||||||||
1016/2137 | lefser 1.7.0 (landing page) | Asya Khleborodova | OK | |||||||||||||||||||||||||||||||||
1017/2137 | les 1.47.0 (landing page) | Julian Gehring | OK | |||||||||||||||||||||||||||||||||
1018/2137 | levi 1.15.0 (landing page) | Jose Luiz Rybarczyk Filho | OK | |||||||||||||||||||||||||||||||||
1019/2137 | lfa 1.27.0 (landing page) | Wei Hao | WARNINGS | |||||||||||||||||||||||||||||||||
1020/2137 | limma 3.53.5 (landing page) | Gordon Smyth | WARNINGS | |||||||||||||||||||||||||||||||||
1021/2137 | limmaGUI 1.73.0 (landing page) | Gordon Smyth | OK | |||||||||||||||||||||||||||||||||
1022/2137 | LineagePulse 1.17.0 (landing page) | David S Fischer | WARNINGS | |||||||||||||||||||||||||||||||||
1023/2137 | lineagespot 1.1.1 (landing page) | Nikolaos Pechlivanis | OK | |||||||||||||||||||||||||||||||||
1024/2137 | LinkHD 1.11.0 (landing page) | "Laura M Zingaretti" | OK | |||||||||||||||||||||||||||||||||
1025/2137 | Linnorm 2.21.0 (landing page) | Ken Shun Hang Yip | OK | |||||||||||||||||||||||||||||||||
1026/2137 | LinTInd 1.1.0 (landing page) | Luyue Wang | OK | |||||||||||||||||||||||||||||||||
1027/2137 | lionessR 1.11.0 (landing page) | Ping-Han Hsieh | OK | |||||||||||||||||||||||||||||||||
1028/2137 | lipidr 2.11.0 (landing page) | Ahmed Mohamed | OK | |||||||||||||||||||||||||||||||||
1029/2137 | LiquidAssociation 1.51.0 (landing page) | Yen-Yi Ho | OK | |||||||||||||||||||||||||||||||||
1030/2137 | lisaClust 1.5.6 (landing page) | Ellis Patrick | WARNINGS | |||||||||||||||||||||||||||||||||
1031/2137 | lmdme 1.39.0 (landing page) | Cristobal Fresno | WARNINGS | |||||||||||||||||||||||||||||||||
1032/2137 | LOBSTAHS 1.23.0 (landing page) | Henry Holm | WARNINGS | |||||||||||||||||||||||||||||||||
1033/2137 | loci2path 1.17.0 (landing page) | Tianlei Xu | OK | |||||||||||||||||||||||||||||||||
1034/2137 | logicFS 2.17.0 (landing page) | Holger Schwender | OK | |||||||||||||||||||||||||||||||||
1035/2137 | logitT 1.55.0 (landing page) | Tobias Guennel | OK | |||||||||||||||||||||||||||||||||
1036/2137 | LOLA 1.27.0 (landing page) | Nathan Sheffield | OK | |||||||||||||||||||||||||||||||||
1037/2137 | LoomExperiment 1.15.0 (landing page) | Bioconductor Package Maintainer | OK | |||||||||||||||||||||||||||||||||
1038/2137 | LowMACA 1.27.0 (landing page) | Stefano de Pretis | ERROR | |||||||||||||||||||||||||||||||||
1039/2137 | LPE 1.71.0 (landing page) | Nitin Jain | OK | |||||||||||||||||||||||||||||||||
1040/2137 | LPEadj 1.57.0 (landing page) | Carl Murie | OK | |||||||||||||||||||||||||||||||||
1041/2137 | lpNet 2.29.0 (landing page) | Lars Kaderali | WARNINGS | |||||||||||||||||||||||||||||||||
1042/2137 | lpsymphony 1.25.0 (landing page) | Vladislav Kim | OK | |||||||||||||||||||||||||||||||||
1043/2137 | LRBaseDbi 2.7.0 (landing page) | Koki Tsuyuzaki | OK | |||||||||||||||||||||||||||||||||
1044/2137 | LRcell 1.5.0 (landing page) | Wenjing Ma | OK | |||||||||||||||||||||||||||||||||
1045/2137 | lumi 2.49.0 (landing page) | Lei Huang | WARNINGS | |||||||||||||||||||||||||||||||||
1046/2137 | LymphoSeq 1.25.0 (landing page) | David Coffey | OK | |||||||||||||||||||||||||||||||||
|
| |||||||||||||||||||||||||||||||||||
Package | Maintainer | INSTALL/BUILD/CHECK | ||||||||||||||||||||||||||||||||||
1047/2137 | M3C 1.19.0 (landing page) | Christopher John | OK | |||||||||||||||||||||||||||||||||
1048/2137 | M3Drop 1.23.0 (landing page) | Tallulah Andrews | WARNINGS | |||||||||||||||||||||||||||||||||
1049/2137 | m6Aboost 1.3.0 (landing page) | You Zhou | OK | |||||||||||||||||||||||||||||||||
1050/2137 | maanova 1.67.0 (landing page) | Keith Sheppard | WARNINGS | |||||||||||||||||||||||||||||||||
1051/2137 | Maaslin2 1.11.0 (landing page) | Lauren McIver | OK | |||||||||||||||||||||||||||||||||
1052/2137 | Macarron 1.1.0 (landing page) | Sagun Maharjan | ERROR | |||||||||||||||||||||||||||||||||
1053/2137 | macat 1.71.0 (landing page) | Joern Toedling | OK | |||||||||||||||||||||||||||||||||
1054/2137 | maCorrPlot 1.67.0 (landing page) | Alexander Ploner | OK | |||||||||||||||||||||||||||||||||
1055/2137 | Ioannis Vardaxis | ERROR | ||||||||||||||||||||||||||||||||||
1056/2137 | MACSQuantifyR 1.11.0 (landing page) | Raphaël Bonnet | OK | |||||||||||||||||||||||||||||||||
1057/2137 | MACSr 1.5.0 (landing page) | Qiang Hu | ERROR | |||||||||||||||||||||||||||||||||
1058/2137 | made4 1.71.0 (landing page) | Aedin Culhane | OK | |||||||||||||||||||||||||||||||||
1059/2137 | MADSEQ 1.23.0 (landing page) | Yu Kong | ERROR | |||||||||||||||||||||||||||||||||
1060/2137 | maftools 2.13.0 (landing page) | Anand Mayakonda | OK | |||||||||||||||||||||||||||||||||
1061/2137 | MAGAR 1.5.0 (landing page) | Michael Scherer | TIMEOUT | |||||||||||||||||||||||||||||||||
1062/2137 | MAGeCKFlute 2.1.0 (landing page) | Wubing Zhang | OK | |||||||||||||||||||||||||||||||||
1063/2137 | MAI 1.3.0 (landing page) | Jonathan Dekermanjian | OK | |||||||||||||||||||||||||||||||||
1064/2137 | maigesPack 1.61.0 (landing page) | Gustavo H. Esteves | OK | |||||||||||||||||||||||||||||||||
1065/2137 | MAIT 1.31.0 (landing page) | Pol Sola-Santos | TIMEOUT | |||||||||||||||||||||||||||||||||
1066/2137 | makecdfenv 1.73.0 (landing page) | James W. MacDonald | WARNINGS | |||||||||||||||||||||||||||||||||
1067/2137 | MANOR 1.69.0 (landing page) | Pierre Neuvial | WARNINGS | |||||||||||||||||||||||||||||||||
1068/2137 | MantelCorr 1.67.0 (landing page) | Brian Steinmeyer | OK | |||||||||||||||||||||||||||||||||
1069/2137 | mAPKL 1.27.0 (landing page) | Argiris Sakellariou | OK | |||||||||||||||||||||||||||||||||
1070/2137 | maPredictDSC 1.35.0 (landing page) | Adi Laurentiu Tarca | OK | |||||||||||||||||||||||||||||||||
1071/2137 | mapscape 1.21.0 (landing page) | Maia Smith | WARNINGS | |||||||||||||||||||||||||||||||||
1072/2137 | marr 1.7.0 (landing page) | Tusharkanti Ghosh | TIMEOUT | |||||||||||||||||||||||||||||||||
1073/2137 | marray 1.75.0 (landing page) | Yee Hwa (Jean) Yang | OK | |||||||||||||||||||||||||||||||||
1074/2137 | martini 1.17.0 (landing page) | Hector Climente-Gonzalez | ERROR | |||||||||||||||||||||||||||||||||
1075/2137 | maser 1.15.0 (landing page) | Diogo F.T. Veiga | ERROR | |||||||||||||||||||||||||||||||||
1076/2137 | maSigPro 1.69.0 (landing page) | Maria Jose Nueda | OK | |||||||||||||||||||||||||||||||||
1077/2137 | maskBAD 1.41.0 (landing page) | Michael Dannemann | OK | |||||||||||||||||||||||||||||||||
1078/2137 | MassArray 1.49.0 (landing page) | Reid F. Thompson | OK | |||||||||||||||||||||||||||||||||
1079/2137 | massiR 1.33.0 (landing page) | Sam Buckberry | TIMEOUT | |||||||||||||||||||||||||||||||||
1080/2137 | MassSpecWavelet 1.63.1 (landing page) | Sergio Oller Moreno | TIMEOUT | |||||||||||||||||||||||||||||||||
1081/2137 | MAST 1.23.0 (landing page) | Andrew McDavid | TIMEOUT | |||||||||||||||||||||||||||||||||
1082/2137 | matchBox 1.39.0 (landing page) | Luigi Marchionni | TIMEOUT | |||||||||||||||||||||||||||||||||
1083/2137 | MatrixGenerics 1.9.1 (landing page) | Peter Hickey | TIMEOUT | |||||||||||||||||||||||||||||||||
1084/2137 | MatrixQCvis 1.5.3 (landing page) | Thomas Naake | TIMEOUT | |||||||||||||||||||||||||||||||||
1085/2137 | MatrixRider 1.29.0 (landing page) | Elena Grassi | TIMEOUT | |||||||||||||||||||||||||||||||||
1086/2137 | matter 1.23.0 (landing page) | Kylie A. Bemis | TIMEOUT | |||||||||||||||||||||||||||||||||
1087/2137 | MBAmethyl 1.31.0 (landing page) | Tao Wang | TIMEOUT | |||||||||||||||||||||||||||||||||
1088/2137 | MBASED 1.31.0 (landing page) | Oleg Mayba | TIMEOUT | |||||||||||||||||||||||||||||||||
1089/2137 | MBCB 1.51.0 (landing page) | Jeff Allen | TIMEOUT | |||||||||||||||||||||||||||||||||
1090/2137 | MBECS 1.1.0 (landing page) | Michael Olbrich | TIMEOUT | |||||||||||||||||||||||||||||||||
1091/2137 | mbkmeans 1.13.0 (landing page) | Davide Risso | TIMEOUT | |||||||||||||||||||||||||||||||||
1092/2137 | mbOmic 1.1.0 (landing page) | Congcong Gong | TIMEOUT | |||||||||||||||||||||||||||||||||
1093/2137 | mBPCR 1.51.0 (landing page) | P.M.V. Rancoita | TIMEOUT | |||||||||||||||||||||||||||||||||
1094/2137 | MBQN 2.9.0 (landing page) | Eva Brombacher | TIMEOUT | |||||||||||||||||||||||||||||||||
1095/2137 | MBttest 1.25.0 (landing page) | Yuan-De Tan | TIMEOUT | |||||||||||||||||||||||||||||||||
1096/2137 | MCbiclust 1.21.0 (landing page) | Robert Bentham | TIMEOUT | |||||||||||||||||||||||||||||||||
1097/2137 | mCSEA 1.17.0 (landing page) | Jordi Martorell-Marugán | TIMEOUT | |||||||||||||||||||||||||||||||||
1098/2137 | mdp 1.17.0 (landing page) | Helder Nakaya | TIMEOUT | |||||||||||||||||||||||||||||||||
1099/2137 | mdqc 1.59.0 (landing page) | Gabriela Cohen-Freue | TIMEOUT | |||||||||||||||||||||||||||||||||
1100/2137 | MDTS 1.17.0 (landing page) | Jack M.. Fu | TIMEOUT | |||||||||||||||||||||||||||||||||
1101/2137 | MEAL 1.27.0 (landing page) | Xavier Escribà Montagut | TIMEOUT | |||||||||||||||||||||||||||||||||
1102/2137 | MeasurementError.cor 1.69.0 (landing page) | Beiying Ding | TIMEOUT | |||||||||||||||||||||||||||||||||
1103/2137 | MEAT 1.9.0 (landing page) | Sarah Voisin | TIMEOUT | |||||||||||||||||||||||||||||||||
1104/2137 | MEB 1.11.0 (landing page) | Jiadi Zhu | TIMEOUT | |||||||||||||||||||||||||||||||||
1105/2137 | MEDIPS 1.49.0 (landing page) | Lukas Chavez | TIMEOUT | |||||||||||||||||||||||||||||||||
1106/2137 | MEDME 1.57.0 (landing page) | Mattia Pelizzola | TIMEOUT | |||||||||||||||||||||||||||||||||
1107/2137 | megadepth 1.7.0 (landing page) | David Zhang | TIMEOUT | |||||||||||||||||||||||||||||||||
1108/2137 | MEIGOR 1.31.0 (landing page) | Jose A. Egea | TIMEOUT | |||||||||||||||||||||||||||||||||
1109/2137 | Melissa 1.13.0 (landing page) | C. A. Kapourani | TIMEOUT | |||||||||||||||||||||||||||||||||
1110/2137 | memes 1.5.2 (landing page) | Spencer Nystrom | TIMEOUT | |||||||||||||||||||||||||||||||||
1111/2137 | Mergeomics 1.25.0 (landing page) | Zeyneb Kurt | TIMEOUT | |||||||||||||||||||||||||||||||||
1112/2137 | MeSHDbi 1.33.0 (landing page) | Koki Tsuyuzaki | TIMEOUT | |||||||||||||||||||||||||||||||||
1113/2137 | meshes 1.23.0 (landing page) | Guangchuang Yu | TIMEOUT | |||||||||||||||||||||||||||||||||
1114/2137 | meshr 2.3.0 (landing page) | Koki Tsuyuzaki | TIMEOUT | |||||||||||||||||||||||||||||||||
1115/2137 | MesKit 1.7.0 (landing page) | Mengni Liu | TIMEOUT | |||||||||||||||||||||||||||||||||
1116/2137 | messina 1.33.0 (landing page) | Mark Pinese | TIMEOUT | |||||||||||||||||||||||||||||||||
1117/2137 | Metab 1.31.0 (landing page) | Raphael Aggio | TIMEOUT | |||||||||||||||||||||||||||||||||
1118/2137 | metabCombiner 1.7.0 (landing page) | Hani Habra | TIMEOUT | |||||||||||||||||||||||||||||||||
1119/2137 | MetaboAnnotation 1.1.2 (landing page) | Johannes Rainer | OK | |||||||||||||||||||||||||||||||||
1120/2137 | MetaboCoreUtils 1.5.1 (landing page) | Johannes Rainer | OK | |||||||||||||||||||||||||||||||||
1121/2137 | metabolomicsWorkbenchR 1.7.0 (landing page) | Gavin Rhys Lloyd | OK | |||||||||||||||||||||||||||||||||
1122/2137 | metabomxtr 1.31.0 (landing page) | Michael Nodzenski | OK | |||||||||||||||||||||||||||||||||
1123/2137 | MetaboSignal 1.27.2 (landing page) | Andrea Rodriguez-Martinez | OK | |||||||||||||||||||||||||||||||||
1124/2137 | metaCCA 1.25.0 (landing page) | Anna Cichonska | WARNINGS | |||||||||||||||||||||||||||||||||
1125/2137 | MetaCyto 1.19.0 (landing page) | Zicheng Hu | OK | |||||||||||||||||||||||||||||||||
1126/2137 | metagene 2.29.0 (landing page) | Charles Joly Beauparlant | ERROR | |||||||||||||||||||||||||||||||||
1127/2137 | metagene2 1.13.0 (landing page) | Eric Fournier | OK | |||||||||||||||||||||||||||||||||
1128/2137 | metagenomeSeq 1.39.0 (landing page) | Joseph N. Paulson | OK | |||||||||||||||||||||||||||||||||
1129/2137 | metahdep 1.55.0 (landing page) | John R. Stevens | WARNINGS | |||||||||||||||||||||||||||||||||
1130/2137 | metaMS 1.33.0 (landing page) | Yann Guitton | OK | |||||||||||||||||||||||||||||||||
1131/2137 | MetaNeighbor 1.17.0 (landing page) | Stephan Fischer | OK | |||||||||||||||||||||||||||||||||
1132/2137 | metapod 1.5.0 (landing page) | Aaron Lun | OK | |||||||||||||||||||||||||||||||||
1133/2137 | metapone 1.3.2 (landing page) | Tianwei Yu | OK | |||||||||||||||||||||||||||||||||
1134/2137 | metaSeq 1.37.0 (landing page) | Koki Tsuyuzaki | OK | |||||||||||||||||||||||||||||||||
1135/2137 | metaseqR2 1.9.2 (landing page) | Panagiotis Moulos | WARNINGS | |||||||||||||||||||||||||||||||||
1136/2137 | metavizr 1.21.0 (landing page) | Hector Corrada Bravo | ERROR | |||||||||||||||||||||||||||||||||
1137/2137 | MetaVolcanoR 1.11.0 (landing page) | Cesar Prada | OK | |||||||||||||||||||||||||||||||||
1138/2137 | MetCirc 1.27.0 (landing page) | Thomas Naake | OK | |||||||||||||||||||||||||||||||||
1139/2137 | MethCP 1.11.0 (landing page) | Boying Gong | ERROR | |||||||||||||||||||||||||||||||||
1140/2137 | methimpute 1.19.0 (landing page) | Aaron Taudt | OK | |||||||||||||||||||||||||||||||||
1141/2137 | methInheritSim 1.19.0 (landing page) | Pascal Belleau | OK | |||||||||||||||||||||||||||||||||
1142/2137 | MethPed 1.25.0 (landing page) | Helena Carén | NA | |||||||||||||||||||||||||||||||||
1143/2137 | MethReg 1.7.0 (landing page) | Tiago Silva | WARNINGS | |||||||||||||||||||||||||||||||||
1144/2137 | methrix 1.11.0 (landing page) | Anand Mayakonda | NA | |||||||||||||||||||||||||||||||||
1145/2137 | MethTargetedNGS 1.29.0 (landing page) | Muhammad Ahmer Jamil | NA | |||||||||||||||||||||||||||||||||
1146/2137 | MethylAid 1.31.0 (landing page) | L.J.Sinke | NA | |||||||||||||||||||||||||||||||||
1147/2137 | methylCC 1.11.0 (landing page) | Stephanie C. Hicks | NA | |||||||||||||||||||||||||||||||||
1148/2137 | methylclock 1.3.1 (landing page) | Dolors Pelegri-Siso | ERROR | |||||||||||||||||||||||||||||||||
1149/2137 | methylGSA 1.15.0 (landing page) | Xu Ren | NA | |||||||||||||||||||||||||||||||||
1150/2137 | methylInheritance 1.21.0 (landing page) | Astrid Deschênes | NA | |||||||||||||||||||||||||||||||||
1151/2137 | methylKit 1.23.0 (landing page) | Altuna Akalin | WARNINGS | |||||||||||||||||||||||||||||||||
1152/2137 | MethylMix 2.27.0 (landing page) | Olivier Gevaert | NA | |||||||||||||||||||||||||||||||||
1153/2137 | methylMnM 1.35.0 (landing page) | Yan Zhou | NA | |||||||||||||||||||||||||||||||||
1154/2137 | methylPipe 1.31.0 (landing page) | Kamal Kishore | WARNINGS | |||||||||||||||||||||||||||||||||
1155/2137 | methylscaper 1.5.0 (landing page) | Bacher Rhonda | NA | |||||||||||||||||||||||||||||||||
1156/2137 | MethylSeekR 1.37.0 (landing page) | Lukas Burger | NA | |||||||||||||||||||||||||||||||||
1157/2137 | methylSig 1.9.0 (landing page) | Raymond G. Cavalcante | NA | |||||||||||||||||||||||||||||||||
1158/2137 | methylumi 2.43.0 (landing page) | Sean Davis | NA | |||||||||||||||||||||||||||||||||
1159/2137 | MetID 1.15.0 (landing page) | Zhenzhi Li | NA | |||||||||||||||||||||||||||||||||
1160/2137 | MetNet 1.15.3 (landing page) | Thomas Naake | NA | |||||||||||||||||||||||||||||||||
1161/2137 | mfa 1.19.0 (landing page) | Kieran Campbell | NA | |||||||||||||||||||||||||||||||||
1162/2137 | Mfuzz 2.57.1 (landing page) | Matthias Futschik | WARNINGS | |||||||||||||||||||||||||||||||||
1163/2137 | MGFM 1.31.0 (landing page) | Khadija El Amrani | NA | |||||||||||||||||||||||||||||||||
1164/2137 | MGFR 1.23.0 (landing page) | Khadija El Amrani | NA | |||||||||||||||||||||||||||||||||
1165/2137 | mgsa 1.45.0 (landing page) | Sebastian Bauer | NA | |||||||||||||||||||||||||||||||||
1166/2137 | mia 1.5.4 (landing page) | Tuomas Borman | NA | |||||||||||||||||||||||||||||||||
1167/2137 | miaSim 1.3.0 (landing page) | Yagmur Simsek | NA | |||||||||||||||||||||||||||||||||
1168/2137 | miaViz 1.5.1 (landing page) | Tuomas Borman | NA | |||||||||||||||||||||||||||||||||
1169/2137 | MiChip 1.51.0 (landing page) | Jonathon Blake | NA | |||||||||||||||||||||||||||||||||
1170/2137 | microbiome 1.19.0 (landing page) | Leo Lahti | NA | |||||||||||||||||||||||||||||||||
1171/2137 | microbiomeDASim 1.11.0 (landing page) | Justin Williams | NA | |||||||||||||||||||||||||||||||||
1172/2137 | microbiomeExplorer 1.7.0 (landing page) | Janina Reeder | ERROR | |||||||||||||||||||||||||||||||||
1173/2137 | microbiomeMarker 1.3.2 (landing page) | Yang Cao | NA | |||||||||||||||||||||||||||||||||
1174/2137 | MicrobiomeProfiler 1.3.0 (landing page) | Meijun Chen | NA | |||||||||||||||||||||||||||||||||
1175/2137 | MicrobiotaProcess 1.9.2 (landing page) | Shuangbin Xu | NA | |||||||||||||||||||||||||||||||||
1176/2137 | microRNA 1.55.0 (landing page) | "James F. Reid" | NA | |||||||||||||||||||||||||||||||||
1177/2137 | midasHLA 1.5.0 (landing page) | Maciej Migdał | ERROR | |||||||||||||||||||||||||||||||||
1178/2137 | MIGSA 1.21.0 (landing page) | Juan C. Rodriguez | ERROR | |||||||||||||||||||||||||||||||||
1179/2137 | miloR 1.5.0 (landing page) | Mike Morgan | ERROR | |||||||||||||||||||||||||||||||||
1180/2137 | mimager 1.21.0 (landing page) | Aaron Wolen | NA | |||||||||||||||||||||||||||||||||
1181/2137 | MIMOSA 1.35.0 (landing page) | Greg Finak | WARNINGS | |||||||||||||||||||||||||||||||||
1182/2137 | mina 1.5.0 (landing page) | Rui Guan | WARNINGS | |||||||||||||||||||||||||||||||||
1183/2137 | MineICA 1.37.0 (landing page) | Anne Biton | ERROR | |||||||||||||||||||||||||||||||||
1184/2137 | minet 3.55.0 (landing page) | Patrick E. Meyer | NA | |||||||||||||||||||||||||||||||||
1185/2137 | minfi 1.43.0 (landing page) | Kasper Daniel Hansen | NA | |||||||||||||||||||||||||||||||||
1186/2137 | MinimumDistance 1.41.0 (landing page) | Robert Scharpf | WARNINGS | |||||||||||||||||||||||||||||||||
1187/2137 | MiPP 1.69.0 (landing page) | Sukwoo Kim | NA | |||||||||||||||||||||||||||||||||
1188/2137 | miQC 1.5.4 (landing page) | Ariel Hippen | NA | |||||||||||||||||||||||||||||||||
1189/2137 | MIRA 1.19.0 (landing page) | John Lawson | NA | |||||||||||||||||||||||||||||||||
1190/2137 | MiRaGE 1.39.0 (landing page) | Y-h. Taguchi | WARNINGS | |||||||||||||||||||||||||||||||||
1191/2137 | miRBaseConverter 1.21.0 (landing page) | Taosheng Xu | NA | |||||||||||||||||||||||||||||||||
1192/2137 | miRcomp 1.27.0 (landing page) | Matthew N. McCall | WARNINGS | |||||||||||||||||||||||||||||||||
1193/2137 | mirIntegrator 1.27.0 (landing page) | Diana Diaz | NA | |||||||||||||||||||||||||||||||||
1194/2137 | miRLAB 1.27.0 (landing page) | Thuc Duy Le | NA | |||||||||||||||||||||||||||||||||
1195/2137 | miRmine 1.19.0 (landing page) | Dusan Randjelovic | NA | |||||||||||||||||||||||||||||||||
1196/2137 | miRNAmeConverter 1.25.0 (landing page) | Stefan J. Haunsberger | WARNINGS | |||||||||||||||||||||||||||||||||
1197/2137 | miRNApath 1.57.0 (landing page) | James M. Ward | NA | |||||||||||||||||||||||||||||||||
1198/2137 | miRNAtap 1.31.0 (landing page) | T. Ian Simpson | NA | |||||||||||||||||||||||||||||||||
1199/2137 | miRSM 1.15.0 (landing page) | Junpeng Zhang | ERROR | |||||||||||||||||||||||||||||||||
1200/2137 | miRspongeR 2.1.0 (landing page) | Junpeng Zhang | ERROR | |||||||||||||||||||||||||||||||||
1201/2137 | mirTarRnaSeq 1.5.1 (landing page) | Mercedeh Movassagh | NA | |||||||||||||||||||||||||||||||||
1202/2137 | missMethyl 1.31.0 (landing page) | Belinda Phipson | NA | |||||||||||||||||||||||||||||||||
1203/2137 | missRows 1.17.0 (landing page) | Gonzalez Ignacio | NA | |||||||||||||||||||||||||||||||||
1204/2137 | mistyR 1.5.1 (landing page) | Jovan Tanevski | ERROR | |||||||||||||||||||||||||||||||||
1205/2137 | mitch 1.9.0 (landing page) | Mark Ziemann | NA | |||||||||||||||||||||||||||||||||
1206/2137 | mitoClone2 1.3.0 (landing page) | Benjamin Story | WARNINGS | |||||||||||||||||||||||||||||||||
1207/2137 | mixOmics 6.21.0 (landing page) | Al J Abadi | NA | |||||||||||||||||||||||||||||||||
1208/2137 | MLInterfaces 1.77.0 (landing page) | V. Carey | NA | |||||||||||||||||||||||||||||||||
1209/2137 | MLP 1.45.0 (landing page) | Tobias Verbeke | NA | |||||||||||||||||||||||||||||||||
1210/2137 | MLSeq 2.15.0 (landing page) | Gokmen Zararsiz | NA | |||||||||||||||||||||||||||||||||
1211/2137 | MMAPPR2 1.11.0 (landing page) | Jonathon Hill | ERROR | |||||||||||||||||||||||||||||||||
1212/2137 | MMDiff2 1.25.0 (landing page) | Gabriele Schweikert | WARNINGS | |||||||||||||||||||||||||||||||||
1213/2137 | MMUPHin 1.11.2 (landing page) | Siyuan MA | ERROR | |||||||||||||||||||||||||||||||||
1214/2137 | mnem 1.13.1 (landing page) | Martin Pirkl | NA | |||||||||||||||||||||||||||||||||
1215/2137 | moanin 1.5.0 (landing page) | Nelle Varoquaux | NA | |||||||||||||||||||||||||||||||||
1216/2137 | MobilityTransformR 1.1.0 (landing page) | Liesa Salzer | NA | |||||||||||||||||||||||||||||||||
1217/2137 | MODA 1.23.0 (landing page) | Dong Li | NA | |||||||||||||||||||||||||||||||||
1218/2137 | ModCon 1.5.0 (landing page) | Johannes Ptok | NA | |||||||||||||||||||||||||||||||||
1219/2137 | Modstrings 1.13.0 (landing page) | Felix G.M. Ernst | NA | |||||||||||||||||||||||||||||||||
1220/2137 | MOFA2 1.7.1 (landing page) | Britta Velten | ERROR | |||||||||||||||||||||||||||||||||
1221/2137 | MOGAMUN 1.7.0 (landing page) | Elva-María Novoa-del-Toro | NA | |||||||||||||||||||||||||||||||||
1222/2137 | mogsa 1.31.0 (landing page) | Chen Meng | NA | |||||||||||||||||||||||||||||||||
1223/2137 | MOMA 1.9.0 (landing page) | Sunny Jones | NA | |||||||||||||||||||||||||||||||||
1224/2137 | monaLisa 1.3.1 (landing page) | Michael Stadler | NA | |||||||||||||||||||||||||||||||||
1225/2137 | monocle 2.25.1 (landing page) | Cole Trapnell | NA | |||||||||||||||||||||||||||||||||
1226/2137 | MoonlightR 1.23.0 (landing page) | Matteo Tiberti | ERROR | |||||||||||||||||||||||||||||||||
1227/2137 | mosaics 2.35.0 (landing page) | Dongjun Chung | NA | |||||||||||||||||||||||||||||||||
1228/2137 | mosbi 1.3.0 (landing page) | Tim Daniel Rose | NA | |||||||||||||||||||||||||||||||||
1229/2137 | MOSim 1.11.0 (landing page) | Carlos Martínez | NA | |||||||||||||||||||||||||||||||||
1230/2137 | Motif2Site 1.1.0 (landing page) | Peyman Zarrineh | NA | |||||||||||||||||||||||||||||||||
1231/2137 | motifbreakR 2.11.0 (landing page) | Simon Gert Coetzee | ERROR | |||||||||||||||||||||||||||||||||
1232/2137 | motifcounter 1.21.0 (landing page) | Wolfgang Kopp | ERROR | |||||||||||||||||||||||||||||||||
1233/2137 | MotifDb 1.39.0 (landing page) | Paul Shannon | WARNINGS | |||||||||||||||||||||||||||||||||
1234/2137 | motifmatchr 1.19.0 (landing page) | Alicia Schep | NA | |||||||||||||||||||||||||||||||||
1235/2137 | motifStack 1.41.1 (landing page) | Jianhong Ou | NA | |||||||||||||||||||||||||||||||||
1236/2137 | MouseFM 1.7.0 (landing page) | Matthias Munz | NA | |||||||||||||||||||||||||||||||||
1237/2137 | MPFE 1.33.0 (landing page) | Conrad Burden | NA | |||||||||||||||||||||||||||||||||
1238/2137 | mpra 1.19.0 (landing page) | Leslie Myint | NA | |||||||||||||||||||||||||||||||||
1239/2137 | MPRAnalyze 1.15.0 (landing page) | Tal Ashuach | NA | |||||||||||||||||||||||||||||||||
1240/2137 | MQmetrics 1.5.0 (landing page) | Alvaro Sanchez-Villalba | NA | |||||||||||||||||||||||||||||||||
1241/2137 | msa 1.29.2 (landing page) | Ulrich Bodenhofer | WARNINGS | |||||||||||||||||||||||||||||||||
1242/2137 | MSA2dist 1.1.4 (landing page) | Kristian K Ullrich | NA | |||||||||||||||||||||||||||||||||
1243/2137 | MsBackendMassbank 1.5.0 (landing page) | RforMassSpectrometry Package Maintainer | NA | |||||||||||||||||||||||||||||||||
1244/2137 | MsBackendMgf 1.5.0 (landing page) | RforMassSpectrometry Package Maintainer | NA | |||||||||||||||||||||||||||||||||
1245/2137 | MsBackendMsp 1.1.0 (landing page) | Johannes Rainer | NA | |||||||||||||||||||||||||||||||||
1246/2137 | MsBackendRawFileReader 1.3.0 (landing page) | Christian Panse | NA | |||||||||||||||||||||||||||||||||
1247/2137 | MsCoreUtils 1.9.1 (landing page) | RforMassSpectrometry Package Maintainer | NA | |||||||||||||||||||||||||||||||||
1248/2137 | MsFeatures 1.5.0 (landing page) | Johannes Rainer | NA | |||||||||||||||||||||||||||||||||
1249/2137 | msgbsR 1.21.0 (landing page) | Benjamin Mayne | NA | |||||||||||||||||||||||||||||||||
1250/2137 | msImpute 1.7.0 (landing page) | Soroor Hediyeh-zadeh | NA | |||||||||||||||||||||||||||||||||
1251/2137 | mslp 0.99.11 (landing page) | Chunxuan Shao | NA | |||||||||||||||||||||||||||||||||
1252/2137 | msmsEDA 1.35.0 (landing page) | Josep Gregori | NA | |||||||||||||||||||||||||||||||||
1253/2137 | msmsTests 1.35.0 (landing page) | Josep Gregori i Font | NA | |||||||||||||||||||||||||||||||||
1254/2137 | MSnbase 2.23.0 (landing page) | Laurent Gatto | NA | |||||||||||||||||||||||||||||||||
1255/2137 | MSnID 1.31.0 (landing page) | Vlad Petyuk | NA | |||||||||||||||||||||||||||||||||
1256/2137 | MSPrep 1.7.0 (landing page) | Max McGrath | NA | |||||||||||||||||||||||||||||||||
1257/2137 | msPurity 1.23.0 (landing page) | Thomas N. Lawson | NA | |||||||||||||||||||||||||||||||||
1258/2137 | msqrob2 1.5.0 (landing page) | Lieven Clement | NA | |||||||||||||||||||||||||||||||||
1259/2137 | MSstats 4.5.1 (landing page) | Meena Choi | NA | |||||||||||||||||||||||||||||||||
1260/2137 | MSstatsConvert 1.7.0 (landing page) | Mateusz Staniak | WARNINGS | |||||||||||||||||||||||||||||||||
1261/2137 | MSstatsLiP 1.3.1 (landing page) | Devon Kohler | NA | |||||||||||||||||||||||||||||||||
1262/2137 | MSstatsLOBD 1.5.0 (landing page) | Devon Kohler | NA | |||||||||||||||||||||||||||||||||
1263/2137 | MSstatsPTM 1.7.0 (landing page) | Devon Kohler | NA | |||||||||||||||||||||||||||||||||
1264/2137 | MSstatsQC 2.15.0 (landing page) | Eralp Dogu | ERROR | |||||||||||||||||||||||||||||||||
1265/2137 | MSstatsQCgui 1.17.0 (landing page) | Eralp Dogu | NA | |||||||||||||||||||||||||||||||||
1266/2137 | MSstatsSampleSize 1.11.0 (landing page) | Ting Huang | WARNINGS | |||||||||||||||||||||||||||||||||
1267/2137 | MSstatsTMT 2.5.0 (landing page) | Ting Huang | NA | |||||||||||||||||||||||||||||||||
1268/2137 | MuData 1.1.0 (landing page) | Danila Bredikhin | NA | |||||||||||||||||||||||||||||||||
1269/2137 | Mulcom 1.47.0 (landing page) | Claudio Isella | WARNINGS | |||||||||||||||||||||||||||||||||
1270/2137 | MultiAssayExperiment 1.23.4 (landing page) | Marcel Ramos | WARNINGS | |||||||||||||||||||||||||||||||||
1271/2137 | MultiBaC 1.7.0 (landing page) | The package maintainer | NA | |||||||||||||||||||||||||||||||||
1272/2137 | multiClust 1.27.0 (landing page) | Nathan Lawlor | NA | |||||||||||||||||||||||||||||||||
1273/2137 | multicrispr 1.7.0 (landing page) | Aditya Bhagwat | NA | |||||||||||||||||||||||||||||||||
1274/2137 | MultiDataSet 1.25.0 (landing page) | Xavier Escribà Montagut | WARNINGS | |||||||||||||||||||||||||||||||||
1275/2137 | multiGSEA 1.7.1 (landing page) | Sebastian Canzler | NA | |||||||||||||||||||||||||||||||||
1276/2137 | multiHiCcompare 1.15.0 (landing page) | John Stansfield | NA | |||||||||||||||||||||||||||||||||
1277/2137 | MultiMed 2.19.0 (landing page) | Simina M. Boca | NA | |||||||||||||||||||||||||||||||||
1278/2137 | multiMiR 1.19.0 (landing page) | Matt Mulvahill | NA | |||||||||||||||||||||||||||||||||
1279/2137 | multiOmicsViz 1.21.0 (landing page) | Jing Wang | NA | |||||||||||||||||||||||||||||||||
1280/2137 | multiscan 1.57.0 (landing page) | Mizanur Khondoker | NA | |||||||||||||||||||||||||||||||||
1281/2137 | multiSight 1.5.0 (landing page) | Florian Jeanneret | NA | |||||||||||||||||||||||||||||||||
1282/2137 | multtest 2.53.0 (landing page) | Katherine S. Pollard | WARNINGS | |||||||||||||||||||||||||||||||||
1283/2137 | mumosa 1.5.0 (landing page) | Aaron Lun | NA | |||||||||||||||||||||||||||||||||
1284/2137 | MungeSumstats 1.5.8 (landing page) | Alan Murphy | NA | |||||||||||||||||||||||||||||||||
1285/2137 | muscat 1.11.2 (landing page) | Helena L. Crowell | NA | |||||||||||||||||||||||||||||||||
1286/2137 | muscle 3.39.0 (landing page) | Alex T. Kalinka | WARNINGS | |||||||||||||||||||||||||||||||||
1287/2137 | musicatk 1.7.0 (landing page) | Aaron Chevalier | NA | |||||||||||||||||||||||||||||||||
1288/2137 | MutationalPatterns 3.7.0 (landing page) | Mark van Roosmalen | NA | |||||||||||||||||||||||||||||||||
1289/2137 | MVCClass 1.71.0 (landing page) | Elizabeth Whalen | NA | |||||||||||||||||||||||||||||||||
1290/2137 | MWASTools 1.21.0 (landing page) | Andrea Rodriguez-Martinez | NA | |||||||||||||||||||||||||||||||||
1291/2137 | mygene 1.33.0 (landing page) | Adam Mark, Cyrus Afrasiabi, Chunlei Wu | NA | |||||||||||||||||||||||||||||||||
1292/2137 | myvariant 1.27.0 (landing page) | Adam Mark, Chunlei Wu | NA | |||||||||||||||||||||||||||||||||
1293/2137 | mzID 1.35.0 (landing page) | Laurent Gatto | NA | |||||||||||||||||||||||||||||||||
1294/2137 | mzR 2.31.1 (landing page) | Steffen Neumann | WARNINGS | |||||||||||||||||||||||||||||||||
|
| |||||||||||||||||||||||||||||||||||
Package | Maintainer | INSTALL/BUILD/CHECK | ||||||||||||||||||||||||||||||||||
1295/2137 | NADfinder 1.21.0 (landing page) | Jianhong Ou | NA | |||||||||||||||||||||||||||||||||
1296/2137 | NanoMethViz 2.3.0 (landing page) | Shian Su | NA | |||||||||||||||||||||||||||||||||
1297/2137 | NanoStringDiff 1.27.0 (landing page) | tingting zhai | WARNINGS | |||||||||||||||||||||||||||||||||
1298/2137 | NanoStringNCTools 1.5.0 (landing page) | Nicole Ortogero | NA | |||||||||||||||||||||||||||||||||
1299/2137 | NanoStringQCPro 1.29.0 (landing page) | Robert Ziman | NA | |||||||||||||||||||||||||||||||||
1300/2137 | nanotatoR 1.13.0 (landing page) | Surajit Bhattacharya | NA | |||||||||||||||||||||||||||||||||
1301/2137 | NanoTube 1.3.6 (landing page) | Caleb Class | NA | |||||||||||||||||||||||||||||||||
1302/2137 | NBAMSeq 1.13.0 (landing page) | Xu Ren | NA | |||||||||||||||||||||||||||||||||
1303/2137 | NBSplice 1.15.0 (landing page) | Gabriela Merino | ERROR | |||||||||||||||||||||||||||||||||
1304/2137 | ncdfFlow 2.43.1 (landing page) | Mike Jiang | WARNINGS | |||||||||||||||||||||||||||||||||
1305/2137 | ncGTW 1.11.0 (landing page) | Chiung-Ting Wu | NA | |||||||||||||||||||||||||||||||||
1306/2137 | NCIgraph 1.45.0 (landing page) | Laurent Jacob | OK | |||||||||||||||||||||||||||||||||
1307/2137 | ncRNAtools 1.7.0 (landing page) | Lara Selles Vidal | NA | |||||||||||||||||||||||||||||||||
1308/2137 | ndexr 1.19.0 (landing page) | Florian Auer | ERROR | |||||||||||||||||||||||||||||||||
1309/2137 | nearBynding 1.7.0 (landing page) | Veronica Busa | NA | |||||||||||||||||||||||||||||||||
1310/2137 | Nebulosa 1.7.0 (landing page) | Jose Alquicira-Hernandez | NA | |||||||||||||||||||||||||||||||||
1311/2137 | NeighborNet 1.15.0 (landing page) | Sahar Ansari | NA | |||||||||||||||||||||||||||||||||
1312/2137 | nempi 1.5.0 (landing page) | Martin Pirkl | NA | |||||||||||||||||||||||||||||||||
1313/2137 | netbiov 1.31.0 (landing page) | Shailesh tripathi | WARNINGS | |||||||||||||||||||||||||||||||||
1314/2137 | netboost 2.5.2 (landing page) | Pascal Schlosser | OK | |||||||||||||||||||||||||||||||||
1315/2137 | netboxr 1.9.0 (landing page) | Eirc Minwei Liu | ERROR | |||||||||||||||||||||||||||||||||
1316/2137 | netDx 1.9.0 (landing page) | Shraddha Pai | ERROR | |||||||||||||||||||||||||||||||||
1317/2137 | nethet 1.29.0 (landing page) | Nicolas Staedler | WARNINGS | |||||||||||||||||||||||||||||||||
1318/2137 | netOmics 1.3.0 (landing page) | Antoine Bodein | NA | |||||||||||||||||||||||||||||||||
1319/2137 | NetPathMiner 1.33.0 (landing page) | Ahmed Mohamed | WARNINGS | |||||||||||||||||||||||||||||||||
1320/2137 | netprioR 1.23.0 (landing page) | Fabian Schmich | NA | |||||||||||||||||||||||||||||||||
1321/2137 | netresponse 1.57.0 (landing page) | Leo Lahti | ERROR | |||||||||||||||||||||||||||||||||
1322/2137 | NetSAM 1.37.0 (landing page) | Zhiao Shi | ERROR | |||||||||||||||||||||||||||||||||
1323/2137 | netSmooth 1.17.0 (landing page) | Jonathan Ronen | NA | |||||||||||||||||||||||||||||||||
1324/2137 | netZooR 1.1.15 (landing page) | Marouen Ben Guebila | NA | |||||||||||||||||||||||||||||||||
1325/2137 | NeuCA 1.3.0 (landing page) | Hao Feng | NA | |||||||||||||||||||||||||||||||||
1326/2137 | NewWave 1.7.0 (landing page) | Federico Agostinis | NA | |||||||||||||||||||||||||||||||||
1327/2137 | ngsReports 1.13.2 (landing page) | Steve Pederson | NA | |||||||||||||||||||||||||||||||||
1328/2137 | nnNorm 2.61.0 (landing page) | Adi Laurentiu Tarca | NA | |||||||||||||||||||||||||||||||||
1329/2137 | nnSVG 1.1.10 (landing page) | Lukas M. Weber | NA | |||||||||||||||||||||||||||||||||
1330/2137 | NOISeq 2.41.0 (landing page) | Sonia Tarazona | NA | |||||||||||||||||||||||||||||||||
1331/2137 | nondetects 2.27.0 (landing page) | Valeriia Sherina | NA | |||||||||||||||||||||||||||||||||
1332/2137 | NoRCE 1.9.0 (landing page) | Gulden Olgun | NA | |||||||||||||||||||||||||||||||||
1333/2137 | normalize450K 1.25.0 (landing page) | Jonathan Alexander Heiss | NA | |||||||||||||||||||||||||||||||||
1334/2137 | NormalyzerDE 1.15.0 (landing page) | Jakob Willforss | NA | |||||||||||||||||||||||||||||||||
1335/2137 | NormqPCR 1.43.0 (landing page) | James Perkins | ERROR | |||||||||||||||||||||||||||||||||
1336/2137 | normr 1.23.0 (landing page) | Johannes Helmuth | WARNINGS | |||||||||||||||||||||||||||||||||
1337/2137 | NPARC 1.9.1 (landing page) | Nils Kurzawa | NA | |||||||||||||||||||||||||||||||||
1338/2137 | npGSEA 1.33.0 (landing page) | Jessica Larson | NA | |||||||||||||||||||||||||||||||||
1339/2137 | NTW 1.47.0 (landing page) | Yuanhua Liu | WARNINGS | |||||||||||||||||||||||||||||||||
1340/2137 | nucleoSim 1.25.0 (landing page) | Astrid Deschênes | NA | |||||||||||||||||||||||||||||||||
1341/2137 | nucleR 2.29.0 (landing page) | Alba Sala | WARNINGS | |||||||||||||||||||||||||||||||||
1342/2137 | nuCpos 1.15.0 (landing page) | Hiroaki Kato | NA | |||||||||||||||||||||||||||||||||
1343/2137 | nullranges 1.3.4 (landing page) | Michael Love | NA | |||||||||||||||||||||||||||||||||
1344/2137 | NuPoP 2.5.1 (landing page) | Ji-Ping Wang | ERROR | |||||||||||||||||||||||||||||||||
1345/2137 | NxtIRFcore 1.3.1 (landing page) | Alex Chit Hei Wong | NA | |||||||||||||||||||||||||||||||||
|
| |||||||||||||||||||||||||||||||||||
Package | Maintainer | INSTALL/BUILD/CHECK | ||||||||||||||||||||||||||||||||||
1346/2137 | occugene 1.57.0 (landing page) | Oliver Will | NA | |||||||||||||||||||||||||||||||||
1347/2137 | OCplus 1.71.0 (landing page) | Alexander Ploner | NA | |||||||||||||||||||||||||||||||||
1348/2137 | ODER 1.3.0 (landing page) | David Zhang | NA | |||||||||||||||||||||||||||||||||
1349/2137 | odseq 1.25.0 (landing page) | José Jiménez | NA | |||||||||||||||||||||||||||||||||
1350/2137 | OGRE 1.1.0 (landing page) | Sven Berres | NA | |||||||||||||||||||||||||||||||||
1351/2137 | oligo 1.61.0 (landing page) | Benilton Carvalho | WARNINGS | |||||||||||||||||||||||||||||||||
1352/2137 | oligoClasses 1.59.0 (landing page) | Benilton Carvalho | WARNINGS | |||||||||||||||||||||||||||||||||
1353/2137 | OLIN 1.75.1 (landing page) | Matthias Futschik | NA | |||||||||||||||||||||||||||||||||
1354/2137 | OLINgui 1.71.0 (landing page) | Matthias Futschik | NA | |||||||||||||||||||||||||||||||||
1355/2137 | OmaDB 2.13.0 (landing page) | Klara Kaleb | NA | |||||||||||||||||||||||||||||||||
1356/2137 | omicade4 1.37.0 (landing page) | Chen Meng | NA | |||||||||||||||||||||||||||||||||
1357/2137 | OmicCircos 1.35.0 (landing page) | Ying Hu | WARNINGS | |||||||||||||||||||||||||||||||||
1358/2137 | omicplotR 1.17.0 (landing page) | Daniel Giguere | NA | |||||||||||||||||||||||||||||||||
1359/2137 | omicRexposome 1.19.0 (landing page) | Xavier Escribà Montagut | NA | |||||||||||||||||||||||||||||||||
1360/2137 | OmicsLonDA 1.13.0 (landing page) | Ahmed A. Metwally | NA | |||||||||||||||||||||||||||||||||
1361/2137 | OMICsPCA 1.15.0 (landing page) | Subhadeep Das | ERROR | |||||||||||||||||||||||||||||||||
1362/2137 | omicsPrint 1.17.0 (landing page) | Davy Cats | WARNINGS | |||||||||||||||||||||||||||||||||
1363/2137 | omicsViewer 1.1.3 (landing page) | Chen Meng | NA | |||||||||||||||||||||||||||||||||
1364/2137 | Omixer 1.7.0 (landing page) | Lucy Sinke | NA | |||||||||||||||||||||||||||||||||
1365/2137 | OmnipathR 3.5.5 (landing page) | Denes Turei | ERROR | |||||||||||||||||||||||||||||||||
1366/2137 | ompBAM 1.1.0 (landing page) | Alex Chit Hei Wong | NA | |||||||||||||||||||||||||||||||||
1367/2137 | oncomix 1.19.0 (landing page) | Daniel Pique | NA | |||||||||||||||||||||||||||||||||
1368/2137 | oncoscanR 0.99.1 (landing page) | Yann Christinat | ERROR | |||||||||||||||||||||||||||||||||
1369/2137 | OncoScore 1.25.0 (landing page) | Luca De Sano | NA | |||||||||||||||||||||||||||||||||
1370/2137 | OncoSimulR 3.99.5 (landing page) | Ramon Diaz-Uriarte | ERROR | |||||||||||||||||||||||||||||||||
1371/2137 | oneSENSE 1.19.0 (landing page) | Yong Kee Tan | ERROR | |||||||||||||||||||||||||||||||||
1372/2137 | onlineFDR 2.5.0 (landing page) | David S. Robertson | NA | |||||||||||||||||||||||||||||||||
1373/2137 | ontoProc 1.19.0 (landing page) | VJ Carey | NA | |||||||||||||||||||||||||||||||||
1374/2137 | openCyto 2.9.4 (landing page) | Mike Jiang | ERROR | |||||||||||||||||||||||||||||||||
1375/2137 | openPrimeR 1.19.0 (landing page) | Matthias Döring | NA | |||||||||||||||||||||||||||||||||
1376/2137 | openPrimeRui 1.19.0 (landing page) | Matthias Döring | NA | |||||||||||||||||||||||||||||||||
1377/2137 | OpenStats 1.9.0 (landing page) | Hamed Haseli Mashhadi | NA | |||||||||||||||||||||||||||||||||
1378/2137 | oposSOM 2.15.0 (landing page) | Henry Loeffler-Wirth | WARNINGS | |||||||||||||||||||||||||||||||||
1379/2137 | oppar 1.25.0 (landing page) | Soroor Hediyeh zadeh | WARNINGS | |||||||||||||||||||||||||||||||||
1380/2137 | oppti 1.11.0 (landing page) | Abdulkadir Elmas | WARNINGS | |||||||||||||||||||||||||||||||||
1381/2137 | optimalFlow 1.9.0 (landing page) | Hristo Inouzhe | ERROR | |||||||||||||||||||||||||||||||||
1382/2137 | OPWeight 1.19.0 (landing page) | Mohamad Hasan | NA | |||||||||||||||||||||||||||||||||
1383/2137 | OrderedList 1.69.0 (landing page) | Claudio Lottaz | NA | |||||||||||||||||||||||||||||||||
1384/2137 | ORFhunteR 1.5.0 (landing page) | Vasily V. Grinev | NA | |||||||||||||||||||||||||||||||||
1385/2137 | ORFik 1.17.3 (landing page) | Haakon Tjeldnes | NA | |||||||||||||||||||||||||||||||||
1386/2137 | Organism.dplyr 1.25.0 (landing page) | Martin Morgan | NA | |||||||||||||||||||||||||||||||||
1387/2137 | OrganismDbi 1.39.1 (landing page) | Bioconductor Package Maintainer | NA | |||||||||||||||||||||||||||||||||
1388/2137 | orthogene 1.3.1 (landing page) | Brian Schilder | NA | |||||||||||||||||||||||||||||||||
1389/2137 | OSAT 1.45.0 (landing page) | Li Yan | NA | |||||||||||||||||||||||||||||||||
1390/2137 | Oscope 1.27.0 (landing page) | Ning Leng | NA | |||||||||||||||||||||||||||||||||
1391/2137 | OTUbase 1.47.0 (landing page) | Daniel Beck | NA | |||||||||||||||||||||||||||||||||
1392/2137 | OUTRIDER 1.15.0 (landing page) | Christian Mertes | NA | |||||||||||||||||||||||||||||||||
1393/2137 | OVESEG 1.13.0 (landing page) | Lulu Chen | NA | |||||||||||||||||||||||||||||||||
|
| |||||||||||||||||||||||||||||||||||
Package | Maintainer | INSTALL/BUILD/CHECK | ||||||||||||||||||||||||||||||||||
1394/2137 | PAA 1.31.0 (landing page) | Michael Turewicz | NA | |||||||||||||||||||||||||||||||||
1395/2137 | packFinder 1.9.3 (landing page) | Jack Gisby | NA | |||||||||||||||||||||||||||||||||
1396/2137 | padma 1.7.0 (landing page) | Andrea Rau | NA | |||||||||||||||||||||||||||||||||
1397/2137 | PADOG 1.39.0 (landing page) | Adi L. Tarca | NA | |||||||||||||||||||||||||||||||||
1398/2137 | pageRank 1.7.0 (landing page) | Hongxu Ding | NA | |||||||||||||||||||||||||||||||||
1399/2137 | PAIRADISE 1.13.0 (landing page) | Qiang Hu | NA | |||||||||||||||||||||||||||||||||
1400/2137 | paircompviz 1.35.0 (landing page) | Michal Burda | NA | |||||||||||||||||||||||||||||||||
1401/2137 | pairkat 1.3.0 (landing page) | Max McGrath | NA | |||||||||||||||||||||||||||||||||
1402/2137 | pandaR 1.29.0 (landing page) | Joseph N. Paulson | WARNINGS | |||||||||||||||||||||||||||||||||
1403/2137 | panelcn.mops 1.19.0 (landing page) | Gundula Povysil | NA | |||||||||||||||||||||||||||||||||
1404/2137 | PanomiR 1.1.1 (landing page) | Pourya Naderi | NA | |||||||||||||||||||||||||||||||||
1405/2137 | panp 1.67.0 (landing page) | Peter Warren | NA | |||||||||||||||||||||||||||||||||
1406/2137 | PANR 1.43.0 (landing page) | Xin Wang | NA | |||||||||||||||||||||||||||||||||
1407/2137 | PanViz 0.99.4 (landing page) | Luca Anholt | NA | |||||||||||||||||||||||||||||||||
1408/2137 | pareg 1.1.0 (landing page) | Kim Philipp Jablonski | ERROR | |||||||||||||||||||||||||||||||||
1409/2137 | parglms 1.29.0 (landing page) | VJ Carey | NA | |||||||||||||||||||||||||||||||||
1410/2137 | parody 1.55.0 (landing page) | Vince Carey | NA | |||||||||||||||||||||||||||||||||
1411/2137 | PAST 1.13.0 (landing page) | Thrash Adam | WARNINGS | |||||||||||||||||||||||||||||||||
1412/2137 | Path2PPI 1.27.0 (landing page) | Oliver Philipp | NA | |||||||||||||||||||||||||||||||||
1413/2137 | pathifier 1.35.0 (landing page) | Assif Yitzhaky | NA | |||||||||||||||||||||||||||||||||
1414/2137 | PathNet 1.37.0 (landing page) | Ludwig Geistlinger | NA | |||||||||||||||||||||||||||||||||
1415/2137 | PathoStat 1.23.0 (landing page) | Solaiappan Manimaran | NA | |||||||||||||||||||||||||||||||||
1416/2137 | pathRender 1.65.0 (landing page) | Vince Carey | NA | |||||||||||||||||||||||||||||||||
1417/2137 | pathVar 1.27.0 (landing page) | Samuel Zimmerman | NA | |||||||||||||||||||||||||||||||||
1418/2137 | pathview 1.37.0 (landing page) | Weijun Luo | ERROR | |||||||||||||||||||||||||||||||||
1419/2137 | pathwayPCA 1.13.0 (landing page) | Gabriel Odom | NA | |||||||||||||||||||||||||||||||||
1420/2137 | paxtoolsr 1.31.0 (landing page) | Augustin Luna | ERROR | |||||||||||||||||||||||||||||||||
1421/2137 | pcaExplorer 2.23.0 (landing page) | Federico Marini | NA | |||||||||||||||||||||||||||||||||
1422/2137 | pcaMethods 1.89.0 (landing page) | Henning Redestig | NA | |||||||||||||||||||||||||||||||||
1423/2137 | PCAN 1.25.0 (landing page) | Matthew Page | NA | |||||||||||||||||||||||||||||||||
1424/2137 | PCAtools 2.9.0 (landing page) | Kevin Blighe | NA | |||||||||||||||||||||||||||||||||
1425/2137 | pcxn 2.19.0 (landing page) | Sokratis Kariotis | NA | |||||||||||||||||||||||||||||||||
1426/2137 | PDATK 1.5.0 (landing page) | Benjamin Haibe-Kains | NA | |||||||||||||||||||||||||||||||||
1427/2137 | pdInfoBuilder 1.61.0 (landing page) | Benilton Carvalho | NA | |||||||||||||||||||||||||||||||||
1428/2137 | PeacoQC 1.7.0 (landing page) | Annelies Emmaneel | ERROR | |||||||||||||||||||||||||||||||||
1429/2137 | peakPantheR 1.11.0 (landing page) | Arnaud Wolfer | NA | |||||||||||||||||||||||||||||||||
1430/2137 | PECA 1.33.0 (landing page) | Tomi Suomi | NA | |||||||||||||||||||||||||||||||||
1431/2137 | peco 1.9.0 (landing page) | Chiaowen Joyce Hsiao | NA | |||||||||||||||||||||||||||||||||
1432/2137 | pengls 1.3.1 (landing page) | Stijn Hawinkel | NA | |||||||||||||||||||||||||||||||||
1433/2137 | PepsNMR 1.15.0 (landing page) | Manon Martin | NA | |||||||||||||||||||||||||||||||||
1434/2137 | pepStat 1.31.0 (landing page) | Gregory C Imholte | NA | |||||||||||||||||||||||||||||||||
1435/2137 | pepXMLTab 1.31.0 (landing page) | Xiaojing Wang | NA | |||||||||||||||||||||||||||||||||
1436/2137 | PERFect 1.11.0 (landing page) | Quy Cao | NA | |||||||||||||||||||||||||||||||||
1437/2137 | periodicDNA 1.7.0 (landing page) | Jacques Serizay | WARNINGS | |||||||||||||||||||||||||||||||||
1438/2137 | PFP 1.5.0 (landing page) | XC Zhang | NA | |||||||||||||||||||||||||||||||||
1439/2137 | pgca 1.21.0 (landing page) | Gabriela Cohen-Freue | NA | |||||||||||||||||||||||||||||||||
1440/2137 | phantasus 1.17.2 (landing page) | Alexey Sergushichev | NA | |||||||||||||||||||||||||||||||||
1441/2137 | PharmacoGx 3.1.5 (landing page) | Benjamin Haibe-Kains | NA | |||||||||||||||||||||||||||||||||
1442/2137 | PhenoGeneRanker 1.5.0 (landing page) | Cagatay Dursun | NA | |||||||||||||||||||||||||||||||||
1443/2137 | phenopath 1.21.0 (landing page) | Kieran Campbell | NA | |||||||||||||||||||||||||||||||||
1444/2137 | phenoTest 1.45.0 (landing page) | Evarist Planet | WARNINGS | |||||||||||||||||||||||||||||||||
1445/2137 | PhenStat 2.33.0 (landing page) | Hamed Haselimashhadi | NA | |||||||||||||||||||||||||||||||||
1446/2137 | philr 1.23.0 (landing page) | Justin Silverman | NA | |||||||||||||||||||||||||||||||||
1447/2137 | PhIPData 1.5.0 (landing page) | Athena Chen | NA | |||||||||||||||||||||||||||||||||
1448/2137 | phosphonormalizer 1.21.0 (landing page) | Sohrab Saraei | NA | |||||||||||||||||||||||||||||||||
1449/2137 | PhosR 1.7.0 (landing page) | Taiyun Kim | NA | |||||||||||||||||||||||||||||||||
1450/2137 | PhyloProfile 1.11.5 (landing page) | Vinh Tran | NA | |||||||||||||||||||||||||||||||||
1451/2137 | phyloseq 1.41.0 (landing page) | Paul J. McMurdie | ERROR | |||||||||||||||||||||||||||||||||
1452/2137 | Pi 2.9.0 (landing page) | Hai Fang | WARNINGS | |||||||||||||||||||||||||||||||||
1453/2137 | piano 2.13.0 (landing page) | Leif Varemo Wigge | ERROR | |||||||||||||||||||||||||||||||||
1454/2137 | pickgene 1.69.0 (landing page) | Brian S. Yandell | WARNINGS | |||||||||||||||||||||||||||||||||
1455/2137 | PICS 2.41.0 (landing page) | Renan Sauteraud | NA | |||||||||||||||||||||||||||||||||
1456/2137 | Pigengene 1.23.0 (landing page) | Habil Zare | NA | |||||||||||||||||||||||||||||||||
1457/2137 | PING 2.41.0 (landing page) | Renan Sauteraud | WARNINGS | |||||||||||||||||||||||||||||||||
1458/2137 | pipeComp 1.7.0 (landing page) | Pierre-Luc Germain | WARNINGS | |||||||||||||||||||||||||||||||||
1459/2137 | pipeFrame 1.13.0 (landing page) | Zheng Wei | NA | |||||||||||||||||||||||||||||||||
1460/2137 | pkgDepTools 1.63.0 (landing page) | Bioconductor Package Maintainer | NA | |||||||||||||||||||||||||||||||||
1461/2137 | planet 1.5.0 (landing page) | Victor Yuan | NA | |||||||||||||||||||||||||||||||||
1462/2137 | plethy 1.35.0 (landing page) | Daniel Bottomly | NA | |||||||||||||||||||||||||||||||||
1463/2137 | plgem 1.69.0 (landing page) | Norman Pavelka | NA | |||||||||||||||||||||||||||||||||
1464/2137 | plier 1.67.0 (landing page) | Crispin Miller | WARNINGS | |||||||||||||||||||||||||||||||||
1465/2137 | PloGO2 1.9.0 (landing page) | Jemma Wu | ERROR | |||||||||||||||||||||||||||||||||
1466/2137 | plotgardener 1.3.9 (landing page) | Nicole Kramer | NA | |||||||||||||||||||||||||||||||||
1467/2137 | plotGrouper 1.15.0 (landing page) | John D. Gagnon | WARNINGS | |||||||||||||||||||||||||||||||||
1468/2137 | PLPE 1.57.0 (landing page) | Soo-heang Eo | NA | |||||||||||||||||||||||||||||||||
1469/2137 | plyranges 1.17.0 (landing page) | Stuart Lee | WARNINGS | |||||||||||||||||||||||||||||||||
1470/2137 | pmm 1.29.0 (landing page) | Anna Drewek | NA | |||||||||||||||||||||||||||||||||
1471/2137 | pmp 1.9.0 (landing page) | Gavin Rhys Lloyd | NA | |||||||||||||||||||||||||||||||||
1472/2137 | PoDCall 1.5.0 (landing page) | Hans Petter Brodal | NA | |||||||||||||||||||||||||||||||||
1473/2137 | podkat 1.29.0 (landing page) | Ulrich Bodenhofer | NA | |||||||||||||||||||||||||||||||||
1474/2137 | pogos 1.17.0 (landing page) | VJ Carey | NA | |||||||||||||||||||||||||||||||||
1475/2137 | polyester 1.33.0 (landing page) | Jack Fu | NA | |||||||||||||||||||||||||||||||||
1476/2137 | POMA 1.7.16 (landing page) | Pol Castellano-Escuder | NA | |||||||||||||||||||||||||||||||||
1477/2137 | PoTRA 1.13.0 (landing page) | Margaret Linan | ERROR | |||||||||||||||||||||||||||||||||
1478/2137 | powerTCR 1.17.0 (landing page) | Hillary Koch | WARNINGS | |||||||||||||||||||||||||||||||||
1479/2137 | POWSC 1.5.0 (landing page) | Kenong Su | NA | |||||||||||||||||||||||||||||||||
1480/2137 | ppcseq 1.5.0 (landing page) | Stefano Mangiola | NA | |||||||||||||||||||||||||||||||||
1481/2137 | PPInfer 1.23.0 (landing page) | Dongmin Jung | NA | |||||||||||||||||||||||||||||||||
1482/2137 | pqsfinder 2.13.0 (landing page) | Jiri Hon | NA | |||||||||||||||||||||||||||||||||
1483/2137 | pram 1.13.0 (landing page) | Peng Liu | ERROR | |||||||||||||||||||||||||||||||||
1484/2137 | prebs 1.37.0 (landing page) | Karolis Uziela | NA | |||||||||||||||||||||||||||||||||
1485/2137 | preciseTAD 1.7.0 (landing page) | Mikhail Dozmorov | NA | |||||||||||||||||||||||||||||||||
1486/2137 | PrecisionTrialDrawer 1.13.0 (landing page) | Giorgio Melloni | ERROR | |||||||||||||||||||||||||||||||||
1487/2137 | PREDA 1.43.0 (landing page) | Francesco Ferrari | WARNINGS | |||||||||||||||||||||||||||||||||
1488/2137 | preprocessCore 1.59.0 (landing page) | Ben Bolstad | NA | |||||||||||||||||||||||||||||||||
1489/2137 | primirTSS 1.15.0 (landing page) | Pumin Li | WARNINGS | |||||||||||||||||||||||||||||||||
1490/2137 | PrInCE 1.13.0 (landing page) | Michael Skinnider | WARNINGS | |||||||||||||||||||||||||||||||||
1491/2137 | proActiv 1.7.0 (landing page) | Joseph Lee | NA | |||||||||||||||||||||||||||||||||
1492/2137 | proBAMr 1.31.0 (landing page) | Xiaojing Wang | NA | |||||||||||||||||||||||||||||||||
1493/2137 | proBatch 1.13.0 (landing page) | Chloe H. Lee | ERROR | |||||||||||||||||||||||||||||||||
1494/2137 | PROcess 1.73.0 (landing page) | Xiaochun Li | NA | |||||||||||||||||||||||||||||||||
1495/2137 | procoil 2.25.0 (landing page) | Ulrich Bodenhofer | NA | |||||||||||||||||||||||||||||||||
1496/2137 | proDA 1.11.0 (landing page) | Constantin Ahlmann-Eltze | NA | |||||||||||||||||||||||||||||||||
1497/2137 | proFIA 1.23.0 (landing page) | Alexis Delabriere | ERROR | |||||||||||||||||||||||||||||||||
1498/2137 | profileplyr 1.13.0 (landing page) | Tom Carroll | ERROR | |||||||||||||||||||||||||||||||||
1499/2137 | profileScoreDist 1.25.0 (landing page) | Paal O. Westermark | ERROR | |||||||||||||||||||||||||||||||||
1500/2137 | progeny 1.19.0 (landing page) | Aurélien Dugourd | NA | |||||||||||||||||||||||||||||||||
1501/2137 | projectR 1.13.0 (landing page) | Genevieve Stein-O'Brien | ERROR | |||||||||||||||||||||||||||||||||
1502/2137 | pRoloc 1.37.0 (landing page) | Laurent Gatto | ERROR | |||||||||||||||||||||||||||||||||
1503/2137 | pRolocGUI 2.7.0 (landing page) | Laurent Gatto | NA | |||||||||||||||||||||||||||||||||
1504/2137 | PROMISE 1.49.0 (landing page) | Stan Pounds | NA | |||||||||||||||||||||||||||||||||
1505/2137 | PROPER 1.29.0 (landing page) | Hao Wu | WARNINGS | |||||||||||||||||||||||||||||||||
1506/2137 | PROPS 1.19.0 (landing page) | Lichy Han | NA | |||||||||||||||||||||||||||||||||
1507/2137 | Prostar 1.29.1 (landing page) | Samuel Wieczorek | ERROR | |||||||||||||||||||||||||||||||||
1508/2137 | proteasy 0.99.10 (landing page) | Martin Rydén | NA | |||||||||||||||||||||||||||||||||
1509/2137 | proteinProfiles 1.37.0 (landing page) | Julian Gehring | NA | |||||||||||||||||||||||||||||||||
1510/2137 | ProteoDisco 1.3.1 (landing page) | Job van Riet | WARNINGS | |||||||||||||||||||||||||||||||||
1511/2137 | ProteoMM 1.15.0 (landing page) | Yuliya V Karpievitch | NA | |||||||||||||||||||||||||||||||||
1512/2137 | protGear 1.1.0 (landing page) | Kennedy Mwai | NA | |||||||||||||||||||||||||||||||||
1513/2137 | ProtGenerics 1.29.0 (landing page) | Laurent Gatto | NA | |||||||||||||||||||||||||||||||||
1514/2137 | PSEA 1.31.0 (landing page) | Alexandre Kuhn | NA | |||||||||||||||||||||||||||||||||
1515/2137 | psichomics 1.23.1 (landing page) | Nuno Saraiva-Agostinho | NA | |||||||||||||||||||||||||||||||||
1516/2137 | PSMatch 1.1.0 (landing page) | Laurent Gatto | ERROR | |||||||||||||||||||||||||||||||||
1517/2137 | psygenet2r 1.29.0 (landing page) | Alba Gutierrez-Sacristan | NA | |||||||||||||||||||||||||||||||||
1518/2137 | ptairMS 1.5.0 (landing page) | camille Roquencourt | NA | |||||||||||||||||||||||||||||||||
1519/2137 | pulsedSilac 1.11.0 (landing page) | Marc Pagès-Gallego | ERROR | |||||||||||||||||||||||||||||||||
1520/2137 | puma 3.39.0 (landing page) | Xuejun Liu | WARNINGS | |||||||||||||||||||||||||||||||||
1521/2137 | PureCN 2.3.0 (landing page) | Markus Riester | NA | |||||||||||||||||||||||||||||||||
1522/2137 | pvac 1.45.0 (landing page) | Jun Lu | NA | |||||||||||||||||||||||||||||||||
1523/2137 | pvca 1.37.0 (landing page) | Jianying LI | NA | |||||||||||||||||||||||||||||||||
1524/2137 | Pviz 1.31.0 (landing page) | Renan Sauteraud | WARNINGS | |||||||||||||||||||||||||||||||||
1525/2137 | PWMEnrich 4.33.0 (landing page) | Diego Diez | NA | |||||||||||||||||||||||||||||||||
1526/2137 | pwOmics 1.29.0 (landing page) | Maren Sitte | WARNINGS | |||||||||||||||||||||||||||||||||
1527/2137 | pwrEWAS 1.11.0 (landing page) | Stefan Graw | ERROR | |||||||||||||||||||||||||||||||||
|
| |||||||||||||||||||||||||||||||||||
Package | Maintainer | INSTALL/BUILD/CHECK | ||||||||||||||||||||||||||||||||||
1528/2137 | qckitfastq 1.13.0 (landing page) | August Guang | NA | |||||||||||||||||||||||||||||||||
1529/2137 | qcmetrics 1.35.0 (landing page) | Laurent Gatto | NA | |||||||||||||||||||||||||||||||||
1530/2137 | QDNAseq 1.33.1 (landing page) | Daoud Sie | NA | |||||||||||||||||||||||||||||||||
1531/2137 | QFeatures 1.7.1 (landing page) | Laurent Gatto | NA | |||||||||||||||||||||||||||||||||
1532/2137 | qmtools 1.1.0 (landing page) | Jaehyun Joo | NA | |||||||||||||||||||||||||||||||||
1533/2137 | qpcrNorm 1.55.0 (landing page) | Jessica Mar | NA | |||||||||||||||||||||||||||||||||
1534/2137 | qpgraph 2.31.0 (landing page) | Robert Castelo | WARNINGS | |||||||||||||||||||||||||||||||||
1535/2137 | qPLEXanalyzer 1.15.0 (landing page) | Ashley Sawle | NA | |||||||||||||||||||||||||||||||||
1536/2137 | qrqc 1.51.0 (landing page) | Vince Buffalo | WARNINGS | |||||||||||||||||||||||||||||||||
1537/2137 | qsea 1.23.0 (landing page) | Matthias Lienhard | WARNINGS | |||||||||||||||||||||||||||||||||
1538/2137 | qsmooth 1.13.0 (landing page) | Stephanie C. Hicks | WARNINGS | |||||||||||||||||||||||||||||||||
1539/2137 | QSutils 1.15.0 (landing page) | Mercedes Guerrero-Murillo | NA | |||||||||||||||||||||||||||||||||
1540/2137 | qsvaR 1.1.0 (landing page) | Joshua Stolz | NA | |||||||||||||||||||||||||||||||||
1541/2137 | Qtlizer 1.11.0 (landing page) | Matthias Munz | NA | |||||||||||||||||||||||||||||||||
1542/2137 | quantiseqr 1.5.0 (landing page) | Federico Marini | NA | |||||||||||||||||||||||||||||||||
1543/2137 | quantro 1.31.0 (landing page) | Stephanie Hicks | NA | |||||||||||||||||||||||||||||||||
1544/2137 | quantsmooth 1.63.0 (landing page) | Jan Oosting | NA | |||||||||||||||||||||||||||||||||
1545/2137 | QuartPAC 1.29.0 (landing page) | Gregory Ryslik | NA | |||||||||||||||||||||||||||||||||
1546/2137 | QuasR 1.37.1 (landing page) | Michael Stadler | ERROR | |||||||||||||||||||||||||||||||||
1547/2137 | QuaternaryProd 1.31.0 (landing page) | Carl Tony Fakhry | NA | |||||||||||||||||||||||||||||||||
1548/2137 | QUBIC 1.25.0 (landing page) | Yu Zhang | NA | |||||||||||||||||||||||||||||||||
1549/2137 | qusage 2.31.0 (landing page) | Christopher Bolen | NA | |||||||||||||||||||||||||||||||||
1550/2137 | qvalue 2.29.0 (landing page) | John D. Storey | NA | |||||||||||||||||||||||||||||||||
|
| |||||||||||||||||||||||||||||||||||
Package | Maintainer | INSTALL/BUILD/CHECK | ||||||||||||||||||||||||||||||||||
1551/2137 | R3CPET 1.29.0 (landing page) | Mohamed Nadhir Djekidel | WARNINGS | |||||||||||||||||||||||||||||||||
1552/2137 | r3Cseq 1.43.0 (landing page) | Supat Thongjuea | NA | |||||||||||||||||||||||||||||||||
1553/2137 | R453Plus1Toolbox 1.47.0 (landing page) | Hans-Ulrich Klein | NA | |||||||||||||||||||||||||||||||||
1554/2137 | R4RNA 1.25.0 (landing page) | Daniel Lai | NA | |||||||||||||||||||||||||||||||||
1555/2137 | RadioGx 2.1.1 (landing page) | Benjamin Haibe-Kains | WARNINGS | |||||||||||||||||||||||||||||||||
1556/2137 | RaggedExperiment 1.21.0 (landing page) | Martin Morgan | NA | |||||||||||||||||||||||||||||||||
1557/2137 | rain 1.31.0 (landing page) | Paul F. Thaben | NA | |||||||||||||||||||||||||||||||||
1558/2137 | rama 1.71.0 (landing page) | Raphael Gottardo | WARNINGS | |||||||||||||||||||||||||||||||||
1559/2137 | ramr 1.5.0 (landing page) | Oleksii Nikolaienko | NA | |||||||||||||||||||||||||||||||||
1560/2137 | ramwas 1.21.0 (landing page) | Andrey A Shabalin | NA | |||||||||||||||||||||||||||||||||
1561/2137 | RandomWalkRestartMH 1.17.0 (landing page) | Alberto Valdeolivas | WARNINGS | |||||||||||||||||||||||||||||||||
1562/2137 | randPack 1.43.0 (landing page) | Robert Gentleman | NA | |||||||||||||||||||||||||||||||||
1563/2137 | randRotation 1.9.0 (landing page) | Peter Hettegger | ERROR | |||||||||||||||||||||||||||||||||
1564/2137 | RankProd 3.23.0 (landing page) | Francesco Del Carratore | NA | |||||||||||||||||||||||||||||||||
1565/2137 | RAREsim 1.1.0 (landing page) | Ryan Barnard | NA | |||||||||||||||||||||||||||||||||
1566/2137 | RareVariantVis 2.25.0 (landing page) | Tomasz Stokowy | NA | |||||||||||||||||||||||||||||||||
1567/2137 | rawrr 1.5.2 (landing page) | Christian Panse | NA | |||||||||||||||||||||||||||||||||
1568/2137 | RbcBook1 1.65.0 (landing page) | Vince Carey | NA | |||||||||||||||||||||||||||||||||
1569/2137 | Rbec 1.5.0 (landing page) | Pengfan Zhang | NA | |||||||||||||||||||||||||||||||||
1570/2137 | RBGL 1.73.0 (landing page) | Bioconductor Package Maintainer | WARNINGS | |||||||||||||||||||||||||||||||||
1571/2137 | RBioinf 1.57.0 (landing page) | Robert Gentleman | NA | |||||||||||||||||||||||||||||||||
1572/2137 | rBiopaxParser 2.37.0 (landing page) | Frank Kramer | NA | |||||||||||||||||||||||||||||||||
1573/2137 | RBM 1.29.0 (landing page) | Dongmei Li | NA | |||||||||||||||||||||||||||||||||
1574/2137 | Rbowtie 1.37.0 (landing page) | Michael Stadler | WARNINGS | |||||||||||||||||||||||||||||||||
1575/2137 | Rbowtie2 2.3.1 (landing page) | Zheng Wei | NA | |||||||||||||||||||||||||||||||||
1576/2137 | rbsurv 2.55.0 (landing page) | Soo-heang Eo | NA | |||||||||||||||||||||||||||||||||
1577/2137 | Rbwa 1.1.0 (landing page) | Jean-Philippe Fortin | WARNINGS | |||||||||||||||||||||||||||||||||
1578/2137 | Jonathan Cairns | ERROR | ||||||||||||||||||||||||||||||||||
1579/2137 | RCAS 1.23.0 (landing page) | Bora Uyar | NA | |||||||||||||||||||||||||||||||||
1580/2137 | RCASPAR 1.43.0 (landing page) | Douaa Mugahid | NA | |||||||||||||||||||||||||||||||||
1581/2137 | rcellminer 2.19.0 (landing page) | Augustin Luna | NA | |||||||||||||||||||||||||||||||||
1582/2137 | rCGH 1.27.0 (landing page) | Frederic Commo | NA | |||||||||||||||||||||||||||||||||
1583/2137 | RcisTarget 1.17.0 (landing page) | Sara Aibar | NA | |||||||||||||||||||||||||||||||||
1584/2137 | RCM 1.13.0 (landing page) | Stijn Hawinkel | NA | |||||||||||||||||||||||||||||||||
1585/2137 | Rcpi 1.33.2 (landing page) | Nan Xiao | NA | |||||||||||||||||||||||||||||||||
1586/2137 | RCSL 1.5.0 (landing page) | Qinglin Mei | NA | |||||||||||||||||||||||||||||||||
1587/2137 | Rcwl 1.13.0 (landing page) | Qiang Hu | OK | |||||||||||||||||||||||||||||||||
1588/2137 | RcwlPipelines 1.13.3 (landing page) | Qiang Hu | OK | |||||||||||||||||||||||||||||||||
1589/2137 | RCX 1.1.0 (landing page) | Florian Auer | NA | |||||||||||||||||||||||||||||||||
1590/2137 | RCy3 2.17.1 (landing page) | Alex Pico | WARNINGS | |||||||||||||||||||||||||||||||||
1591/2137 | RCyjs 2.19.0 (landing page) | Paul Shannon | WARNINGS | |||||||||||||||||||||||||||||||||
1592/2137 | rDGIdb 1.23.0 (landing page) | Lars Bosshard | NA | |||||||||||||||||||||||||||||||||
1593/2137 | Rdisop 1.57.0 (landing page) | Steffen Neumann | WARNINGS | |||||||||||||||||||||||||||||||||
1594/2137 | RDRToolbox 1.47.0 (landing page) | Christoph Bartenhagen | ERROR | |||||||||||||||||||||||||||||||||
1595/2137 | ReactomeContentService4R 1.5.0 (landing page) | Chi-Lam Poon | NA | |||||||||||||||||||||||||||||||||
1596/2137 | ReactomeGraph4R 1.5.0 (landing page) | Chi-Lam Poon | NA | |||||||||||||||||||||||||||||||||
1597/2137 | ReactomeGSA 1.11.0 (landing page) | Johannes Griss | WARNINGS | |||||||||||||||||||||||||||||||||
1598/2137 | ReactomePA 1.41.0 (landing page) | Guangchuang Yu | NA | |||||||||||||||||||||||||||||||||
1599/2137 | ReadqPCR 1.43.0 (landing page) | James Perkins | ERROR | |||||||||||||||||||||||||||||||||
1600/2137 | REBET 1.15.0 (landing page) | Bill Wheeler | NA | |||||||||||||||||||||||||||||||||
1601/2137 | rebook 1.7.0 (landing page) | Aaron Lun | WARNINGS | |||||||||||||||||||||||||||||||||
1602/2137 | receptLoss 1.9.0 (landing page) | Daniel Pique | ERROR | |||||||||||||||||||||||||||||||||
1603/2137 | reconsi 1.9.1 (landing page) | Stijn Hawinkel | NA | |||||||||||||||||||||||||||||||||
1604/2137 | recount 1.23.0 (landing page) | Leonardo Collado-Torres | ERROR | |||||||||||||||||||||||||||||||||
1605/2137 | recount3 1.7.0 (landing page) | Leonardo Collado-Torres | NA | |||||||||||||||||||||||||||||||||
1606/2137 | recountmethylation 1.7.1 (landing page) | Sean K Maden | WARNINGS | |||||||||||||||||||||||||||||||||
1607/2137 | recoup 1.25.0 (landing page) | Panagiotis Moulos | NA | |||||||||||||||||||||||||||||||||
1608/2137 | RedeR 2.1.0 (landing page) | Mauro Castro | NA | |||||||||||||||||||||||||||||||||
1609/2137 | RedisParam 0.99.0 (landing page) | Martin Morgan | NA | |||||||||||||||||||||||||||||||||
1610/2137 | REDseq 1.43.0 (landing page) | Lihua Julie Zhu | NA | |||||||||||||||||||||||||||||||||
1611/2137 | RefPlus 1.67.0 (landing page) | Kai-Ming Chang | NA | |||||||||||||||||||||||||||||||||
1612/2137 | RegEnrich 1.7.0 (landing page) | Weiyang Tao | NA | |||||||||||||||||||||||||||||||||
1613/2137 | regioneR 1.29.1 (landing page) | Bernat Gel | WARNINGS | |||||||||||||||||||||||||||||||||
1614/2137 | regionReport 1.31.0 (landing page) | Leonardo Collado-Torres | NA | |||||||||||||||||||||||||||||||||
1615/2137 | regsplice 1.23.0 (landing page) | Lukas M. Weber | NA | |||||||||||||||||||||||||||||||||
1616/2137 | regutools 1.9.0 (landing page) | Joselyn Chavez | NA | |||||||||||||||||||||||||||||||||
1617/2137 | REMP 1.21.1 (landing page) | Yinan Zheng | NA | |||||||||||||||||||||||||||||||||
1618/2137 | Repitools 1.43.0 (landing page) | Mark Robinson | NA | |||||||||||||||||||||||||||||||||
1619/2137 | ReportingTools 2.37.0 (landing page) | Jason A. Hackney | NA | |||||||||||||||||||||||||||||||||
1620/2137 | RepViz 1.13.0 (landing page) | Thomas Faux, Asta Laiho | WARNINGS | |||||||||||||||||||||||||||||||||
1621/2137 | ReQON 1.43.0 (landing page) | Christopher Cabanski | ERROR | |||||||||||||||||||||||||||||||||
1622/2137 | ResidualMatrix 1.7.0 (landing page) | Aaron Lun | NA | |||||||||||||||||||||||||||||||||
1623/2137 | restfulSE 1.19.0 (landing page) | Shweta Gopaulakrishnan | NA | |||||||||||||||||||||||||||||||||
1624/2137 | rexposome 1.19.1 (landing page) | Xavier Escribà Montagut | WARNINGS | |||||||||||||||||||||||||||||||||
1625/2137 | rfaRm 1.9.0 (landing page) | Lara Selles Vidal | NA | |||||||||||||||||||||||||||||||||
1626/2137 | Rfastp 1.7.0 (landing page) | Thomas Carroll | NA | |||||||||||||||||||||||||||||||||
1627/2137 | rfPred 1.35.0 (landing page) | Hugo Varet | ERROR | |||||||||||||||||||||||||||||||||
1628/2137 | rGADEM 2.45.0 (landing page) | Arnaud Droit | ERROR | |||||||||||||||||||||||||||||||||
1629/2137 | rGenomeTracks 1.3.0 (landing page) | Omar Elashkar | NA | |||||||||||||||||||||||||||||||||
1630/2137 | RGMQL 1.17.0 (landing page) | Simone Pallotta | ERROR | |||||||||||||||||||||||||||||||||
1631/2137 | RgnTX 0.99.11 (landing page) | Yue Wang | NA | |||||||||||||||||||||||||||||||||
1632/2137 | rgoslin 1.1.0 (landing page) | Nils Hoffmann | NA | |||||||||||||||||||||||||||||||||
1633/2137 | RGraph2js 1.25.0 (landing page) | Stephane Cano | NA | |||||||||||||||||||||||||||||||||
1634/2137 | Rgraphviz 2.41.1 (landing page) | Kasper Daniel Hansen | WARNINGS | |||||||||||||||||||||||||||||||||
1635/2137 | rGREAT 1.99.5 (landing page) | Zuguang Gu | NA | |||||||||||||||||||||||||||||||||
1636/2137 | RGSEA 1.31.0 (landing page) | Chengcheng Ma | NA | |||||||||||||||||||||||||||||||||
1637/2137 | rgsepd 1.29.0 (landing page) | Karl Stamm | NA | |||||||||||||||||||||||||||||||||
1638/2137 | rhdf5 2.41.1 (landing page) | Mike Smith | NA | |||||||||||||||||||||||||||||||||
1639/2137 | rhdf5client 1.19.0 (landing page) | Vincent Carey | NA | |||||||||||||||||||||||||||||||||
1640/2137 | rhdf5filters 1.9.0 (landing page) | Mike Smith | NA | |||||||||||||||||||||||||||||||||
1641/2137 | Rhdf5lib 1.19.2 (landing page) | Mike Smith | NA | |||||||||||||||||||||||||||||||||
1642/2137 | Rhisat2 1.13.0 (landing page) | Charlotte Soneson | WARNINGS | |||||||||||||||||||||||||||||||||
1643/2137 | Rhtslib 1.99.5 (landing page) | Bioconductor Package Maintainer | NA | |||||||||||||||||||||||||||||||||
1644/2137 | RiboCrypt 1.3.0 (landing page) | Michal Swirski | NA | |||||||||||||||||||||||||||||||||
1645/2137 | RiboDiPA 1.5.1 (landing page) | Ji-Ping Wang | NA | |||||||||||||||||||||||||||||||||
1646/2137 | RiboProfiling 1.27.0 (landing page) | A. Popa | WARNINGS | |||||||||||||||||||||||||||||||||
1647/2137 | ribor 1.9.0 (landing page) | Michael Geng | NA | |||||||||||||||||||||||||||||||||
1648/2137 | riboSeqR 1.31.0 (landing page) | Thomas J. Hardcastle | NA | |||||||||||||||||||||||||||||||||
1649/2137 | ribosomeProfilingQC 1.9.0 (landing page) | Jianhong Ou | NA | |||||||||||||||||||||||||||||||||
1650/2137 | rifi 1.1.1 (landing page) | Jens Georg | ERROR | |||||||||||||||||||||||||||||||||
1651/2137 | RImmPort 1.25.0 (landing page) | Zicheng Hu | NA | |||||||||||||||||||||||||||||||||
1652/2137 | Ringo 1.61.0 (landing page) | J. Toedling | NA | |||||||||||||||||||||||||||||||||
1653/2137 | RIPAT 1.7.0 (landing page) | Min-Jeong Baek | NA | |||||||||||||||||||||||||||||||||
1654/2137 | Risa 1.39.0 (landing page) | Alejandra Gonzalez-Beltran | NA | |||||||||||||||||||||||||||||||||
1655/2137 | RITAN 1.21.0 (landing page) | Michael Zimmermann | WARNINGS | |||||||||||||||||||||||||||||||||
1656/2137 | RIVER 1.21.0 (landing page) | Yungil Kim | NA | |||||||||||||||||||||||||||||||||
1657/2137 | RJMCMCNucleosomes 1.21.0 (landing page) | Astrid Deschênes | NA | |||||||||||||||||||||||||||||||||
1658/2137 | RLassoCox 1.5.0 (landing page) | Wei Liu | NA | |||||||||||||||||||||||||||||||||
1659/2137 | RLMM 1.59.0 (landing page) | Nusrat Rabbee | NA | |||||||||||||||||||||||||||||||||
1660/2137 | RLSeq 1.3.0 (landing page) | Henry Miller | NA | |||||||||||||||||||||||||||||||||
1661/2137 | Rmagpie 1.53.0 (landing page) | Camille Maumet | NA | |||||||||||||||||||||||||||||||||
1662/2137 | RMassBank 3.7.1 (landing page) | RMassBank at Eawag | ERROR | |||||||||||||||||||||||||||||||||
1663/2137 | rmelting 1.13.0 (landing page) | J. Aravind | ERROR | |||||||||||||||||||||||||||||||||
1664/2137 | Rmmquant 1.15.0 (landing page) | Zytnicki Matthias | WARNINGS | |||||||||||||||||||||||||||||||||
1665/2137 | rmspc 1.3.0 (landing page) | Meriem Bahda | ERROR | |||||||||||||||||||||||||||||||||
1666/2137 | RNAAgeCalc 1.9.0 (landing page) | Xu Ren | NA | |||||||||||||||||||||||||||||||||
1667/2137 | RNAdecay 1.17.0 (landing page) | Reed Sorenson | NA | |||||||||||||||||||||||||||||||||
1668/2137 | rnaEditr 1.7.0 (landing page) | Lanyu Zhang | NA | |||||||||||||||||||||||||||||||||
1669/2137 | RNAinteract 1.45.0 (landing page) | Mike Smith | NA | |||||||||||||||||||||||||||||||||
1670/2137 | RNAmodR 1.11.0 (landing page) | Felix G.M. Ernst | NA | |||||||||||||||||||||||||||||||||
1671/2137 | RNAmodR.AlkAnilineSeq 1.11.0 (landing page) | Felix G.M. Ernst | NA | |||||||||||||||||||||||||||||||||
1672/2137 | RNAmodR.ML 1.11.0 (landing page) | Felix G.M. Ernst | NA | |||||||||||||||||||||||||||||||||
1673/2137 | RNAmodR.RiboMethSeq 1.11.0 (landing page) | Felix G.M. Ernst | NA | |||||||||||||||||||||||||||||||||
1674/2137 | RNAsense 1.11.0 (landing page) | Marcus Rosenblatt | WARNINGS | |||||||||||||||||||||||||||||||||
1675/2137 | rnaseqcomp 1.27.0 (landing page) | Mingxiang Teng | NA | |||||||||||||||||||||||||||||||||
1676/2137 | RNASeqPower 1.37.0 (landing page) | Terry M Therneau | NA | |||||||||||||||||||||||||||||||||
1677/2137 | RNASeqR 1.15.1 (landing page) | Kuan-Hao Chao | ERROR | |||||||||||||||||||||||||||||||||
1678/2137 | RnaSeqSampleSize 2.7.0 (landing page) | Shilin Zhao Developer | ERROR | |||||||||||||||||||||||||||||||||
1679/2137 | RnBeads 2.15.1 (landing page) | Fabian Mueller | NA | |||||||||||||||||||||||||||||||||
1680/2137 | Rnits 1.31.0 (landing page) | Dipen P. Sangurdekar | ERROR | |||||||||||||||||||||||||||||||||
1681/2137 | roar 1.33.0 (landing page) | Elena Grassi | NA | |||||||||||||||||||||||||||||||||
1682/2137 | ROC 1.73.0 (landing page) | Vince Carey | NA | |||||||||||||||||||||||||||||||||
1683/2137 | ROCpAI 1.9.0 (landing page) | Juan-Pedro Garcia | NA | |||||||||||||||||||||||||||||||||
1684/2137 | RolDE 1.1.0 (landing page) | Tommi Valikangas | NA | |||||||||||||||||||||||||||||||||
1685/2137 | rols 2.25.2 (landing page) | Laurent Gatto | ERROR | |||||||||||||||||||||||||||||||||
1686/2137 | ROntoTools 2.25.0 (landing page) | Calin Voichita | NA | |||||||||||||||||||||||||||||||||
1687/2137 | ropls 1.29.18 (landing page) | Etienne A. Thevenot | NA | |||||||||||||||||||||||||||||||||
1688/2137 | ROSeq 1.9.0 (landing page) | Krishan Gupta | WARNINGS | |||||||||||||||||||||||||||||||||
1689/2137 | ROTS 1.25.0 (landing page) | Tomi Suomi | NA | |||||||||||||||||||||||||||||||||
1690/2137 | RPA 1.53.0 (landing page) | Leo Lahti | NA | |||||||||||||||||||||||||||||||||
1691/2137 | rprimer 1.1.0 (landing page) | Sofia Persson | NA | |||||||||||||||||||||||||||||||||
1692/2137 | RProtoBufLib 2.9.0 (landing page) | Mike Jiang | WARNINGS | |||||||||||||||||||||||||||||||||
1693/2137 | rpx 2.5.0 (landing page) | Laurent Gatto | ERROR | |||||||||||||||||||||||||||||||||
1694/2137 | Rqc 1.31.0 (landing page) | Welliton Souza | NA | |||||||||||||||||||||||||||||||||
1695/2137 | rqt 1.23.0 (landing page) | Ilya Y. Zhbannikov | NA | |||||||||||||||||||||||||||||||||
1696/2137 | rqubic 1.43.0 (landing page) | Jitao David Zhang | WARNINGS | |||||||||||||||||||||||||||||||||
1697/2137 | rRDP 1.31.0 (landing page) | Michael Hahsler | NA | |||||||||||||||||||||||||||||||||
1698/2137 | RRHO 1.37.0 (landing page) | Jonathan Rosenblatt | NA | |||||||||||||||||||||||||||||||||
1699/2137 | rrvgo 1.9.1 (landing page) | Sergi Sayols | NA | |||||||||||||||||||||||||||||||||
1700/2137 | Rsamtools 2.13.3 (landing page) | Bioconductor Package Maintainer | WARNINGS | |||||||||||||||||||||||||||||||||
1701/2137 | rsbml 2.55.0 (landing page) | Michael Lawrence | WARNINGS | |||||||||||||||||||||||||||||||||
1702/2137 | rScudo 1.13.0 (landing page) | Matteo Ciciani | NA | |||||||||||||||||||||||||||||||||
1703/2137 | rsemmed 1.7.0 (landing page) | Leslie Myint | NA | |||||||||||||||||||||||||||||||||
1704/2137 | RSeqAn 1.17.0 (landing page) | August Guang | NA | |||||||||||||||||||||||||||||||||
1705/2137 | Rsubread 2.11.2 (landing page) | Wei Shi | ERROR | |||||||||||||||||||||||||||||||||
1706/2137 | RSVSim 1.37.0 (landing page) | Christoph Bartenhagen | NA | |||||||||||||||||||||||||||||||||
1707/2137 | rSWeeP 1.9.0 (landing page) | Danrley R. Fernandes | NA | |||||||||||||||||||||||||||||||||
1708/2137 | RTCA 1.49.0 (landing page) | Jitao David Zhang | WARNINGS | |||||||||||||||||||||||||||||||||
1709/2137 | RTCGA 1.27.0 (landing page) | Marcin Kosinski | NA | |||||||||||||||||||||||||||||||||
1710/2137 | RTCGAToolbox 2.27.0 (landing page) | Marcel Ramos | NA | |||||||||||||||||||||||||||||||||
1711/2137 | RTN 2.21.0 (landing page) | Mauro Castro | NA | |||||||||||||||||||||||||||||||||
1712/2137 | RTNduals 1.21.0 (landing page) | Mauro Castro | NA | |||||||||||||||||||||||||||||||||
1713/2137 | RTNsurvival 1.21.0 (landing page) | Clarice Groeneveld | NA | |||||||||||||||||||||||||||||||||
1714/2137 | RTopper 1.43.0 (landing page) | Luigi Marchionni | ERROR | |||||||||||||||||||||||||||||||||
1715/2137 | Rtpca 1.7.1 (landing page) | Nils Kurzawa | NA | |||||||||||||||||||||||||||||||||
1716/2137 | rtracklayer 1.57.0 (landing page) | Michael Lawrence | WARNINGS | |||||||||||||||||||||||||||||||||
1717/2137 | Rtreemix 1.59.0 (landing page) | Jasmina Bogojeska | NA | |||||||||||||||||||||||||||||||||
1718/2137 | rTRM 1.35.0 (landing page) | Diego Diez | NA | |||||||||||||||||||||||||||||||||
1719/2137 | rTRMui 1.35.0 (landing page) | Diego Diez | NA | |||||||||||||||||||||||||||||||||
1720/2137 | runibic 1.19.0 (landing page) | Patryk Orzechowski | NA | |||||||||||||||||||||||||||||||||
1721/2137 | RUVcorr 1.29.0 (landing page) | Saskia Freytag | WARNINGS | |||||||||||||||||||||||||||||||||
1722/2137 | RUVnormalize 1.31.0 (landing page) | Laurent Jacob | NA | |||||||||||||||||||||||||||||||||
1723/2137 | RUVSeq 1.31.0 (landing page) | Davide Risso | NA | |||||||||||||||||||||||||||||||||
1724/2137 | RVS 1.19.0 (landing page) | Thomas Sherman | ERROR | |||||||||||||||||||||||||||||||||
1725/2137 | rWikiPathways 1.17.0 (landing page) | Egon Willighagen | NA | |||||||||||||||||||||||||||||||||
|
| |||||||||||||||||||||||||||||||||||
Package | Maintainer | INSTALL/BUILD/CHECK | ||||||||||||||||||||||||||||||||||
1726/2137 | S4Vectors 0.35.1 (landing page) | Bioconductor Package Maintainer | WARNINGS | |||||||||||||||||||||||||||||||||
1727/2137 | safe 3.37.0 (landing page) | Ludwig Geistlinger | NA | |||||||||||||||||||||||||||||||||
1728/2137 | sagenhaft 1.67.0 (landing page) | Tim Beissbarth | WARNINGS | |||||||||||||||||||||||||||||||||
1729/2137 | SAIGEgds 1.11.0 (landing page) | Xiuwen Zheng | NA | |||||||||||||||||||||||||||||||||
1730/2137 | sampleClassifier 1.21.0 (landing page) | Khadija El Amrani | NA | |||||||||||||||||||||||||||||||||
1731/2137 | SamSPECTRAL 1.51.0 (landing page) | Habil | WARNINGS | |||||||||||||||||||||||||||||||||
1732/2137 | sangeranalyseR 1.7.1 (landing page) | Kuan-Hao Chao | WARNINGS | |||||||||||||||||||||||||||||||||
1733/2137 | sangerseqR 1.33.0 (landing page) | Jonathon Hill | NA | |||||||||||||||||||||||||||||||||
1734/2137 | SANTA 2.33.0 (landing page) | Alex Cornish | NA | |||||||||||||||||||||||||||||||||
1735/2137 | sarks 1.9.0 (landing page) | Dennis Wylie | NA | |||||||||||||||||||||||||||||||||
1736/2137 | satuRn 1.5.4 (landing page) | Jeroen Gilis | NA | |||||||||||||||||||||||||||||||||
1737/2137 | savR 1.35.0 (landing page) | R. Brent Calder | NA | |||||||||||||||||||||||||||||||||
1738/2137 | SBGNview 1.11.0 (landing page) | Weijun Luo | NA | |||||||||||||||||||||||||||||||||
1739/2137 | SBMLR 1.93.0 (landing page) | Tomas Radivoyevitch | NA | |||||||||||||||||||||||||||||||||
1740/2137 | SC3 1.25.0 (landing page) | Vladimir Kiselev | NA | |||||||||||||||||||||||||||||||||
1741/2137 | Scale4C 1.19.0 (landing page) | Carolin Walter | NA | |||||||||||||||||||||||||||||||||
1742/2137 | ScaledMatrix 1.5.0 (landing page) | Aaron Lun | NA | |||||||||||||||||||||||||||||||||
1743/2137 | scAlign 1.11.0 (landing page) | Nelson Johansen | ERROR | |||||||||||||||||||||||||||||||||
1744/2137 | SCAN.UPC 2.39.0 (landing page) | Stephen R. Piccolo | NA | |||||||||||||||||||||||||||||||||
1745/2137 | scanMiR 1.3.0 (landing page) | Fridolin Gross | NA | |||||||||||||||||||||||||||||||||
1746/2137 | scanMiRApp 1.3.0 (landing page) | Pierre-Luc Germain | WARNINGS | |||||||||||||||||||||||||||||||||
1747/2137 | scAnnotatR 1.3.0 (landing page) | Johannes Griss | WARNINGS | |||||||||||||||||||||||||||||||||
1748/2137 | SCANVIS 1.11.0 (landing page) | Phaedra Agius | ERROR | |||||||||||||||||||||||||||||||||
1749/2137 | SCArray 1.5.0 (landing page) | Xiuwen Zheng | NA | |||||||||||||||||||||||||||||||||
1750/2137 | SCATE 1.7.0 (landing page) | Wenpin Hou | NA | |||||||||||||||||||||||||||||||||
1751/2137 | scater 1.25.2 (landing page) | Alan O'Callaghan | NA | |||||||||||||||||||||||||||||||||
1752/2137 | scatterHatch 1.3.0 (landing page) | Atul Deshpande | NA | |||||||||||||||||||||||||||||||||
1753/2137 | scBFA 1.11.0 (landing page) | Ruoxin Li | NA | |||||||||||||||||||||||||||||||||
1754/2137 | SCBN 1.15.0 (landing page) | Yan Zhou | NA | |||||||||||||||||||||||||||||||||
1755/2137 | scCB2 1.7.0 (landing page) | Zijian Ni | NA | |||||||||||||||||||||||||||||||||
1756/2137 | scClassify 1.9.0 (landing page) | Yingxin Lin | NA | |||||||||||||||||||||||||||||||||
1757/2137 | sccomp 1.1.0 (landing page) | Stefano Mangiola | NA | |||||||||||||||||||||||||||||||||
1758/2137 | scDataviz 1.7.0 (landing page) | Kevin Blighe | NA | |||||||||||||||||||||||||||||||||
1759/2137 | scDblFinder 1.11.3 (landing page) | Pierre-Luc Germain | NA | |||||||||||||||||||||||||||||||||
1760/2137 | scDD 1.21.0 (landing page) | Keegan Korthauer | NA | |||||||||||||||||||||||||||||||||
1761/2137 | scDDboost 0.99.23 (landing page) | Xiuyu Ma | NA | |||||||||||||||||||||||||||||||||
1762/2137 | scde 2.25.0 (landing page) | Jean Fan | WARNINGS | |||||||||||||||||||||||||||||||||
1763/2137 | scds 1.13.0 (landing page) | Dennis Kostka | ERROR | |||||||||||||||||||||||||||||||||
1764/2137 | SCFA 1.7.2 (landing page) | Duc Tran | NA | |||||||||||||||||||||||||||||||||
1765/2137 | scFeatureFilter 1.17.0 (landing page) | Guillaume Devailly | NA | |||||||||||||||||||||||||||||||||
1766/2137 | scGPS 1.11.0 (landing page) | Quan Nguyen | NA | |||||||||||||||||||||||||||||||||
1767/2137 | schex 1.11.0 (landing page) | Saskia Freytag | NA | |||||||||||||||||||||||||||||||||
1768/2137 | scHOT 1.9.0 (landing page) | Shila Ghazanfar | NA | |||||||||||||||||||||||||||||||||
1769/2137 | scMAGeCK 1.9.2 (landing page) | Xiaolong Cheng | ERROR | |||||||||||||||||||||||||||||||||
1770/2137 | scmap 1.19.0 (landing page) | Vladimir Kiselev | NA | |||||||||||||||||||||||||||||||||
1771/2137 | scMerge 1.13.0 (landing page) | Yingxin Lin | NA | |||||||||||||||||||||||||||||||||
1772/2137 | scMET 0.99.11 (landing page) | Andreas C. Kapourani | NA | |||||||||||||||||||||||||||||||||
1773/2137 | scmeth 1.17.0 (landing page) | Divy Kangeyan | NA | |||||||||||||||||||||||||||||||||
1774/2137 | SCnorm 1.19.0 (landing page) | Rhonda Bacher | NA | |||||||||||||||||||||||||||||||||
1775/2137 | scone 1.21.0 (landing page) | Davide Risso | NA | |||||||||||||||||||||||||||||||||
1776/2137 | Sconify 1.17.0 (landing page) | Tyler J Burns | NA | |||||||||||||||||||||||||||||||||
1777/2137 | SCOPE 1.9.0 (landing page) | Rujin Wang | NA | |||||||||||||||||||||||||||||||||
1778/2137 | scoreInvHap 1.19.0 (landing page) | Dolors Pelegri-Siso | NA | |||||||||||||||||||||||||||||||||
1779/2137 | scp 1.7.0 (landing page) | Christophe Vanderaa | ERROR | |||||||||||||||||||||||||||||||||
1780/2137 | scPCA 1.11.0 (landing page) | Philippe Boileau | NA | |||||||||||||||||||||||||||||||||
1781/2137 | scPipe 1.19.2 (landing page) | Luyi Tian | ERROR | |||||||||||||||||||||||||||||||||
1782/2137 | scran 1.25.0 (landing page) | Aaron Lun | WARNINGS | |||||||||||||||||||||||||||||||||
1783/2137 | scReClassify 1.3.0 (landing page) | Taiyun Kim | NA | |||||||||||||||||||||||||||||||||
1784/2137 | scRecover 1.13.0 (landing page) | Zhun Miao | NA | |||||||||||||||||||||||||||||||||
1785/2137 | ScreenR 0.99.53 (landing page) | Emanuel Michele Soda | NA | |||||||||||||||||||||||||||||||||
1786/2137 | scRepertoire 1.7.0 (landing page) | Nick Borcherding | NA | |||||||||||||||||||||||||||||||||
1787/2137 | scruff 1.15.0 (landing page) | Zhe Wang | NA | |||||||||||||||||||||||||||||||||
1788/2137 | scry 1.9.0 (landing page) | Kelly Street | NA | |||||||||||||||||||||||||||||||||
1789/2137 | scShapes 1.3.0 (landing page) | Malindrie Dharmaratne | NA | |||||||||||||||||||||||||||||||||
1790/2137 | scTensor 2.7.0 (landing page) | Koki Tsuyuzaki | NA | |||||||||||||||||||||||||||||||||
1791/2137 | scTGIF 1.11.0 (landing page) | Koki Tsuyuzaki | NA | |||||||||||||||||||||||||||||||||
1792/2137 | scTHI 1.9.0 (landing page) | Michele Ceccarelli | NA | |||||||||||||||||||||||||||||||||
1793/2137 | scTreeViz 1.3.0 (landing page) | Jayaram Kancherla | NA | |||||||||||||||||||||||||||||||||
1794/2137 | scuttle 1.7.2 (landing page) | Aaron Lun | WARNINGS | |||||||||||||||||||||||||||||||||
1795/2137 | SDAMS 1.17.0 (landing page) | Yuntong Li | NA | |||||||||||||||||||||||||||||||||
1796/2137 | sechm 1.5.1 (landing page) | Pierre-Luc Germain | NA | |||||||||||||||||||||||||||||||||
1797/2137 | segmenter 1.3.0 (landing page) | Mahmoud Ahmed | NA | |||||||||||||||||||||||||||||||||
1798/2137 | segmentSeq 2.31.0 (landing page) | Thomas J. Hardcastle | NA | |||||||||||||||||||||||||||||||||
1799/2137 | selectKSigs 1.9.0 (landing page) | Zhi Yang | ERROR | |||||||||||||||||||||||||||||||||
1800/2137 | SELEX 1.29.0 (landing page) | Harmen J. Bussemaker | NA | |||||||||||||||||||||||||||||||||
1801/2137 | SemDist 1.31.0 (landing page) | Ian Gonzalez | NA | |||||||||||||||||||||||||||||||||
1802/2137 | semisup 1.21.0 (landing page) | Armin Rauschenberger | NA | |||||||||||||||||||||||||||||||||
1803/2137 | SEPIRA 1.17.0 (landing page) | Yuting Chen | NA | |||||||||||||||||||||||||||||||||
1804/2137 | seq2pathway 1.29.0 (landing page) | Arjun Kinstlick | WARNINGS | |||||||||||||||||||||||||||||||||
1805/2137 | seqArchR 1.1.0 (landing page) | Sarvesh Nikumbh | NA | |||||||||||||||||||||||||||||||||
1806/2137 | SeqArray 1.37.3 (landing page) | Xiuwen Zheng | NA | |||||||||||||||||||||||||||||||||
1807/2137 | seqbias 1.45.0 (landing page) | Daniel Jones | ERROR | |||||||||||||||||||||||||||||||||
1808/2137 | seqCAT 1.19.0 (landing page) | Erik Fasterius | NA | |||||||||||||||||||||||||||||||||
1809/2137 | seqCNA 1.43.0 (landing page) | David Mosen-Ansorena | NA | |||||||||||||||||||||||||||||||||
1810/2137 | seqcombo 1.19.0 (landing page) | Guangchuang Yu | NA | |||||||||||||||||||||||||||||||||
1811/2137 | SeqGate 1.7.0 (landing page) | Stéphanie Rialle | NA | |||||||||||||||||||||||||||||||||
1812/2137 | SeqGSEA 1.37.0 (landing page) | Xi Wang | NA | |||||||||||||||||||||||||||||||||
1813/2137 | seqLogo 1.63.0 (landing page) | Robert Ivanek | NA | |||||||||||||||||||||||||||||||||
1814/2137 | seqPattern 1.29.0 (landing page) | Vanja Haberle | NA | |||||||||||||||||||||||||||||||||
1815/2137 | seqsetvis 1.17.0 (landing page) | Joseph R Boyd | NA | |||||||||||||||||||||||||||||||||
1816/2137 | SeqSQC 1.19.0 (landing page) | Qian Liu | NA | |||||||||||||||||||||||||||||||||
1817/2137 | seqTools 1.31.0 (landing page) | Wolfgang Kaisers | WARNINGS | |||||||||||||||||||||||||||||||||
1818/2137 | SeqVarTools 1.35.1 (landing page) | Stephanie M. Gogarten | NA | |||||||||||||||||||||||||||||||||
1819/2137 | sesame 1.15.6 (landing page) | Wanding Zhou | NA | |||||||||||||||||||||||||||||||||
1820/2137 | SEtools 1.11.0 (landing page) | Pierre-Luc Germain | NA | |||||||||||||||||||||||||||||||||
1821/2137 | sevenbridges 1.27.0 (landing page) | Soner Koc | NA | |||||||||||||||||||||||||||||||||
1822/2137 | sevenC 1.17.0 (landing page) | Jonas Ibn-Salem | NA | |||||||||||||||||||||||||||||||||
1823/2137 | SGSeq 1.31.0 (landing page) | Leonard Goldstein | NA | |||||||||||||||||||||||||||||||||
1824/2137 | SharedObject 1.11.0 (landing page) | Jiefei Wang | NA | |||||||||||||||||||||||||||||||||
1825/2137 | shinyepico 1.5.2 (landing page) | Octavio Morante-Palacios | NA | |||||||||||||||||||||||||||||||||
1826/2137 | shinyMethyl 1.33.0 (landing page) | Jean-Philippe Fortin | NA | |||||||||||||||||||||||||||||||||
1827/2137 | ShortRead 1.55.0 (landing page) | Bioconductor Package Maintainer | WARNINGS | |||||||||||||||||||||||||||||||||
1828/2137 | SIAMCAT 2.1.0 (landing page) | Jakob Wirbel | NA | |||||||||||||||||||||||||||||||||
1829/2137 | SICtools 1.27.0 (landing page) | Xiaobin Xing | WARNINGS | |||||||||||||||||||||||||||||||||
1830/2137 | SigCheck 2.29.0 (landing page) | Rory Stark | NA | |||||||||||||||||||||||||||||||||
1831/2137 | sigFeature 1.15.0 (landing page) | Pijush Das Developer | &nbs |