Name | Last modified | Size | Description | |
---|---|---|---|---|
Parent Directory | - | |||
buildbin-summary.dcf | 13-Apr-2023 00:06 | 554 | ||
buildbin-out.txt | 13-Apr-2023 00:06 | 6.6K | ||
checksrc-summary.dcf | 13-Apr-2023 00:06 | 460 | ||
checksrc-out.txt | 13-Apr-2023 00:06 | 4.6K | ||
install-summary.dcf | 13-Apr-2023 00:06 | 277 | ||
install-out.txt | 13-Apr-2023 00:06 | 5.6K | ||
buildsrc-summary.dcf | 13-Apr-2023 00:06 | 440 | ||
buildsrc-out.txt | 13-Apr-2023 00:06 | 1.0K | ||