Name | Last modified | Size | Description | |
---|---|---|---|---|
Parent Directory | - | |||
checksrc-out.txt | 13-Apr-2023 00:05 | 3.9K | ||
buildbin-summary.dcf | 13-Apr-2023 00:05 | 497 | ||
buildbin-out.txt | 13-Apr-2023 00:05 | 1.6K | ||
checksrc-summary.dcf | 13-Apr-2023 00:05 | 434 | ||
buildsrc-summary.dcf | 13-Apr-2023 00:05 | 438 | ||
buildsrc-out.txt | 13-Apr-2023 00:05 | 856 | ||
install-summary.dcf | 13-Apr-2023 00:05 | 262 | ||
install-out.txt | 13-Apr-2023 00:05 | 1.5K | ||