Name | Last modified | Size | Description | |
---|---|---|---|---|
Parent Directory | - | |||
buildsrc-out.txt | 13-Apr-2023 00:05 | 824 | ||
buildsrc-summary.dcf | 13-Apr-2023 00:05 | 408 | ||
checksrc-out.txt | 13-Apr-2023 00:05 | 3.3K | ||
checksrc-summary.dcf | 13-Apr-2023 00:05 | 401 | ||
install-out.txt | 13-Apr-2023 00:05 | 1.4K | ||
install-summary.dcf | 13-Apr-2023 00:05 | 252 | ||