Index of /checkResults/3.16/bioc-LATEST/hermes/raw-results/kjohnson
Name
Last modified
Size
Description
Parent Directory
-
install-summary.dcf
12-Jul-2022 00:06
267
install-out.txt
12-Jul-2022 00:06
1.1K
buildsrc-summary.dcf
08-Jul-2022 00:11
339
buildsrc-out.txt
08-Jul-2022 00:11
903