Index of /checkResults/3.16/bioc-LATEST/gpart/raw-results/palomino4
Name
Last modified
Size
Description
Parent Directory
-
install-out.txt
13-Apr-2023 00:05
1.5K
install-summary.dcf
13-Apr-2023 00:05
267
buildsrc-out.txt
13-Apr-2023 00:05
1.9K
buildsrc-summary.dcf
13-Apr-2023 00:05
362