Index of /checkResults/3.16/bioc-LATEST/gpart/raw-results/nebbiolo2
Name
Last modified
Size
Description
Parent Directory
-
install-summary.dcf
13-Apr-2023 00:05
258
buildsrc-summary.dcf
13-Apr-2023 00:05
328
install-out.txt
13-Apr-2023 00:05
1.5K
buildsrc-out.txt
13-Apr-2023 00:05
1.7K