![]() | Name | Last modified | Size | Description |
---|---|---|---|---|
![]() | Parent Directory | - | ||
![]() | install-summary.dcf | 13-Apr-2023 00:05 | 256 | |
![]() | buildsrc-summary.dcf | 13-Apr-2023 00:05 | 412 | |
![]() | checksrc-summary.dcf | 13-Apr-2023 00:05 | 412 | |
![]() | buildsrc-out.txt | 13-Apr-2023 00:05 | 828 | |
![]() | checksrc-out.txt | 13-Apr-2023 00:05 | 30K | |
![]() | install-out.txt | 13-Apr-2023 00:05 | 1.2M | |