Index of /checkResults/3.16/bioc-LATEST/gmapR/raw-results/lconway
Name
Last modified
Size
Description
Parent Directory
-
install-summary.dcf
13-Apr-2023 00:06
269
install-out.txt
13-Apr-2023 00:06
261K
buildsrc-summary.dcf
13-Apr-2023 00:06
340
buildsrc-out.txt
13-Apr-2023 00:06
243K