Name | Last modified | Size | Description | |
---|---|---|---|---|
Parent Directory | - | |||
install-out.txt | 13-Apr-2023 00:05 | 961 | ||
install-summary.dcf | 13-Apr-2023 00:05 | 265 | ||
buildsrc-out.txt | 13-Apr-2023 00:05 | 818 | ||
buildsrc-summary.dcf | 13-Apr-2023 00:05 | 427 | ||
checksrc-out.txt | 13-Apr-2023 00:05 | 2.9K | ||
checksrc-summary.dcf | 13-Apr-2023 00:05 | 426 | ||