Name | Last modified | Size | Description | |
---|---|---|---|---|
Parent Directory | - | |||
install-summary.dcf | 13-Apr-2023 00:05 | 276 | ||
buildsrc-summary.dcf | 13-Apr-2023 00:05 | 467 | ||
checksrc-summary.dcf | 13-Apr-2023 00:05 | 469 | ||
buildbin-summary.dcf | 13-Apr-2023 00:05 | 539 | ||
buildsrc-out.txt | 13-Apr-2023 00:05 | 801 | ||
install-out.txt | 13-Apr-2023 00:05 | 3.1K | ||
buildbin-out.txt | 13-Apr-2023 00:05 | 3.2K | ||
checksrc-out.txt | 13-Apr-2023 00:05 | 7.8K | ||