Name | Last modified | Size | Description | |
---|---|---|---|---|
Parent Directory | - | |||
install-summary.dcf | 12-Jul-2022 00:06 | 271 | ||
install-out.txt | 12-Jul-2022 00:06 | 4.4K | ||
buildsrc-summary.dcf | 08-Jul-2022 00:11 | 430 | ||
buildsrc-out.txt | 08-Jul-2022 00:11 | 883 | ||
buildbin-summary.dcf | 08-Jul-2022 00:11 | 537 | ||
buildbin-out.txt | 08-Jul-2022 00:11 | 4.6K | ||