Name | Last modified | Size | Description | |
---|---|---|---|---|
Parent Directory | - | |||
checksrc-out.txt | 13-Apr-2023 00:06 | 9.7K | ||
buildbin-out.txt | 13-Apr-2023 00:06 | 1.1K | ||
buildsrc-out.txt | 13-Apr-2023 00:06 | 1.1K | ||
install-out.txt | 13-Apr-2023 00:06 | 1.0K | ||
buildbin-summary.dcf | 13-Apr-2023 00:06 | 512 | ||
checksrc-summary.dcf | 13-Apr-2023 00:06 | 438 | ||
buildsrc-summary.dcf | 13-Apr-2023 00:06 | 419 | ||
install-summary.dcf | 13-Apr-2023 00:06 | 263 | ||