Name | Last modified | Size | Description | |
---|---|---|---|---|
Parent Directory | - | |||
install-summary.dcf | 12-Jul-2022 00:06 | 281 | ||
install-out.txt | 12-Jul-2022 00:06 | 15K | ||
buildsrc-summary.dcf | 08-Jul-2022 00:11 | 444 | ||
buildsrc-out.txt | 08-Jul-2022 00:11 | 1.2K | ||
buildbin-summary.dcf | 08-Jul-2022 00:11 | 478 | ||
buildbin-out.txt | 08-Jul-2022 00:11 | 16K | ||