Name | Last modified | Size | Description | |
---|---|---|---|---|
Parent Directory | - | |||
install-summary.dcf | 12-Jul-2022 00:06 | 273 | ||
install-out.txt | 12-Jul-2022 00:06 | 2.6K | ||
buildsrc-summary.dcf | 08-Jul-2022 00:11 | 433 | ||
buildsrc-out.txt | 08-Jul-2022 00:11 | 854 | ||
buildbin-summary.dcf | 08-Jul-2022 00:11 | 459 | ||
buildbin-out.txt | 08-Jul-2022 00:11 | 3.0K | ||