Index of /checkResults/3.16/bioc-LATEST/fastreeR/raw-results/kjohnson
Name
Last modified
Size
Description
Parent Directory
-
install-summary.dcf
12-Jul-2022 00:06
272
install-out.txt
12-Jul-2022 00:06
1.7K
buildsrc-summary.dcf
08-Jul-2022 00:11
343
buildsrc-out.txt
08-Jul-2022 00:11
1.9K