Name | Last modified | Size | Description | |
---|---|---|---|---|
Parent Directory | - | |||
install-summary.dcf | 13-Apr-2023 00:05 | 265 | ||
install-out.txt | 13-Apr-2023 00:05 | 8.2K | ||
checksrc-summary.dcf | 13-Apr-2023 00:05 | 439 | ||
checksrc-out.txt | 13-Apr-2023 00:05 | 4.1K | ||
buildsrc-summary.dcf | 13-Apr-2023 00:05 | 445 | ||
buildsrc-out.txt | 13-Apr-2023 00:05 | 861 | ||
buildbin-summary.dcf | 13-Apr-2023 00:05 | 504 | ||
buildbin-out.txt | 13-Apr-2023 00:05 | 8.3K | ||