Name | Last modified | Size | Description | |
---|---|---|---|---|
Parent Directory | - | |||
buildsrc-summary.dcf | 13-Apr-2023 00:05 | 411 | ||
install-out.txt | 13-Apr-2023 00:05 | 6.9K | ||
install-summary.dcf | 13-Apr-2023 00:05 | 255 | ||
buildsrc-out.txt | 13-Apr-2023 00:05 | 828 | ||
checksrc-out.txt | 13-Apr-2023 00:05 | 3.7K | ||
checksrc-summary.dcf | 13-Apr-2023 00:05 | 405 | ||