Name | Last modified | Size | Description | |
---|---|---|---|---|
Parent Directory | - | |||
install-summary.dcf | 12-Jul-2022 00:06 | 266 | ||
install-out.txt | 12-Jul-2022 00:06 | 8.9K | ||
buildbin-summary.dcf | 08-Jul-2022 00:11 | 440 | ||
buildbin-out.txt | 08-Jul-2022 00:11 | 9.3K | ||
buildsrc-summary.dcf | 08-Jul-2022 00:11 | 422 | ||
buildsrc-out.txt | 08-Jul-2022 00:11 | 838 | ||