Name | Last modified | Size | Description | |
---|---|---|---|---|
Parent Directory | - | |||
buildbin-summary.dcf | 13-Apr-2023 00:05 | 497 | ||
buildbin-out.txt | 13-Apr-2023 00:05 | 2.2K | ||
checksrc-summary.dcf | 13-Apr-2023 00:05 | 441 | ||
checksrc-out.txt | 13-Apr-2023 00:05 | 5.8K | ||
buildsrc-summary.dcf | 13-Apr-2023 00:05 | 440 | ||
buildsrc-out.txt | 13-Apr-2023 00:05 | 856 | ||
install-summary.dcf | 13-Apr-2023 00:05 | 262 | ||
install-out.txt | 13-Apr-2023 00:05 | 2.0K | ||