![]() | Name | Last modified | Size | Description |
---|---|---|---|---|
![]() | Parent Directory | - | ||
![]() | install-summary.dcf | 13-Apr-2023 00:05 | 274 | |
![]() | checksrc-summary.dcf | 13-Apr-2023 00:05 | 459 | |
![]() | buildsrc-summary.dcf | 13-Apr-2023 00:05 | 465 | |
![]() | buildbin-summary.dcf | 13-Apr-2023 00:05 | 533 | |
![]() | buildsrc-out.txt | 13-Apr-2023 00:05 | 914 | |
![]() | install-out.txt | 13-Apr-2023 00:05 | 1.4K | |
![]() | buildbin-out.txt | 13-Apr-2023 00:05 | 1.6K | |
![]() | checksrc-out.txt | 13-Apr-2023 00:05 | 4.6K | |