![]() | Name | Last modified | Size | Description |
---|---|---|---|---|
![]() | Parent Directory | - | ||
![]() | install-summary.dcf | 13-Apr-2023 00:06 | 275 | |
![]() | buildsrc-summary.dcf | 13-Apr-2023 00:06 | 437 | |
![]() | checksrc-summary.dcf | 13-Apr-2023 00:06 | 456 | |
![]() | buildbin-summary.dcf | 13-Apr-2023 00:06 | 548 | |
![]() | buildsrc-out.txt | 13-Apr-2023 00:06 | 891 | |
![]() | install-out.txt | 13-Apr-2023 00:06 | 1.5K | |
![]() | buildbin-out.txt | 13-Apr-2023 00:06 | 1.7K | |
![]() | checksrc-out.txt | 13-Apr-2023 00:06 | 4.6K | |