Name | Last modified | Size | Description | |
---|---|---|---|---|
Parent Directory | - | |||
checksrc-summary.dcf | 13-Apr-2023 00:05 | 426 | ||
checksrc-out.txt | 13-Apr-2023 00:05 | 4.5K | ||
buildsrc-summary.dcf | 13-Apr-2023 00:05 | 426 | ||
buildsrc-out.txt | 13-Apr-2023 00:05 | 818 | ||
install-summary.dcf | 13-Apr-2023 00:05 | 265 | ||
install-out.txt | 13-Apr-2023 00:05 | 1.0K | ||