Name | Last modified | Size | Description | |
---|---|---|---|---|
Parent Directory | - | |||
install-summary.dcf | 13-Apr-2023 00:05 | 263 | ||
install-out.txt | 13-Apr-2023 00:05 | 958 | ||
checksrc-summary.dcf | 13-Apr-2023 00:05 | 422 | ||
checksrc-out.txt | 13-Apr-2023 00:05 | 4.6K | ||
buildsrc-summary.dcf | 13-Apr-2023 00:05 | 423 | ||
buildsrc-out.txt | 13-Apr-2023 00:05 | 854 | ||