Index of /checkResults/3.16/bioc-LATEST/ctgGEM/raw-results/nebbiolo2
Name
Last modified
Size
Description
Parent Directory
-
install-summary.dcf
13-Apr-2023 00:05
259
install-out.txt
13-Apr-2023 00:05
854
buildsrc-summary.dcf
13-Apr-2023 00:05
330
buildsrc-out.txt
13-Apr-2023 00:05
1.1K