Name | Last modified | Size | Description | |
---|---|---|---|---|
Parent Directory | - | |||
install-summary.dcf | 12-Jul-2022 00:06 | 260 | ||
install-out.txt | 12-Jul-2022 00:06 | 1.0K | ||
buildsrc-summary.dcf | 08-Jul-2022 00:10 | 414 | ||
buildsrc-out.txt | 08-Jul-2022 00:10 | 800 | ||
buildbin-summary.dcf | 08-Jul-2022 00:10 | 503 | ||
buildbin-out.txt | 08-Jul-2022 00:10 | 1.1K | ||