Index of /checkResults/3.16/bioc-LATEST/csaw/raw-results/kjohnson
Name
Last modified
Size
Description
Parent Directory
-
buildsrc-out.txt
08-Jul-2022 00:10
887
buildsrc-summary.dcf
08-Jul-2022 00:10
336
install-out.txt
12-Jul-2022 00:06
8.4K
install-summary.dcf
12-Jul-2022 00:06
264