Name | Last modified | Size | Description | |
---|---|---|---|---|
Parent Directory | - | |||
buildbin-summary.dcf | 13-Apr-2023 00:05 | 527 | ||
buildbin-out.txt | 13-Apr-2023 00:05 | 1.1K | ||
checksrc-summary.dcf | 13-Apr-2023 00:05 | 455 | ||
checksrc-out.txt | 13-Apr-2023 00:05 | 3.5K | ||
buildsrc-summary.dcf | 13-Apr-2023 00:05 | 461 | ||
buildsrc-out.txt | 13-Apr-2023 00:05 | 849 | ||
install-summary.dcf | 13-Apr-2023 00:05 | 272 | ||
install-out.txt | 13-Apr-2023 00:05 | 1.0K | ||