Name | Last modified | Size | Description | |
---|---|---|---|---|
Parent Directory | - | |||
install-summary.dcf | 13-Apr-2023 00:05 | 272 | ||
install-out.txt | 13-Apr-2023 00:05 | 2.6K | ||
checksrc-summary.dcf | 13-Apr-2023 00:05 | 461 | ||
checksrc-out.txt | 13-Apr-2023 00:05 | 5.9K | ||
buildsrc-summary.dcf | 13-Apr-2023 00:05 | 461 | ||
buildsrc-out.txt | 13-Apr-2023 00:05 | 1.2K | ||
buildbin-summary.dcf | 13-Apr-2023 00:05 | 527 | ||
buildbin-out.txt | 13-Apr-2023 00:05 | 2.7K | ||