Index of /checkResults/3.16/bioc-LATEST/contiBAIT/raw-results/kjohnson
Name
Last modified
Size
Description
Parent Directory
-
install-summary.dcf
12-Jul-2022 00:06
275
install-out.txt
12-Jul-2022 00:06
726
buildsrc-summary.dcf
08-Jul-2022 00:10
346
buildsrc-out.txt
08-Jul-2022 00:10
957