![]() | Name | Last modified | Size | Description |
---|---|---|---|---|
![]() | Parent Directory | - | ||
![]() | buildsrc-summary.dcf | 13-Apr-2023 00:05 | 429 | |
![]() | install-out.txt | 13-Apr-2023 00:05 | 956 | |
![]() | install-summary.dcf | 13-Apr-2023 00:05 | 267 | |
![]() | buildsrc-out.txt | 13-Apr-2023 00:05 | 862 | |
![]() | checksrc-out.txt | 13-Apr-2023 00:05 | 3.3K | |
![]() | checksrc-summary.dcf | 13-Apr-2023 00:05 | 430 | |