Name | Last modified | Size | Description | |
---|---|---|---|---|
Parent Directory | - | |||
buildsrc-summary.dcf | 13-Apr-2023 00:05 | 448 | ||
install-out.txt | 13-Apr-2023 00:05 | 2.7K | ||
install-summary.dcf | 13-Apr-2023 00:05 | 279 | ||
buildsrc-out.txt | 13-Apr-2023 00:05 | 939 | ||
checksrc-out.txt | 13-Apr-2023 00:05 | 4.5K | ||
checksrc-summary.dcf | 13-Apr-2023 00:05 | 461 | ||