Name | Last modified | Size | Description | |
---|---|---|---|---|
Parent Directory | - | |||
buildbin-out.txt | 13-Apr-2023 00:06 | 4.9K | ||
checksrc-out.txt | 13-Apr-2023 00:06 | 4.4K | ||
install-out.txt | 13-Apr-2023 00:06 | 3.4K | ||
buildsrc-out.txt | 13-Apr-2023 00:06 | 949 | ||
buildbin-summary.dcf | 13-Apr-2023 00:06 | 590 | ||
checksrc-summary.dcf | 13-Apr-2023 00:06 | 490 | ||
buildsrc-summary.dcf | 13-Apr-2023 00:06 | 457 | ||
install-summary.dcf | 13-Apr-2023 00:06 | 289 | ||