Name | Last modified | Size | Description | |
---|---|---|---|---|
Parent Directory | - | |||
checksrc-out.txt | 13-Apr-2023 00:06 | 4.2K | ||
buildbin-out.txt | 13-Apr-2023 00:06 | 1.2K | ||
install-out.txt | 13-Apr-2023 00:06 | 1.0K | ||
buildsrc-out.txt | 13-Apr-2023 00:06 | 920 | ||
buildbin-summary.dcf | 13-Apr-2023 00:06 | 548 | ||
checksrc-summary.dcf | 13-Apr-2023 00:06 | 456 | ||
buildsrc-summary.dcf | 13-Apr-2023 00:06 | 437 | ||
install-summary.dcf | 13-Apr-2023 00:06 | 275 | ||