Index of /checkResults/3.16/bioc-LATEST/cfDNAPro/raw-results/kjohnson
Name
Last modified
Size
Description
Parent Directory
-
buildsrc-out.txt
08-Jul-2022 00:10
897
buildsrc-summary.dcf
08-Jul-2022 00:10
343
install-out.txt
12-Jul-2022 00:06
698
install-summary.dcf
12-Jul-2022 00:06
272