Name | Last modified | Size | Description | |
---|---|---|---|---|
Parent Directory | - | |||
buildbin-out.txt | 13-Apr-2023 00:06 | 33K | ||
buildbin-summary.dcf | 13-Apr-2023 00:06 | 533 | ||
buildsrc-out.txt | 13-Apr-2023 00:06 | 889 | ||
buildsrc-summary.dcf | 13-Apr-2023 00:06 | 429 | ||
checksrc-out.txt | 13-Apr-2023 00:06 | 3.5K | ||
checksrc-summary.dcf | 13-Apr-2023 00:06 | 445 | ||
install-out.txt | 13-Apr-2023 00:06 | 31K | ||
install-summary.dcf | 13-Apr-2023 00:06 | 270 | ||