Index of /checkResults/3.16/bioc-LATEST/cbaf/raw-results/kjohnson
Name
Last modified
Size
Description
Parent Directory
-
buildsrc-out.txt
08-Jul-2022 00:10
903
buildsrc-summary.dcf
08-Jul-2022 00:10
336
install-out.txt
12-Jul-2022 00:06
691
install-summary.dcf
12-Jul-2022 00:06
265