Index of /checkResults/3.16/bioc-LATEST/casper/raw-results/lconway
Name
Last modified
Size
Description
Parent Directory
-
buildsrc-summary.dcf
13-Apr-2023 00:06
341
buildsrc-out.txt
13-Apr-2023 00:06
5.5K
install-summary.dcf
13-Apr-2023 00:06
267
install-out.txt
13-Apr-2023 00:06
7.7K