Index of /checkResults/3.16/bioc-LATEST/calm/raw-results
Name
Last modified
Size
Description
Parent Directory
-
info.dcf
30-Mar-2023 00:06
264
kjohnson/
12-Jul-2022 00:06
-
lconway/
30-Mar-2023 00:06
-
nebbiolo2/
30-Mar-2023 00:04
-
palomino4/
30-Mar-2023 00:05
-