Index of /checkResults/3.16/bioc-LATEST/cageminer/raw-results/kjohnson
Name
Last modified
Size
Description
Parent Directory
-
buildsrc-out.txt
12-Jul-2022 00:06
899
install-out.txt
12-Jul-2022 00:06
697
buildsrc-summary.dcf
12-Jul-2022 00:06
345
install-summary.dcf
12-Jul-2022 00:06
274