Index of /checkResults/3.16/bioc-LATEST/bumphunter/raw-results/kjohnson
Name
Last modified
Size
Description
Parent Directory
-
buildsrc-out.txt
12-Jul-2022 00:06
914
install-out.txt
12-Jul-2022 00:06
710
buildsrc-summary.dcf
12-Jul-2022 00:06
349
install-summary.dcf
12-Jul-2022 00:06
277