Index of /checkResults/3.16/bioc-LATEST/bsseq/raw-results/kjohnson
Name
Last modified
Size
Description
Parent Directory
-
install-out.txt
12-Jul-2022 00:06
688
install-summary.dcf
12-Jul-2022 00:06
267
buildsrc-out.txt
12-Jul-2022 00:06
897
buildsrc-summary.dcf
12-Jul-2022 00:06
339