Index of /checkResults/3.16/bioc-LATEST/bnbc/raw-results/kjohnson
Name
Last modified
Size
Description
Parent Directory
-
install-summary.dcf
12-Jul-2022 00:06
264
buildsrc-summary.dcf
12-Jul-2022 00:06
344
buildsrc-out.txt
12-Jul-2022 00:06
638
install-out.txt
12-Jul-2022 00:06
2.0K