Name | Last modified | Size | Description | |
---|---|---|---|---|
Parent Directory | - | |||
checksrc-out.txt | 13-Apr-2023 00:04 | 3.3K | ||
install-out.txt | 13-Apr-2023 00:04 | 952 | ||
buildsrc-out.txt | 13-Apr-2023 00:04 | 806 | ||
buildsrc-summary.dcf | 13-Apr-2023 00:04 | 418 | ||
checksrc-summary.dcf | 13-Apr-2023 00:04 | 414 | ||
install-summary.dcf | 13-Apr-2023 00:04 | 259 | ||