Name | Last modified | Size | Description | |
---|---|---|---|---|
Parent Directory | - | |||
buildbin-out.txt | 08-Jul-2022 00:10 | 3.8K | ||
install-out.txt | 12-Jul-2022 00:06 | 3.4K | ||
buildsrc-out.txt | 12-Jul-2022 00:06 | 853 | ||
buildbin-summary.dcf | 08-Jul-2022 00:10 | 457 | ||
buildsrc-summary.dcf | 12-Jul-2022 00:06 | 431 | ||
install-summary.dcf | 12-Jul-2022 00:06 | 272 | ||