Name | Last modified | Size | Description | |
---|---|---|---|---|
Parent Directory | - | |||
buildsrc-out.txt | 13-Apr-2023 00:04 | 815 | ||
buildsrc-summary.dcf | 13-Apr-2023 00:04 | 425 | ||
checksrc-out.txt | 13-Apr-2023 00:04 | 3.4K | ||
checksrc-summary.dcf | 13-Apr-2023 00:04 | 424 | ||
install-out.txt | 13-Apr-2023 00:04 | 1.0K | ||
install-summary.dcf | 13-Apr-2023 00:04 | 264 | ||