Name | Last modified | Size | Description | |
---|---|---|---|---|
Parent Directory | - | |||
buildsrc-summary.dcf | 12-Jul-2022 00:06 | 435 | ||
buildsrc-out.txt | 12-Jul-2022 00:06 | 825 | ||
install-summary.dcf | 12-Jul-2022 00:06 | 275 | ||
install-out.txt | 12-Jul-2022 00:06 | 1.0K | ||
buildbin-summary.dcf | 08-Jul-2022 00:10 | 545 | ||
buildbin-out.txt | 08-Jul-2022 00:10 | 1.2K | ||