![]() | Name | Last modified | Size | Description |
---|---|---|---|---|
![]() | Parent Directory | - | ||
![]() | install-out.txt | 13-Apr-2023 00:06 | 1.3K | |
![]() | install-summary.dcf | 13-Apr-2023 00:06 | 271 | |
![]() | buildsrc-out.txt | 13-Apr-2023 00:06 | 883 | |
![]() | buildsrc-summary.dcf | 13-Apr-2023 00:06 | 430 | |
![]() | checksrc-out.txt | 13-Apr-2023 00:06 | 6.7K | |
![]() | checksrc-summary.dcf | 13-Apr-2023 00:06 | 454 | |
![]() | buildbin-out.txt | 13-Apr-2023 00:06 | 1.5K | |
![]() | buildbin-summary.dcf | 13-Apr-2023 00:06 | 536 | |