Index of /checkResults/3.16/bioc-LATEST/benchdamic/raw-results/kjohnson
Name
Last modified
Size
Description
Parent Directory
-
buildsrc-summary.dcf
12-Jul-2022 00:06
347
buildsrc-out.txt
12-Jul-2022 00:06
902
install-summary.dcf
12-Jul-2022 00:06
276
install-out.txt
12-Jul-2022 00:06
699