Name | Last modified | Size | Description | |
---|---|---|---|---|
Parent Directory | - | |||
install-summary.dcf | 13-Apr-2023 00:05 | 273 | ||
install-out.txt | 13-Apr-2023 00:05 | 2.9K | ||
checksrc-summary.dcf | 13-Apr-2023 00:05 | 452 | ||
checksrc-out.txt | 13-Apr-2023 00:05 | 3.4K | ||
buildsrc-summary.dcf | 13-Apr-2023 00:05 | 434 | ||
buildsrc-out.txt | 13-Apr-2023 00:05 | 854 | ||
buildbin-summary.dcf | 13-Apr-2023 00:05 | 542 | ||
buildbin-out.txt | 13-Apr-2023 00:05 | 3.8K | ||